BEGIN:VCALENDAR
VERSION:2.0
PRODID:-//Martini Kirchengemeinde Bielefeld Gadderbaum - ECPv6.15.17.1//NONSGML v1.0//EN
CALSCALE:GREGORIAN
METHOD:PUBLISH
X-WR-CALNAME:Martini Kirchengemeinde Bielefeld Gadderbaum
X-ORIGINAL-URL:https://www.martini-gadderbaum.de
X-WR-CALDESC:Veranstaltungen für Martini Kirchengemeinde Bielefeld Gadderbaum
REFRESH-INTERVAL;VALUE=DURATION:PT1H
X-Robots-Tag:noindex
X-PUBLISHED-TTL:PT1H
BEGIN:VTIMEZONE
TZID:Europe/Berlin
BEGIN:DAYLIGHT
TZOFFSETFROM:+0100
TZOFFSETTO:+0200
TZNAME:CEST
DTSTART:20260329T010000
END:DAYLIGHT
BEGIN:STANDARD
TZOFFSETFROM:+0200
TZOFFSETTO:+0100
TZNAME:CET
DTSTART:20261025T010000
END:STANDARD
BEGIN:DAYLIGHT
TZOFFSETFROM:+0100
TZOFFSETTO:+0200
TZNAME:CEST
DTSTART:20270328T010000
END:DAYLIGHT
BEGIN:STANDARD
TZOFFSETFROM:+0200
TZOFFSETTO:+0100
TZNAME:CET
DTSTART:20271031T010000
END:STANDARD
BEGIN:DAYLIGHT
TZOFFSETFROM:+0100
TZOFFSETTO:+0200
TZNAME:CEST
DTSTART:20280326T010000
END:DAYLIGHT
BEGIN:STANDARD
TZOFFSETFROM:+0200
TZOFFSETTO:+0100
TZNAME:CET
DTSTART:20281029T010000
END:STANDARD
END:VTIMEZONE
BEGIN:VEVENT
DTSTART;TZID=Europe/Berlin:20270404T113000
DTEND;TZID=Europe/Berlin:20270404T123000
DTSTAMP:20260421T224527
CREATED:20251226T085821Z
LAST-MODIFIED:20251226T090012Z
UID:10002206-1806838200-1806841800@www.martini-gadderbaum.de
SUMMARY:Kirchcafé
DESCRIPTION:
URL:https://www.martini-gadderbaum.de/veranstaltung/kirchcafe-7/2027-04-04/
LOCATION:Stephanuskirche\, Pellaweg 4
END:VEVENT
BEGIN:VEVENT
DTSTART;TZID=Europe/Berlin:20270411T113000
DTEND;TZID=Europe/Berlin:20270411T123000
DTSTAMP:20260421T224527
CREATED:20251226T085821Z
LAST-MODIFIED:20251226T090012Z
UID:10002207-1807443000-1807446600@www.martini-gadderbaum.de
SUMMARY:Kirchcafé
DESCRIPTION:
URL:https://www.martini-gadderbaum.de/veranstaltung/kirchcafe-7/2027-04-11/
LOCATION:Stephanuskirche\, Pellaweg 4
END:VEVENT
BEGIN:VEVENT
DTSTART;TZID=Europe/Berlin:20270418T113000
DTEND;TZID=Europe/Berlin:20270418T123000
DTSTAMP:20260421T224527
CREATED:20251226T085821Z
LAST-MODIFIED:20251226T090012Z
UID:10002208-1808047800-1808051400@www.martini-gadderbaum.de
SUMMARY:Kirchcafé
DESCRIPTION:
URL:https://www.martini-gadderbaum.de/veranstaltung/kirchcafe-7/2027-04-18/
LOCATION:Stephanuskirche\, Pellaweg 4
END:VEVENT
BEGIN:VEVENT
DTSTART;TZID=Europe/Berlin:20270425T113000
DTEND;TZID=Europe/Berlin:20270425T123000
DTSTAMP:20260421T224527
CREATED:20251226T085821Z
LAST-MODIFIED:20251226T090012Z
UID:10002209-1808652600-1808656200@www.martini-gadderbaum.de
SUMMARY:Kirchcafé
DESCRIPTION:
URL:https://www.martini-gadderbaum.de/veranstaltung/kirchcafe-7/2027-04-25/
LOCATION:Stephanuskirche\, Pellaweg 4
END:VEVENT
BEGIN:VEVENT
DTSTART;TZID=Europe/Berlin:20270502T113000
DTEND;TZID=Europe/Berlin:20270502T123000
DTSTAMP:20260421T224527
CREATED:20251226T085821Z
LAST-MODIFIED:20251226T090012Z
UID:10002210-1809257400-1809261000@www.martini-gadderbaum.de
SUMMARY:Kirchcafé
DESCRIPTION:
URL:https://www.martini-gadderbaum.de/veranstaltung/kirchcafe-7/2027-05-02/
LOCATION:Stephanuskirche\, Pellaweg 4
END:VEVENT
BEGIN:VEVENT
DTSTART;TZID=Europe/Berlin:20270509T113000
DTEND;TZID=Europe/Berlin:20270509T123000
DTSTAMP:20260421T224527
CREATED:20251226T085821Z
LAST-MODIFIED:20251226T090012Z
UID:10002211-1809862200-1809865800@www.martini-gadderbaum.de
SUMMARY:Kirchcafé
DESCRIPTION:
URL:https://www.martini-gadderbaum.de/veranstaltung/kirchcafe-7/2027-05-09/
LOCATION:Stephanuskirche\, Pellaweg 4
END:VEVENT
BEGIN:VEVENT
DTSTART;TZID=Europe/Berlin:20270516T113000
DTEND;TZID=Europe/Berlin:20270516T123000
DTSTAMP:20260421T224527
CREATED:20251226T085821Z
LAST-MODIFIED:20251226T090012Z
UID:10002212-1810467000-1810470600@www.martini-gadderbaum.de
SUMMARY:Kirchcafé
DESCRIPTION:
URL:https://www.martini-gadderbaum.de/veranstaltung/kirchcafe-7/2027-05-16/
LOCATION:Stephanuskirche\, Pellaweg 4
END:VEVENT
BEGIN:VEVENT
DTSTART;TZID=Europe/Berlin:20270523T113000
DTEND;TZID=Europe/Berlin:20270523T123000
DTSTAMP:20260421T224527
CREATED:20251226T085821Z
LAST-MODIFIED:20251226T090012Z
UID:10002213-1811071800-1811075400@www.martini-gadderbaum.de
SUMMARY:Kirchcafé
DESCRIPTION:
URL:https://www.martini-gadderbaum.de/veranstaltung/kirchcafe-7/2027-05-23/
LOCATION:Stephanuskirche\, Pellaweg 4
END:VEVENT
BEGIN:VEVENT
DTSTART;TZID=Europe/Berlin:20270530T113000
DTEND;TZID=Europe/Berlin:20270530T123000
DTSTAMP:20260421T224527
CREATED:20251226T085821Z
LAST-MODIFIED:20251226T090012Z
UID:10002214-1811676600-1811680200@www.martini-gadderbaum.de
SUMMARY:Kirchcafé
DESCRIPTION:
URL:https://www.martini-gadderbaum.de/veranstaltung/kirchcafe-7/2027-05-30/
LOCATION:Stephanuskirche\, Pellaweg 4
END:VEVENT
BEGIN:VEVENT
DTSTART;TZID=Europe/Berlin:20270606T113000
DTEND;TZID=Europe/Berlin:20270606T123000
DTSTAMP:20260421T224527
CREATED:20251226T085821Z
LAST-MODIFIED:20251226T090012Z
UID:10002215-1812281400-1812285000@www.martini-gadderbaum.de
SUMMARY:Kirchcafé
DESCRIPTION:
URL:https://www.martini-gadderbaum.de/veranstaltung/kirchcafe-7/2027-06-06/
LOCATION:Stephanuskirche\, Pellaweg 4
END:VEVENT
BEGIN:VEVENT
DTSTART;TZID=Europe/Berlin:20270613T113000
DTEND;TZID=Europe/Berlin:20270613T123000
DTSTAMP:20260421T224527
CREATED:20251226T085821Z
LAST-MODIFIED:20251226T090012Z
UID:10002216-1812886200-1812889800@www.martini-gadderbaum.de
SUMMARY:Kirchcafé
DESCRIPTION:
URL:https://www.martini-gadderbaum.de/veranstaltung/kirchcafe-7/2027-06-13/
LOCATION:Stephanuskirche\, Pellaweg 4
END:VEVENT
BEGIN:VEVENT
DTSTART;TZID=Europe/Berlin:20270620T113000
DTEND;TZID=Europe/Berlin:20270620T123000
DTSTAMP:20260421T224527
CREATED:20251226T085821Z
LAST-MODIFIED:20251226T090012Z
UID:10002217-1813491000-1813494600@www.martini-gadderbaum.de
SUMMARY:Kirchcafé
DESCRIPTION:
URL:https://www.martini-gadderbaum.de/veranstaltung/kirchcafe-7/2027-06-20/
LOCATION:Stephanuskirche\, Pellaweg 4
END:VEVENT
BEGIN:VEVENT
DTSTART;TZID=Europe/Berlin:20270627T113000
DTEND;TZID=Europe/Berlin:20270627T123000
DTSTAMP:20260421T224527
CREATED:20251226T085821Z
LAST-MODIFIED:20251226T090012Z
UID:10002218-1814095800-1814099400@www.martini-gadderbaum.de
SUMMARY:Kirchcafé
DESCRIPTION:
URL:https://www.martini-gadderbaum.de/veranstaltung/kirchcafe-7/2027-06-27/
LOCATION:Stephanuskirche\, Pellaweg 4
END:VEVENT
BEGIN:VEVENT
DTSTART;TZID=Europe/Berlin:20270704T113000
DTEND;TZID=Europe/Berlin:20270704T123000
DTSTAMP:20260421T224527
CREATED:20251226T085821Z
LAST-MODIFIED:20251226T090012Z
UID:10002219-1814700600-1814704200@www.martini-gadderbaum.de
SUMMARY:Kirchcafé
DESCRIPTION:
URL:https://www.martini-gadderbaum.de/veranstaltung/kirchcafe-7/2027-07-04/
LOCATION:Stephanuskirche\, Pellaweg 4
END:VEVENT
BEGIN:VEVENT
DTSTART;TZID=Europe/Berlin:20270711T113000
DTEND;TZID=Europe/Berlin:20270711T123000
DTSTAMP:20260421T224527
CREATED:20251226T085821Z
LAST-MODIFIED:20251226T090012Z
UID:10002220-1815305400-1815309000@www.martini-gadderbaum.de
SUMMARY:Kirchcafé
DESCRIPTION:
URL:https://www.martini-gadderbaum.de/veranstaltung/kirchcafe-7/2027-07-11/
LOCATION:Stephanuskirche\, Pellaweg 4
END:VEVENT
BEGIN:VEVENT
DTSTART;TZID=Europe/Berlin:20270718T113000
DTEND;TZID=Europe/Berlin:20270718T123000
DTSTAMP:20260421T224527
CREATED:20251226T085821Z
LAST-MODIFIED:20251226T090012Z
UID:10002221-1815910200-1815913800@www.martini-gadderbaum.de
SUMMARY:Kirchcafé
DESCRIPTION:
URL:https://www.martini-gadderbaum.de/veranstaltung/kirchcafe-7/2027-07-18/
LOCATION:Stephanuskirche\, Pellaweg 4
END:VEVENT
BEGIN:VEVENT
DTSTART;TZID=Europe/Berlin:20270725T113000
DTEND;TZID=Europe/Berlin:20270725T123000
DTSTAMP:20260421T224527
CREATED:20251226T085821Z
LAST-MODIFIED:20251226T090012Z
UID:10002222-1816515000-1816518600@www.martini-gadderbaum.de
SUMMARY:Kirchcafé
DESCRIPTION:
URL:https://www.martini-gadderbaum.de/veranstaltung/kirchcafe-7/2027-07-25/
LOCATION:Stephanuskirche\, Pellaweg 4
END:VEVENT
BEGIN:VEVENT
DTSTART;TZID=Europe/Berlin:20270801T113000
DTEND;TZID=Europe/Berlin:20270801T123000
DTSTAMP:20260421T224527
CREATED:20251226T085821Z
LAST-MODIFIED:20251226T090012Z
UID:10002223-1817119800-1817123400@www.martini-gadderbaum.de
SUMMARY:Kirchcafé
DESCRIPTION:
URL:https://www.martini-gadderbaum.de/veranstaltung/kirchcafe-7/2027-08-01/
LOCATION:Stephanuskirche\, Pellaweg 4
END:VEVENT
BEGIN:VEVENT
DTSTART;TZID=Europe/Berlin:20270808T113000
DTEND;TZID=Europe/Berlin:20270808T123000
DTSTAMP:20260421T224527
CREATED:20251226T085821Z
LAST-MODIFIED:20251226T090012Z
UID:10002224-1817724600-1817728200@www.martini-gadderbaum.de
SUMMARY:Kirchcafé
DESCRIPTION:
URL:https://www.martini-gadderbaum.de/veranstaltung/kirchcafe-7/2027-08-08/
LOCATION:Stephanuskirche\, Pellaweg 4
END:VEVENT
BEGIN:VEVENT
DTSTART;TZID=Europe/Berlin:20270815T113000
DTEND;TZID=Europe/Berlin:20270815T123000
DTSTAMP:20260421T224527
CREATED:20251226T085821Z
LAST-MODIFIED:20251226T090012Z
UID:10002225-1818329400-1818333000@www.martini-gadderbaum.de
SUMMARY:Kirchcafé
DESCRIPTION:
URL:https://www.martini-gadderbaum.de/veranstaltung/kirchcafe-7/2027-08-15/
LOCATION:Stephanuskirche\, Pellaweg 4
END:VEVENT
BEGIN:VEVENT
DTSTART;TZID=Europe/Berlin:20270822T113000
DTEND;TZID=Europe/Berlin:20270822T123000
DTSTAMP:20260421T224527
CREATED:20251226T085821Z
LAST-MODIFIED:20251226T090012Z
UID:10002226-1818934200-1818937800@www.martini-gadderbaum.de
SUMMARY:Kirchcafé
DESCRIPTION:
URL:https://www.martini-gadderbaum.de/veranstaltung/kirchcafe-7/2027-08-22/
LOCATION:Stephanuskirche\, Pellaweg 4
END:VEVENT
BEGIN:VEVENT
DTSTART;TZID=Europe/Berlin:20270829T113000
DTEND;TZID=Europe/Berlin:20270829T123000
DTSTAMP:20260421T224527
CREATED:20251226T085821Z
LAST-MODIFIED:20251226T090012Z
UID:10002227-1819539000-1819542600@www.martini-gadderbaum.de
SUMMARY:Kirchcafé
DESCRIPTION:
URL:https://www.martini-gadderbaum.de/veranstaltung/kirchcafe-7/2027-08-29/
LOCATION:Stephanuskirche\, Pellaweg 4
END:VEVENT
BEGIN:VEVENT
DTSTART;TZID=Europe/Berlin:20270905T113000
DTEND;TZID=Europe/Berlin:20270905T123000
DTSTAMP:20260421T224527
CREATED:20251226T085821Z
LAST-MODIFIED:20251226T090012Z
UID:10002228-1820143800-1820147400@www.martini-gadderbaum.de
SUMMARY:Kirchcafé
DESCRIPTION:
URL:https://www.martini-gadderbaum.de/veranstaltung/kirchcafe-7/2027-09-05/
LOCATION:Stephanuskirche\, Pellaweg 4
END:VEVENT
BEGIN:VEVENT
DTSTART;TZID=Europe/Berlin:20270912T113000
DTEND;TZID=Europe/Berlin:20270912T123000
DTSTAMP:20260421T224527
CREATED:20251226T085821Z
LAST-MODIFIED:20251226T090012Z
UID:10002229-1820748600-1820752200@www.martini-gadderbaum.de
SUMMARY:Kirchcafé
DESCRIPTION:
URL:https://www.martini-gadderbaum.de/veranstaltung/kirchcafe-7/2027-09-12/
LOCATION:Stephanuskirche\, Pellaweg 4
END:VEVENT
BEGIN:VEVENT
DTSTART;TZID=Europe/Berlin:20270919T113000
DTEND;TZID=Europe/Berlin:20270919T123000
DTSTAMP:20260421T224527
CREATED:20251226T085821Z
LAST-MODIFIED:20251226T090012Z
UID:10002230-1821353400-1821357000@www.martini-gadderbaum.de
SUMMARY:Kirchcafé
DESCRIPTION:
URL:https://www.martini-gadderbaum.de/veranstaltung/kirchcafe-7/2027-09-19/
LOCATION:Stephanuskirche\, Pellaweg 4
END:VEVENT
BEGIN:VEVENT
DTSTART;TZID=Europe/Berlin:20270926T113000
DTEND;TZID=Europe/Berlin:20270926T123000
DTSTAMP:20260421T224527
CREATED:20251226T085821Z
LAST-MODIFIED:20251226T090012Z
UID:10002231-1821958200-1821961800@www.martini-gadderbaum.de
SUMMARY:Kirchcafé
DESCRIPTION:
URL:https://www.martini-gadderbaum.de/veranstaltung/kirchcafe-7/2027-09-26/
LOCATION:Stephanuskirche\, Pellaweg 4
END:VEVENT
BEGIN:VEVENT
DTSTART;TZID=Europe/Berlin:20271003T113000
DTEND;TZID=Europe/Berlin:20271003T123000
DTSTAMP:20260421T224527
CREATED:20251226T085821Z
LAST-MODIFIED:20251226T090012Z
UID:10002232-1822563000-1822566600@www.martini-gadderbaum.de
SUMMARY:Kirchcafé
DESCRIPTION:
URL:https://www.martini-gadderbaum.de/veranstaltung/kirchcafe-7/2027-10-03/
LOCATION:Stephanuskirche\, Pellaweg 4
END:VEVENT
BEGIN:VEVENT
DTSTART;TZID=Europe/Berlin:20271010T113000
DTEND;TZID=Europe/Berlin:20271010T123000
DTSTAMP:20260421T224527
CREATED:20251226T085821Z
LAST-MODIFIED:20251226T090012Z
UID:10002233-1823167800-1823171400@www.martini-gadderbaum.de
SUMMARY:Kirchcafé
DESCRIPTION:
URL:https://www.martini-gadderbaum.de/veranstaltung/kirchcafe-7/2027-10-10/
LOCATION:Stephanuskirche\, Pellaweg 4
END:VEVENT
BEGIN:VEVENT
DTSTART;TZID=Europe/Berlin:20271017T113000
DTEND;TZID=Europe/Berlin:20271017T123000
DTSTAMP:20260421T224527
CREATED:20251226T085821Z
LAST-MODIFIED:20251226T090012Z
UID:10002234-1823772600-1823776200@www.martini-gadderbaum.de
SUMMARY:Kirchcafé
DESCRIPTION:
URL:https://www.martini-gadderbaum.de/veranstaltung/kirchcafe-7/2027-10-17/
LOCATION:Stephanuskirche\, Pellaweg 4
END:VEVENT
BEGIN:VEVENT
DTSTART;TZID=Europe/Berlin:20271024T113000
DTEND;TZID=Europe/Berlin:20271024T123000
DTSTAMP:20260421T224527
CREATED:20251226T085821Z
LAST-MODIFIED:20251226T090012Z
UID:10002235-1824377400-1824381000@www.martini-gadderbaum.de
SUMMARY:Kirchcafé
DESCRIPTION:
URL:https://www.martini-gadderbaum.de/veranstaltung/kirchcafe-7/2027-10-24/
LOCATION:Stephanuskirche\, Pellaweg 4
END:VEVENT
END:VCALENDAR