BEGIN:VCALENDAR
VERSION:2.0
PRODID:-//Martini Kirchengemeinde Bielefeld Gadderbaum - ECPv6.15.17.1//NONSGML v1.0//EN
CALSCALE:GREGORIAN
METHOD:PUBLISH
X-WR-CALNAME:Martini Kirchengemeinde Bielefeld Gadderbaum
X-ORIGINAL-URL:https://www.martini-gadderbaum.de
X-WR-CALDESC:Veranstaltungen für Martini Kirchengemeinde Bielefeld Gadderbaum
REFRESH-INTERVAL;VALUE=DURATION:PT1H
X-Robots-Tag:noindex
X-PUBLISHED-TTL:PT1H
BEGIN:VTIMEZONE
TZID:Europe/Berlin
BEGIN:DAYLIGHT
TZOFFSETFROM:+0100
TZOFFSETTO:+0200
TZNAME:CEST
DTSTART:20250330T010000
END:DAYLIGHT
BEGIN:STANDARD
TZOFFSETFROM:+0200
TZOFFSETTO:+0100
TZNAME:CET
DTSTART:20251026T010000
END:STANDARD
BEGIN:DAYLIGHT
TZOFFSETFROM:+0100
TZOFFSETTO:+0200
TZNAME:CEST
DTSTART:20260329T010000
END:DAYLIGHT
BEGIN:STANDARD
TZOFFSETFROM:+0200
TZOFFSETTO:+0100
TZNAME:CET
DTSTART:20261025T010000
END:STANDARD
BEGIN:DAYLIGHT
TZOFFSETFROM:+0100
TZOFFSETTO:+0200
TZNAME:CEST
DTSTART:20270328T010000
END:DAYLIGHT
BEGIN:STANDARD
TZOFFSETFROM:+0200
TZOFFSETTO:+0100
TZNAME:CET
DTSTART:20271031T010000
END:STANDARD
END:VTIMEZONE
BEGIN:VEVENT
DTSTART;TZID=Europe/Berlin:20260315T103000
DTEND;TZID=Europe/Berlin:20260315T113000
DTSTAMP:20260421T145033
CREATED:20251229T091214Z
LAST-MODIFIED:20260224T145509Z
UID:10002100-1773570600-1773574200@www.martini-gadderbaum.de
SUMMARY:Gottesdienst mit Pfr. Thomas Gano mit Abendmahl
DESCRIPTION:
URL:https://www.martini-gadderbaum.de/veranstaltung/gottesdienst-66/
LOCATION:Stephanuskirche\, Pellaweg 4
END:VEVENT
BEGIN:VEVENT
DTSTART;TZID=Europe/Berlin:20260308T113000
DTEND;TZID=Europe/Berlin:20260308T123000
DTSTAMP:20260421T145033
CREATED:20251226T085821Z
LAST-MODIFIED:20251226T090012Z
UID:10002150-1772969400-1772973000@www.martini-gadderbaum.de
SUMMARY:Kirchcafé
DESCRIPTION:
URL:https://www.martini-gadderbaum.de/veranstaltung/kirchcafe-7/2026-03-08/
LOCATION:Stephanuskirche\, Pellaweg 4
END:VEVENT
BEGIN:VEVENT
DTSTART;TZID=Europe/Berlin:20260308T103000
DTEND;TZID=Europe/Berlin:20260308T113000
DTSTAMP:20260421T145033
CREATED:20251229T090847Z
LAST-MODIFIED:20251229T090849Z
UID:10002099-1772965800-1772969400@www.martini-gadderbaum.de
SUMMARY:Gottesdienst mit Sup i.R. Rolf Breitbarth (mit Taufen)
DESCRIPTION:
URL:https://www.martini-gadderbaum.de/veranstaltung/gottesdienst-65/
LOCATION:Stephanuskirche\, Pellaweg 4
END:VEVENT
BEGIN:VEVENT
DTSTART;TZID=Europe/Berlin:20260306T200000
DTEND;TZID=Europe/Berlin:20260306T220000
DTSTAMP:20260421T145033
CREATED:20260123T072351Z
LAST-MODIFIED:20260123T072352Z
UID:10002848-1772827200-1772834400@www.martini-gadderbaum.de
SUMMARY:Andy Weiss Live - Konzert
DESCRIPTION:
URL:https://www.martini-gadderbaum.de/veranstaltung/andy-weiss-live-konzert/
LOCATION:Stephanuskirche\, Pellaweg 4
END:VEVENT
BEGIN:VEVENT
DTSTART;TZID=Europe/Berlin:20260301T113000
DTEND;TZID=Europe/Berlin:20260301T123000
DTSTAMP:20260421T145033
CREATED:20251226T085821Z
LAST-MODIFIED:20251226T090012Z
UID:10002149-1772364600-1772368200@www.martini-gadderbaum.de
SUMMARY:Kirchcafé
DESCRIPTION:
URL:https://www.martini-gadderbaum.de/veranstaltung/kirchcafe-7/2026-03-01/
LOCATION:Stephanuskirche\, Pellaweg 4
END:VEVENT
BEGIN:VEVENT
DTSTART;TZID=Europe/Berlin:20260301T103000
DTEND;TZID=Europe/Berlin:20260301T113000
DTSTAMP:20260421T145033
CREATED:20251229T090200Z
LAST-MODIFIED:20260224T145420Z
UID:10002098-1772361000-1772364600@www.martini-gadderbaum.de
SUMMARY:Jubiläums-Gottesdienst mit Präses Dr. Adelheid Ruck-Schröder
DESCRIPTION:
URL:https://www.martini-gadderbaum.de/veranstaltung/gottesdienst-63/
LOCATION:Stephanuskirche\, Pellaweg 4
END:VEVENT
BEGIN:VEVENT
DTSTART;TZID=Europe/Berlin:20260222T113000
DTEND;TZID=Europe/Berlin:20260222T123000
DTSTAMP:20260421T145033
CREATED:20251226T085821Z
LAST-MODIFIED:20251226T090012Z
UID:10002148-1771759800-1771763400@www.martini-gadderbaum.de
SUMMARY:Kirchcafé
DESCRIPTION:
URL:https://www.martini-gadderbaum.de/veranstaltung/kirchcafe-7/2026-02-22/
LOCATION:Stephanuskirche\, Pellaweg 4
END:VEVENT
BEGIN:VEVENT
DTSTART;TZID=Europe/Berlin:20260222T103000
DTEND;TZID=Europe/Berlin:20260222T113000
DTSTAMP:20260421T145033
CREATED:20251229T090520Z
LAST-MODIFIED:20260112T092738Z
UID:10002097-1771756200-1771759800@www.martini-gadderbaum.de
SUMMARY:Gottesdienst mit Prädikantin Janina Förster\, Pastor Bernward Wolf und Team - Was bedeutet uns unser Glaube? Christliche und muslimische Blickwinkel
DESCRIPTION:
URL:https://www.martini-gadderbaum.de/veranstaltung/gottesdienst-64/
LOCATION:Stephanuskirche\, Pellaweg 4
END:VEVENT
BEGIN:VEVENT
DTSTART;TZID=Europe/Berlin:20260215T113000
DTEND;TZID=Europe/Berlin:20260215T123000
DTSTAMP:20260421T145033
CREATED:20251229T085724Z
LAST-MODIFIED:20251229T085725Z
UID:10002147-1771155000-1771158600@www.martini-gadderbaum.de
SUMMARY:Gemeindeversammlung mit Kirchcafé
DESCRIPTION:
URL:https://www.martini-gadderbaum.de/veranstaltung/kirchcafe-8/
LOCATION:Stephanuskirche\, Pellaweg 4
END:VEVENT
BEGIN:VEVENT
DTSTART;TZID=Europe/Berlin:20260215T103000
DTEND;TZID=Europe/Berlin:20260215T113000
DTSTAMP:20260421T145033
CREATED:20251229T085637Z
LAST-MODIFIED:20251229T085639Z
UID:10002096-1771151400-1771155000@www.martini-gadderbaum.de
SUMMARY:Gottesdienst mit Pfarrerin Susanne Stöcker (mit Taufe)
DESCRIPTION:
URL:https://www.martini-gadderbaum.de/veranstaltung/gottesdienst-62/
LOCATION:Stephanuskirche\, Pellaweg 4
END:VEVENT
BEGIN:VEVENT
DTSTART;TZID=Europe/Berlin:20260208T113000
DTEND;TZID=Europe/Berlin:20260208T123000
DTSTAMP:20260421T145033
CREATED:20251226T085821Z
LAST-MODIFIED:20251226T090012Z
UID:10002146-1770550200-1770553800@www.martini-gadderbaum.de
SUMMARY:Kirchcafé
DESCRIPTION:
URL:https://www.martini-gadderbaum.de/veranstaltung/kirchcafe-7/2026-02-08/
LOCATION:Stephanuskirche\, Pellaweg 4
END:VEVENT
BEGIN:VEVENT
DTSTART;TZID=Europe/Berlin:20260208T103000
DTEND;TZID=Europe/Berlin:20260208T113000
DTSTAMP:20260421T145033
CREATED:20251229T084200Z
LAST-MODIFIED:20251229T084203Z
UID:10002095-1770546600-1770550200@www.martini-gadderbaum.de
SUMMARY:Kein Gottesdienst in Martini!
DESCRIPTION:
URL:https://www.martini-gadderbaum.de/veranstaltung/gottesdienst-61/
LOCATION:Stephanuskirche\, Pellaweg 4
END:VEVENT
BEGIN:VEVENT
DTSTART;TZID=Europe/Berlin:20260201T113000
DTEND;TZID=Europe/Berlin:20260201T123000
DTSTAMP:20260421T145033
CREATED:20251226T085821Z
LAST-MODIFIED:20251226T090012Z
UID:10002145-1769945400-1769949000@www.martini-gadderbaum.de
SUMMARY:Kirchcafé
DESCRIPTION:
URL:https://www.martini-gadderbaum.de/veranstaltung/kirchcafe-7/2026-02-01/
LOCATION:Stephanuskirche\, Pellaweg 4
END:VEVENT
BEGIN:VEVENT
DTSTART;TZID=Europe/Berlin:20260201T103000
DTEND;TZID=Europe/Berlin:20260201T113000
DTSTAMP:20260421T145033
CREATED:20251229T082136Z
LAST-MODIFIED:20251229T082137Z
UID:10002094-1769941800-1769945400@www.martini-gadderbaum.de
SUMMARY:Gottesdienst mit Sup. i.R. Rolf Breitbarth (Abendmahl)
DESCRIPTION:
URL:https://www.martini-gadderbaum.de/veranstaltung/gottesdienst-60/
LOCATION:Stephanuskirche\, Pellaweg 4
END:VEVENT
BEGIN:VEVENT
DTSTART;TZID=Europe/Berlin:20260125T113000
DTEND;TZID=Europe/Berlin:20260125T123000
DTSTAMP:20260421T145033
CREATED:20251226T085821Z
LAST-MODIFIED:20251226T090012Z
UID:10002144-1769340600-1769344200@www.martini-gadderbaum.de
SUMMARY:Kirchcafé
DESCRIPTION:
URL:https://www.martini-gadderbaum.de/veranstaltung/kirchcafe-7/2026-01-25/
LOCATION:Stephanuskirche\, Pellaweg 4
END:VEVENT
BEGIN:VEVENT
DTSTART;TZID=Europe/Berlin:20260125T103000
DTEND;TZID=Europe/Berlin:20260125T113000
DTSTAMP:20260421T145033
CREATED:20251229T081939Z
LAST-MODIFIED:20251229T081941Z
UID:10002093-1769337000-1769340600@www.martini-gadderbaum.de
SUMMARY:Gottesdienst mit Pfr. Dr. Vicco von Bülow
DESCRIPTION:
URL:https://www.martini-gadderbaum.de/veranstaltung/gottesdienst-59/
LOCATION:Stephanuskirche\, Pellaweg 4
END:VEVENT
BEGIN:VEVENT
DTSTART;TZID=Europe/Berlin:20260118T113000
DTEND;TZID=Europe/Berlin:20260118T123000
DTSTAMP:20260421T145033
CREATED:20251226T085821Z
LAST-MODIFIED:20251226T090012Z
UID:10002143-1768735800-1768739400@www.martini-gadderbaum.de
SUMMARY:Kirchcafé
DESCRIPTION:
URL:https://www.martini-gadderbaum.de/veranstaltung/kirchcafe-7/2026-01-18/
LOCATION:Stephanuskirche\, Pellaweg 4
END:VEVENT
BEGIN:VEVENT
DTSTART;TZID=Europe/Berlin:20260118T103000
DTEND;TZID=Europe/Berlin:20260118T113000
DTSTAMP:20260421T145033
CREATED:20251229T081703Z
LAST-MODIFIED:20260112T092644Z
UID:10002092-1768732200-1768735800@www.martini-gadderbaum.de
SUMMARY:Gottesdienst mit Pfr. Thomas Gano
DESCRIPTION:
URL:https://www.martini-gadderbaum.de/veranstaltung/gottesdienst-58/
LOCATION:Stephanuskirche\, Pellaweg 4
END:VEVENT
BEGIN:VEVENT
DTSTART;TZID=Europe/Berlin:20260111T113000
DTEND;TZID=Europe/Berlin:20260111T123000
DTSTAMP:20260421T145033
CREATED:20251226T085821Z
LAST-MODIFIED:20251226T090012Z
UID:10002142-1768131000-1768134600@www.martini-gadderbaum.de
SUMMARY:Kirchcafé
DESCRIPTION:
URL:https://www.martini-gadderbaum.de/veranstaltung/kirchcafe-7/2026-01-11/
LOCATION:Stephanuskirche\, Pellaweg 4
END:VEVENT
BEGIN:VEVENT
DTSTART;TZID=Europe/Berlin:20260111T103000
DTEND;TZID=Europe/Berlin:20260111T113000
DTSTAMP:20260421T145033
CREATED:20251229T081445Z
LAST-MODIFIED:20251229T081454Z
UID:10002091-1768127400-1768131000@www.martini-gadderbaum.de
SUMMARY:Gottesdienst mit Pfarrerin Susanne Stöcker und Prädikantin Melanie Brinkmann - Tauferinnerung
DESCRIPTION:
URL:https://www.martini-gadderbaum.de/veranstaltung/gottesdienst-57/
LOCATION:Stephanuskirche\, Pellaweg 4
END:VEVENT
END:VCALENDAR