BEGIN:VCALENDAR
VERSION:2.0
PRODID:-//Martini Kirchengemeinde Bielefeld Gadderbaum - ECPv6.15.17.1//NONSGML v1.0//EN
CALSCALE:GREGORIAN
METHOD:PUBLISH
X-WR-CALNAME:Martini Kirchengemeinde Bielefeld Gadderbaum
X-ORIGINAL-URL:https://www.martini-gadderbaum.de
X-WR-CALDESC:Veranstaltungen für Martini Kirchengemeinde Bielefeld Gadderbaum
REFRESH-INTERVAL;VALUE=DURATION:PT1H
X-Robots-Tag:noindex
X-PUBLISHED-TTL:PT1H
BEGIN:VTIMEZONE
TZID:Europe/Berlin
BEGIN:DAYLIGHT
TZOFFSETFROM:+0100
TZOFFSETTO:+0200
TZNAME:CEST
DTSTART:20270328T010000
END:DAYLIGHT
BEGIN:STANDARD
TZOFFSETFROM:+0200
TZOFFSETTO:+0100
TZNAME:CET
DTSTART:20271031T010000
END:STANDARD
BEGIN:DAYLIGHT
TZOFFSETFROM:+0100
TZOFFSETTO:+0200
TZNAME:CEST
DTSTART:20280326T010000
END:DAYLIGHT
BEGIN:STANDARD
TZOFFSETFROM:+0200
TZOFFSETTO:+0100
TZNAME:CET
DTSTART:20281029T010000
END:STANDARD
BEGIN:DAYLIGHT
TZOFFSETFROM:+0100
TZOFFSETTO:+0200
TZNAME:CEST
DTSTART:20290325T010000
END:DAYLIGHT
BEGIN:STANDARD
TZOFFSETFROM:+0200
TZOFFSETTO:+0100
TZNAME:CET
DTSTART:20291028T010000
END:STANDARD
BEGIN:DAYLIGHT
TZOFFSETFROM:+0100
TZOFFSETTO:+0200
TZNAME:CEST
DTSTART:20300331T010000
END:DAYLIGHT
BEGIN:STANDARD
TZOFFSETFROM:+0200
TZOFFSETTO:+0100
TZNAME:CET
DTSTART:20301027T010000
END:STANDARD
END:VTIMEZONE
BEGIN:VEVENT
DTSTART;TZID=Europe/Berlin:20281112T113000
DTEND;TZID=Europe/Berlin:20281112T123000
DTSTAMP:20260422T090202
CREATED:20251226T085821Z
LAST-MODIFIED:20251226T090012Z
UID:10002290-1857641400-1857645000@www.martini-gadderbaum.de
SUMMARY:Kirchcafé
DESCRIPTION:
URL:https://www.martini-gadderbaum.de/veranstaltung/kirchcafe-7/2028-11-12/
LOCATION:Stephanuskirche\, Pellaweg 4
END:VEVENT
BEGIN:VEVENT
DTSTART;TZID=Europe/Berlin:20281119T113000
DTEND;TZID=Europe/Berlin:20281119T123000
DTSTAMP:20260422T090202
CREATED:20251226T085821Z
LAST-MODIFIED:20251226T090012Z
UID:10002291-1858246200-1858249800@www.martini-gadderbaum.de
SUMMARY:Kirchcafé
DESCRIPTION:
URL:https://www.martini-gadderbaum.de/veranstaltung/kirchcafe-7/2028-11-19/
LOCATION:Stephanuskirche\, Pellaweg 4
END:VEVENT
BEGIN:VEVENT
DTSTART;TZID=Europe/Berlin:20281126T113000
DTEND;TZID=Europe/Berlin:20281126T123000
DTSTAMP:20260422T090202
CREATED:20251226T085821Z
LAST-MODIFIED:20251226T090012Z
UID:10002292-1858851000-1858854600@www.martini-gadderbaum.de
SUMMARY:Kirchcafé
DESCRIPTION:
URL:https://www.martini-gadderbaum.de/veranstaltung/kirchcafe-7/2028-11-26/
LOCATION:Stephanuskirche\, Pellaweg 4
END:VEVENT
BEGIN:VEVENT
DTSTART;TZID=Europe/Berlin:20281203T113000
DTEND;TZID=Europe/Berlin:20281203T123000
DTSTAMP:20260422T090202
CREATED:20251226T085821Z
LAST-MODIFIED:20251226T090012Z
UID:10002293-1859455800-1859459400@www.martini-gadderbaum.de
SUMMARY:Kirchcafé
DESCRIPTION:
URL:https://www.martini-gadderbaum.de/veranstaltung/kirchcafe-7/2028-12-03/
LOCATION:Stephanuskirche\, Pellaweg 4
END:VEVENT
BEGIN:VEVENT
DTSTART;TZID=Europe/Berlin:20281210T113000
DTEND;TZID=Europe/Berlin:20281210T123000
DTSTAMP:20260422T090202
CREATED:20251226T085821Z
LAST-MODIFIED:20251226T090012Z
UID:10002294-1860060600-1860064200@www.martini-gadderbaum.de
SUMMARY:Kirchcafé
DESCRIPTION:
URL:https://www.martini-gadderbaum.de/veranstaltung/kirchcafe-7/2028-12-10/
LOCATION:Stephanuskirche\, Pellaweg 4
END:VEVENT
BEGIN:VEVENT
DTSTART;TZID=Europe/Berlin:20281217T113000
DTEND;TZID=Europe/Berlin:20281217T123000
DTSTAMP:20260422T090202
CREATED:20251226T085821Z
LAST-MODIFIED:20251226T090012Z
UID:10002295-1860665400-1860669000@www.martini-gadderbaum.de
SUMMARY:Kirchcafé
DESCRIPTION:
URL:https://www.martini-gadderbaum.de/veranstaltung/kirchcafe-7/2028-12-17/
LOCATION:Stephanuskirche\, Pellaweg 4
END:VEVENT
BEGIN:VEVENT
DTSTART;TZID=Europe/Berlin:20281224T113000
DTEND;TZID=Europe/Berlin:20281224T123000
DTSTAMP:20260422T090202
CREATED:20251226T085821Z
LAST-MODIFIED:20251226T090012Z
UID:10002296-1861270200-1861273800@www.martini-gadderbaum.de
SUMMARY:Kirchcafé
DESCRIPTION:
URL:https://www.martini-gadderbaum.de/veranstaltung/kirchcafe-7/2028-12-24/
LOCATION:Stephanuskirche\, Pellaweg 4
END:VEVENT
BEGIN:VEVENT
DTSTART;TZID=Europe/Berlin:20281231T113000
DTEND;TZID=Europe/Berlin:20281231T123000
DTSTAMP:20260422T090202
CREATED:20251226T085821Z
LAST-MODIFIED:20251226T090012Z
UID:10002297-1861875000-1861878600@www.martini-gadderbaum.de
SUMMARY:Kirchcafé
DESCRIPTION:
URL:https://www.martini-gadderbaum.de/veranstaltung/kirchcafe-7/2028-12-31/
LOCATION:Stephanuskirche\, Pellaweg 4
END:VEVENT
BEGIN:VEVENT
DTSTART;TZID=Europe/Berlin:20290107T113000
DTEND;TZID=Europe/Berlin:20290107T123000
DTSTAMP:20260422T090202
CREATED:20251226T085821Z
LAST-MODIFIED:20251226T090012Z
UID:10002298-1862479800-1862483400@www.martini-gadderbaum.de
SUMMARY:Kirchcafé
DESCRIPTION:
URL:https://www.martini-gadderbaum.de/veranstaltung/kirchcafe-7/2029-01-07/
LOCATION:Stephanuskirche\, Pellaweg 4
END:VEVENT
BEGIN:VEVENT
DTSTART;TZID=Europe/Berlin:20290114T113000
DTEND;TZID=Europe/Berlin:20290114T123000
DTSTAMP:20260422T090202
CREATED:20251226T085821Z
LAST-MODIFIED:20251226T090012Z
UID:10002299-1863084600-1863088200@www.martini-gadderbaum.de
SUMMARY:Kirchcafé
DESCRIPTION:
URL:https://www.martini-gadderbaum.de/veranstaltung/kirchcafe-7/2029-01-14/
LOCATION:Stephanuskirche\, Pellaweg 4
END:VEVENT
BEGIN:VEVENT
DTSTART;TZID=Europe/Berlin:20290121T113000
DTEND;TZID=Europe/Berlin:20290121T123000
DTSTAMP:20260422T090202
CREATED:20251226T085821Z
LAST-MODIFIED:20251226T090012Z
UID:10002300-1863689400-1863693000@www.martini-gadderbaum.de
SUMMARY:Kirchcafé
DESCRIPTION:
URL:https://www.martini-gadderbaum.de/veranstaltung/kirchcafe-7/2029-01-21/
LOCATION:Stephanuskirche\, Pellaweg 4
END:VEVENT
BEGIN:VEVENT
DTSTART;TZID=Europe/Berlin:20290128T113000
DTEND;TZID=Europe/Berlin:20290128T123000
DTSTAMP:20260422T090202
CREATED:20251226T085821Z
LAST-MODIFIED:20251226T090012Z
UID:10002301-1864294200-1864297800@www.martini-gadderbaum.de
SUMMARY:Kirchcafé
DESCRIPTION:
URL:https://www.martini-gadderbaum.de/veranstaltung/kirchcafe-7/2029-01-28/
LOCATION:Stephanuskirche\, Pellaweg 4
END:VEVENT
BEGIN:VEVENT
DTSTART;TZID=Europe/Berlin:20290204T113000
DTEND;TZID=Europe/Berlin:20290204T123000
DTSTAMP:20260422T090202
CREATED:20251226T085821Z
LAST-MODIFIED:20251226T090012Z
UID:10002302-1864899000-1864902600@www.martini-gadderbaum.de
SUMMARY:Kirchcafé
DESCRIPTION:
URL:https://www.martini-gadderbaum.de/veranstaltung/kirchcafe-7/2029-02-04/
LOCATION:Stephanuskirche\, Pellaweg 4
END:VEVENT
BEGIN:VEVENT
DTSTART;TZID=Europe/Berlin:20290211T113000
DTEND;TZID=Europe/Berlin:20290211T123000
DTSTAMP:20260422T090202
CREATED:20251226T085821Z
LAST-MODIFIED:20251226T090012Z
UID:10002303-1865503800-1865507400@www.martini-gadderbaum.de
SUMMARY:Kirchcafé
DESCRIPTION:
URL:https://www.martini-gadderbaum.de/veranstaltung/kirchcafe-7/2029-02-11/
LOCATION:Stephanuskirche\, Pellaweg 4
END:VEVENT
BEGIN:VEVENT
DTSTART;TZID=Europe/Berlin:20290218T113000
DTEND;TZID=Europe/Berlin:20290218T123000
DTSTAMP:20260422T090202
CREATED:20251226T085821Z
LAST-MODIFIED:20251226T090012Z
UID:10002304-1866108600-1866112200@www.martini-gadderbaum.de
SUMMARY:Kirchcafé
DESCRIPTION:
URL:https://www.martini-gadderbaum.de/veranstaltung/kirchcafe-7/2029-02-18/
LOCATION:Stephanuskirche\, Pellaweg 4
END:VEVENT
BEGIN:VEVENT
DTSTART;TZID=Europe/Berlin:20290225T113000
DTEND;TZID=Europe/Berlin:20290225T123000
DTSTAMP:20260422T090202
CREATED:20251226T085821Z
LAST-MODIFIED:20251226T090012Z
UID:10002305-1866713400-1866717000@www.martini-gadderbaum.de
SUMMARY:Kirchcafé
DESCRIPTION:
URL:https://www.martini-gadderbaum.de/veranstaltung/kirchcafe-7/2029-02-25/
LOCATION:Stephanuskirche\, Pellaweg 4
END:VEVENT
BEGIN:VEVENT
DTSTART;TZID=Europe/Berlin:20290304T113000
DTEND;TZID=Europe/Berlin:20290304T123000
DTSTAMP:20260422T090202
CREATED:20251226T085821Z
LAST-MODIFIED:20251226T090012Z
UID:10002306-1867318200-1867321800@www.martini-gadderbaum.de
SUMMARY:Kirchcafé
DESCRIPTION:
URL:https://www.martini-gadderbaum.de/veranstaltung/kirchcafe-7/2029-03-04/
LOCATION:Stephanuskirche\, Pellaweg 4
END:VEVENT
BEGIN:VEVENT
DTSTART;TZID=Europe/Berlin:20290311T113000
DTEND;TZID=Europe/Berlin:20290311T123000
DTSTAMP:20260422T090202
CREATED:20251226T085821Z
LAST-MODIFIED:20251226T090012Z
UID:10002307-1867923000-1867926600@www.martini-gadderbaum.de
SUMMARY:Kirchcafé
DESCRIPTION:
URL:https://www.martini-gadderbaum.de/veranstaltung/kirchcafe-7/2029-03-11/
LOCATION:Stephanuskirche\, Pellaweg 4
END:VEVENT
BEGIN:VEVENT
DTSTART;TZID=Europe/Berlin:20290318T113000
DTEND;TZID=Europe/Berlin:20290318T123000
DTSTAMP:20260422T090202
CREATED:20251226T085821Z
LAST-MODIFIED:20251226T090012Z
UID:10002308-1868527800-1868531400@www.martini-gadderbaum.de
SUMMARY:Kirchcafé
DESCRIPTION:
URL:https://www.martini-gadderbaum.de/veranstaltung/kirchcafe-7/2029-03-18/
LOCATION:Stephanuskirche\, Pellaweg 4
END:VEVENT
BEGIN:VEVENT
DTSTART;TZID=Europe/Berlin:20290325T113000
DTEND;TZID=Europe/Berlin:20290325T123000
DTSTAMP:20260422T090202
CREATED:20251226T085821Z
LAST-MODIFIED:20251226T090012Z
UID:10002309-1869132600-1869136200@www.martini-gadderbaum.de
SUMMARY:Kirchcafé
DESCRIPTION:
URL:https://www.martini-gadderbaum.de/veranstaltung/kirchcafe-7/2029-03-25/
LOCATION:Stephanuskirche\, Pellaweg 4
END:VEVENT
BEGIN:VEVENT
DTSTART;TZID=Europe/Berlin:20290401T113000
DTEND;TZID=Europe/Berlin:20290401T123000
DTSTAMP:20260422T090202
CREATED:20251226T085821Z
LAST-MODIFIED:20251226T090012Z
UID:10002310-1869737400-1869741000@www.martini-gadderbaum.de
SUMMARY:Kirchcafé
DESCRIPTION:
URL:https://www.martini-gadderbaum.de/veranstaltung/kirchcafe-7/2029-04-01/
LOCATION:Stephanuskirche\, Pellaweg 4
END:VEVENT
BEGIN:VEVENT
DTSTART;TZID=Europe/Berlin:20290408T113000
DTEND;TZID=Europe/Berlin:20290408T123000
DTSTAMP:20260422T090202
CREATED:20251226T085821Z
LAST-MODIFIED:20251226T090012Z
UID:10002311-1870342200-1870345800@www.martini-gadderbaum.de
SUMMARY:Kirchcafé
DESCRIPTION:
URL:https://www.martini-gadderbaum.de/veranstaltung/kirchcafe-7/2029-04-08/
LOCATION:Stephanuskirche\, Pellaweg 4
END:VEVENT
BEGIN:VEVENT
DTSTART;TZID=Europe/Berlin:20290415T113000
DTEND;TZID=Europe/Berlin:20290415T123000
DTSTAMP:20260422T090202
CREATED:20251226T085821Z
LAST-MODIFIED:20251226T090012Z
UID:10002312-1870947000-1870950600@www.martini-gadderbaum.de
SUMMARY:Kirchcafé
DESCRIPTION:
URL:https://www.martini-gadderbaum.de/veranstaltung/kirchcafe-7/2029-04-15/
LOCATION:Stephanuskirche\, Pellaweg 4
END:VEVENT
BEGIN:VEVENT
DTSTART;TZID=Europe/Berlin:20290422T113000
DTEND;TZID=Europe/Berlin:20290422T123000
DTSTAMP:20260422T090202
CREATED:20251226T085821Z
LAST-MODIFIED:20251226T090012Z
UID:10002313-1871551800-1871555400@www.martini-gadderbaum.de
SUMMARY:Kirchcafé
DESCRIPTION:
URL:https://www.martini-gadderbaum.de/veranstaltung/kirchcafe-7/2029-04-22/
LOCATION:Stephanuskirche\, Pellaweg 4
END:VEVENT
BEGIN:VEVENT
DTSTART;TZID=Europe/Berlin:20290429T113000
DTEND;TZID=Europe/Berlin:20290429T123000
DTSTAMP:20260422T090202
CREATED:20251226T085821Z
LAST-MODIFIED:20251226T090012Z
UID:10002314-1872156600-1872160200@www.martini-gadderbaum.de
SUMMARY:Kirchcafé
DESCRIPTION:
URL:https://www.martini-gadderbaum.de/veranstaltung/kirchcafe-7/2029-04-29/
LOCATION:Stephanuskirche\, Pellaweg 4
END:VEVENT
BEGIN:VEVENT
DTSTART;TZID=Europe/Berlin:20290506T113000
DTEND;TZID=Europe/Berlin:20290506T123000
DTSTAMP:20260422T090202
CREATED:20251226T085821Z
LAST-MODIFIED:20251226T090012Z
UID:10002315-1872761400-1872765000@www.martini-gadderbaum.de
SUMMARY:Kirchcafé
DESCRIPTION:
URL:https://www.martini-gadderbaum.de/veranstaltung/kirchcafe-7/2029-05-06/
LOCATION:Stephanuskirche\, Pellaweg 4
END:VEVENT
BEGIN:VEVENT
DTSTART;TZID=Europe/Berlin:20290513T113000
DTEND;TZID=Europe/Berlin:20290513T123000
DTSTAMP:20260422T090202
CREATED:20251226T085821Z
LAST-MODIFIED:20251226T090012Z
UID:10002316-1873366200-1873369800@www.martini-gadderbaum.de
SUMMARY:Kirchcafé
DESCRIPTION:
URL:https://www.martini-gadderbaum.de/veranstaltung/kirchcafe-7/2029-05-13/
LOCATION:Stephanuskirche\, Pellaweg 4
END:VEVENT
BEGIN:VEVENT
DTSTART;TZID=Europe/Berlin:20290520T113000
DTEND;TZID=Europe/Berlin:20290520T123000
DTSTAMP:20260422T090202
CREATED:20251226T085821Z
LAST-MODIFIED:20251226T090012Z
UID:10002317-1873971000-1873974600@www.martini-gadderbaum.de
SUMMARY:Kirchcafé
DESCRIPTION:
URL:https://www.martini-gadderbaum.de/veranstaltung/kirchcafe-7/2029-05-20/
LOCATION:Stephanuskirche\, Pellaweg 4
END:VEVENT
BEGIN:VEVENT
DTSTART;TZID=Europe/Berlin:20290527T113000
DTEND;TZID=Europe/Berlin:20290527T123000
DTSTAMP:20260422T090202
CREATED:20251226T085821Z
LAST-MODIFIED:20251226T090012Z
UID:10002318-1874575800-1874579400@www.martini-gadderbaum.de
SUMMARY:Kirchcafé
DESCRIPTION:
URL:https://www.martini-gadderbaum.de/veranstaltung/kirchcafe-7/2029-05-27/
LOCATION:Stephanuskirche\, Pellaweg 4
END:VEVENT
BEGIN:VEVENT
DTSTART;TZID=Europe/Berlin:20290603T113000
DTEND;TZID=Europe/Berlin:20290603T123000
DTSTAMP:20260422T090202
CREATED:20251226T085821Z
LAST-MODIFIED:20251226T090012Z
UID:10002319-1875180600-1875184200@www.martini-gadderbaum.de
SUMMARY:Kirchcafé
DESCRIPTION:
URL:https://www.martini-gadderbaum.de/veranstaltung/kirchcafe-7/2029-06-03/
LOCATION:Stephanuskirche\, Pellaweg 4
END:VEVENT
END:VCALENDAR