BEGIN:VCALENDAR
VERSION:2.0
PRODID:-//Martini Kirchengemeinde Bielefeld Gadderbaum - ECPv6.15.17.1//NONSGML v1.0//EN
CALSCALE:GREGORIAN
METHOD:PUBLISH
X-WR-CALNAME:Martini Kirchengemeinde Bielefeld Gadderbaum
X-ORIGINAL-URL:https://www.martini-gadderbaum.de
X-WR-CALDESC:Veranstaltungen für Martini Kirchengemeinde Bielefeld Gadderbaum
REFRESH-INTERVAL;VALUE=DURATION:PT1H
X-Robots-Tag:noindex
X-PUBLISHED-TTL:PT1H
BEGIN:VTIMEZONE
TZID:Europe/Berlin
BEGIN:DAYLIGHT
TZOFFSETFROM:+0100
TZOFFSETTO:+0200
TZNAME:CEST
DTSTART:20260329T010000
END:DAYLIGHT
BEGIN:STANDARD
TZOFFSETFROM:+0200
TZOFFSETTO:+0100
TZNAME:CET
DTSTART:20261025T010000
END:STANDARD
BEGIN:DAYLIGHT
TZOFFSETFROM:+0100
TZOFFSETTO:+0200
TZNAME:CEST
DTSTART:20270328T010000
END:DAYLIGHT
BEGIN:STANDARD
TZOFFSETFROM:+0200
TZOFFSETTO:+0100
TZNAME:CET
DTSTART:20271031T010000
END:STANDARD
BEGIN:DAYLIGHT
TZOFFSETFROM:+0100
TZOFFSETTO:+0200
TZNAME:CEST
DTSTART:20280326T010000
END:DAYLIGHT
BEGIN:STANDARD
TZOFFSETFROM:+0200
TZOFFSETTO:+0100
TZNAME:CET
DTSTART:20281029T010000
END:STANDARD
BEGIN:DAYLIGHT
TZOFFSETFROM:+0100
TZOFFSETTO:+0200
TZNAME:CEST
DTSTART:20290325T010000
END:DAYLIGHT
BEGIN:STANDARD
TZOFFSETFROM:+0200
TZOFFSETTO:+0100
TZNAME:CET
DTSTART:20291028T010000
END:STANDARD
END:VTIMEZONE
BEGIN:VEVENT
DTSTART;TZID=Europe/Berlin:20271212T113000
DTEND;TZID=Europe/Berlin:20271212T123000
DTSTAMP:20260422T030643
CREATED:20251226T085821Z
LAST-MODIFIED:20251226T090012Z
UID:10002242-1828611000-1828614600@www.martini-gadderbaum.de
SUMMARY:Kirchcafé
DESCRIPTION:
URL:https://www.martini-gadderbaum.de/veranstaltung/kirchcafe-7/2027-12-12/
LOCATION:Stephanuskirche\, Pellaweg 4
END:VEVENT
BEGIN:VEVENT
DTSTART;TZID=Europe/Berlin:20271219T113000
DTEND;TZID=Europe/Berlin:20271219T123000
DTSTAMP:20260422T030643
CREATED:20251226T085821Z
LAST-MODIFIED:20251226T090012Z
UID:10002243-1829215800-1829219400@www.martini-gadderbaum.de
SUMMARY:Kirchcafé
DESCRIPTION:
URL:https://www.martini-gadderbaum.de/veranstaltung/kirchcafe-7/2027-12-19/
LOCATION:Stephanuskirche\, Pellaweg 4
END:VEVENT
BEGIN:VEVENT
DTSTART;TZID=Europe/Berlin:20271226T113000
DTEND;TZID=Europe/Berlin:20271226T123000
DTSTAMP:20260422T030643
CREATED:20251226T085821Z
LAST-MODIFIED:20251226T090012Z
UID:10002244-1829820600-1829824200@www.martini-gadderbaum.de
SUMMARY:Kirchcafé
DESCRIPTION:
URL:https://www.martini-gadderbaum.de/veranstaltung/kirchcafe-7/2027-12-26/
LOCATION:Stephanuskirche\, Pellaweg 4
END:VEVENT
BEGIN:VEVENT
DTSTART;TZID=Europe/Berlin:20280102T113000
DTEND;TZID=Europe/Berlin:20280102T123000
DTSTAMP:20260422T030643
CREATED:20251226T085821Z
LAST-MODIFIED:20251226T090012Z
UID:10002245-1830425400-1830429000@www.martini-gadderbaum.de
SUMMARY:Kirchcafé
DESCRIPTION:
URL:https://www.martini-gadderbaum.de/veranstaltung/kirchcafe-7/2028-01-02/
LOCATION:Stephanuskirche\, Pellaweg 4
END:VEVENT
BEGIN:VEVENT
DTSTART;TZID=Europe/Berlin:20280109T113000
DTEND;TZID=Europe/Berlin:20280109T123000
DTSTAMP:20260422T030643
CREATED:20251226T085821Z
LAST-MODIFIED:20251226T090012Z
UID:10002246-1831030200-1831033800@www.martini-gadderbaum.de
SUMMARY:Kirchcafé
DESCRIPTION:
URL:https://www.martini-gadderbaum.de/veranstaltung/kirchcafe-7/2028-01-09/
LOCATION:Stephanuskirche\, Pellaweg 4
END:VEVENT
BEGIN:VEVENT
DTSTART;TZID=Europe/Berlin:20280116T113000
DTEND;TZID=Europe/Berlin:20280116T123000
DTSTAMP:20260422T030643
CREATED:20251226T085821Z
LAST-MODIFIED:20251226T090012Z
UID:10002247-1831635000-1831638600@www.martini-gadderbaum.de
SUMMARY:Kirchcafé
DESCRIPTION:
URL:https://www.martini-gadderbaum.de/veranstaltung/kirchcafe-7/2028-01-16/
LOCATION:Stephanuskirche\, Pellaweg 4
END:VEVENT
BEGIN:VEVENT
DTSTART;TZID=Europe/Berlin:20280123T113000
DTEND;TZID=Europe/Berlin:20280123T123000
DTSTAMP:20260422T030643
CREATED:20251226T085821Z
LAST-MODIFIED:20251226T090012Z
UID:10002248-1832239800-1832243400@www.martini-gadderbaum.de
SUMMARY:Kirchcafé
DESCRIPTION:
URL:https://www.martini-gadderbaum.de/veranstaltung/kirchcafe-7/2028-01-23/
LOCATION:Stephanuskirche\, Pellaweg 4
END:VEVENT
BEGIN:VEVENT
DTSTART;TZID=Europe/Berlin:20280130T113000
DTEND;TZID=Europe/Berlin:20280130T123000
DTSTAMP:20260422T030643
CREATED:20251226T085821Z
LAST-MODIFIED:20251226T090012Z
UID:10002249-1832844600-1832848200@www.martini-gadderbaum.de
SUMMARY:Kirchcafé
DESCRIPTION:
URL:https://www.martini-gadderbaum.de/veranstaltung/kirchcafe-7/2028-01-30/
LOCATION:Stephanuskirche\, Pellaweg 4
END:VEVENT
BEGIN:VEVENT
DTSTART;TZID=Europe/Berlin:20280206T113000
DTEND;TZID=Europe/Berlin:20280206T123000
DTSTAMP:20260422T030643
CREATED:20251226T085821Z
LAST-MODIFIED:20251226T090012Z
UID:10002250-1833449400-1833453000@www.martini-gadderbaum.de
SUMMARY:Kirchcafé
DESCRIPTION:
URL:https://www.martini-gadderbaum.de/veranstaltung/kirchcafe-7/2028-02-06/
LOCATION:Stephanuskirche\, Pellaweg 4
END:VEVENT
BEGIN:VEVENT
DTSTART;TZID=Europe/Berlin:20280213T113000
DTEND;TZID=Europe/Berlin:20280213T123000
DTSTAMP:20260422T030643
CREATED:20251226T085821Z
LAST-MODIFIED:20251226T090012Z
UID:10002251-1834054200-1834057800@www.martini-gadderbaum.de
SUMMARY:Kirchcafé
DESCRIPTION:
URL:https://www.martini-gadderbaum.de/veranstaltung/kirchcafe-7/2028-02-13/
LOCATION:Stephanuskirche\, Pellaweg 4
END:VEVENT
BEGIN:VEVENT
DTSTART;TZID=Europe/Berlin:20280220T113000
DTEND;TZID=Europe/Berlin:20280220T123000
DTSTAMP:20260422T030643
CREATED:20251226T085821Z
LAST-MODIFIED:20251226T090012Z
UID:10002252-1834659000-1834662600@www.martini-gadderbaum.de
SUMMARY:Kirchcafé
DESCRIPTION:
URL:https://www.martini-gadderbaum.de/veranstaltung/kirchcafe-7/2028-02-20/
LOCATION:Stephanuskirche\, Pellaweg 4
END:VEVENT
BEGIN:VEVENT
DTSTART;TZID=Europe/Berlin:20280227T113000
DTEND;TZID=Europe/Berlin:20280227T123000
DTSTAMP:20260422T030643
CREATED:20251226T085821Z
LAST-MODIFIED:20251226T090012Z
UID:10002253-1835263800-1835267400@www.martini-gadderbaum.de
SUMMARY:Kirchcafé
DESCRIPTION:
URL:https://www.martini-gadderbaum.de/veranstaltung/kirchcafe-7/2028-02-27/
LOCATION:Stephanuskirche\, Pellaweg 4
END:VEVENT
BEGIN:VEVENT
DTSTART;TZID=Europe/Berlin:20280305T113000
DTEND;TZID=Europe/Berlin:20280305T123000
DTSTAMP:20260422T030643
CREATED:20251226T085821Z
LAST-MODIFIED:20251226T090012Z
UID:10002254-1835868600-1835872200@www.martini-gadderbaum.de
SUMMARY:Kirchcafé
DESCRIPTION:
URL:https://www.martini-gadderbaum.de/veranstaltung/kirchcafe-7/2028-03-05/
LOCATION:Stephanuskirche\, Pellaweg 4
END:VEVENT
BEGIN:VEVENT
DTSTART;TZID=Europe/Berlin:20280312T113000
DTEND;TZID=Europe/Berlin:20280312T123000
DTSTAMP:20260422T030643
CREATED:20251226T085821Z
LAST-MODIFIED:20251226T090012Z
UID:10002255-1836473400-1836477000@www.martini-gadderbaum.de
SUMMARY:Kirchcafé
DESCRIPTION:
URL:https://www.martini-gadderbaum.de/veranstaltung/kirchcafe-7/2028-03-12/
LOCATION:Stephanuskirche\, Pellaweg 4
END:VEVENT
BEGIN:VEVENT
DTSTART;TZID=Europe/Berlin:20280319T113000
DTEND;TZID=Europe/Berlin:20280319T123000
DTSTAMP:20260422T030643
CREATED:20251226T085821Z
LAST-MODIFIED:20251226T090012Z
UID:10002256-1837078200-1837081800@www.martini-gadderbaum.de
SUMMARY:Kirchcafé
DESCRIPTION:
URL:https://www.martini-gadderbaum.de/veranstaltung/kirchcafe-7/2028-03-19/
LOCATION:Stephanuskirche\, Pellaweg 4
END:VEVENT
BEGIN:VEVENT
DTSTART;TZID=Europe/Berlin:20280326T113000
DTEND;TZID=Europe/Berlin:20280326T123000
DTSTAMP:20260422T030643
CREATED:20251226T085821Z
LAST-MODIFIED:20251226T090012Z
UID:10002257-1837683000-1837686600@www.martini-gadderbaum.de
SUMMARY:Kirchcafé
DESCRIPTION:
URL:https://www.martini-gadderbaum.de/veranstaltung/kirchcafe-7/2028-03-26/
LOCATION:Stephanuskirche\, Pellaweg 4
END:VEVENT
BEGIN:VEVENT
DTSTART;TZID=Europe/Berlin:20280402T113000
DTEND;TZID=Europe/Berlin:20280402T123000
DTSTAMP:20260422T030643
CREATED:20251226T085821Z
LAST-MODIFIED:20251226T090012Z
UID:10002258-1838287800-1838291400@www.martini-gadderbaum.de
SUMMARY:Kirchcafé
DESCRIPTION:
URL:https://www.martini-gadderbaum.de/veranstaltung/kirchcafe-7/2028-04-02/
LOCATION:Stephanuskirche\, Pellaweg 4
END:VEVENT
BEGIN:VEVENT
DTSTART;TZID=Europe/Berlin:20280409T113000
DTEND;TZID=Europe/Berlin:20280409T123000
DTSTAMP:20260422T030643
CREATED:20251226T085821Z
LAST-MODIFIED:20251226T090012Z
UID:10002259-1838892600-1838896200@www.martini-gadderbaum.de
SUMMARY:Kirchcafé
DESCRIPTION:
URL:https://www.martini-gadderbaum.de/veranstaltung/kirchcafe-7/2028-04-09/
LOCATION:Stephanuskirche\, Pellaweg 4
END:VEVENT
BEGIN:VEVENT
DTSTART;TZID=Europe/Berlin:20280416T113000
DTEND;TZID=Europe/Berlin:20280416T123000
DTSTAMP:20260422T030643
CREATED:20251226T085821Z
LAST-MODIFIED:20251226T090012Z
UID:10002260-1839497400-1839501000@www.martini-gadderbaum.de
SUMMARY:Kirchcafé
DESCRIPTION:
URL:https://www.martini-gadderbaum.de/veranstaltung/kirchcafe-7/2028-04-16/
LOCATION:Stephanuskirche\, Pellaweg 4
END:VEVENT
BEGIN:VEVENT
DTSTART;TZID=Europe/Berlin:20280423T113000
DTEND;TZID=Europe/Berlin:20280423T123000
DTSTAMP:20260422T030643
CREATED:20251226T085821Z
LAST-MODIFIED:20251226T090012Z
UID:10002261-1840102200-1840105800@www.martini-gadderbaum.de
SUMMARY:Kirchcafé
DESCRIPTION:
URL:https://www.martini-gadderbaum.de/veranstaltung/kirchcafe-7/2028-04-23/
LOCATION:Stephanuskirche\, Pellaweg 4
END:VEVENT
BEGIN:VEVENT
DTSTART;TZID=Europe/Berlin:20280430T113000
DTEND;TZID=Europe/Berlin:20280430T123000
DTSTAMP:20260422T030643
CREATED:20251226T085821Z
LAST-MODIFIED:20251226T090012Z
UID:10002262-1840707000-1840710600@www.martini-gadderbaum.de
SUMMARY:Kirchcafé
DESCRIPTION:
URL:https://www.martini-gadderbaum.de/veranstaltung/kirchcafe-7/2028-04-30/
LOCATION:Stephanuskirche\, Pellaweg 4
END:VEVENT
BEGIN:VEVENT
DTSTART;TZID=Europe/Berlin:20280507T113000
DTEND;TZID=Europe/Berlin:20280507T123000
DTSTAMP:20260422T030643
CREATED:20251226T085821Z
LAST-MODIFIED:20251226T090012Z
UID:10002263-1841311800-1841315400@www.martini-gadderbaum.de
SUMMARY:Kirchcafé
DESCRIPTION:
URL:https://www.martini-gadderbaum.de/veranstaltung/kirchcafe-7/2028-05-07/
LOCATION:Stephanuskirche\, Pellaweg 4
END:VEVENT
BEGIN:VEVENT
DTSTART;TZID=Europe/Berlin:20280514T113000
DTEND;TZID=Europe/Berlin:20280514T123000
DTSTAMP:20260422T030643
CREATED:20251226T085821Z
LAST-MODIFIED:20251226T090012Z
UID:10002264-1841916600-1841920200@www.martini-gadderbaum.de
SUMMARY:Kirchcafé
DESCRIPTION:
URL:https://www.martini-gadderbaum.de/veranstaltung/kirchcafe-7/2028-05-14/
LOCATION:Stephanuskirche\, Pellaweg 4
END:VEVENT
BEGIN:VEVENT
DTSTART;TZID=Europe/Berlin:20280521T113000
DTEND;TZID=Europe/Berlin:20280521T123000
DTSTAMP:20260422T030643
CREATED:20251226T085821Z
LAST-MODIFIED:20251226T090012Z
UID:10002265-1842521400-1842525000@www.martini-gadderbaum.de
SUMMARY:Kirchcafé
DESCRIPTION:
URL:https://www.martini-gadderbaum.de/veranstaltung/kirchcafe-7/2028-05-21/
LOCATION:Stephanuskirche\, Pellaweg 4
END:VEVENT
BEGIN:VEVENT
DTSTART;TZID=Europe/Berlin:20280528T113000
DTEND;TZID=Europe/Berlin:20280528T123000
DTSTAMP:20260422T030643
CREATED:20251226T085821Z
LAST-MODIFIED:20251226T090012Z
UID:10002266-1843126200-1843129800@www.martini-gadderbaum.de
SUMMARY:Kirchcafé
DESCRIPTION:
URL:https://www.martini-gadderbaum.de/veranstaltung/kirchcafe-7/2028-05-28/
LOCATION:Stephanuskirche\, Pellaweg 4
END:VEVENT
BEGIN:VEVENT
DTSTART;TZID=Europe/Berlin:20280604T113000
DTEND;TZID=Europe/Berlin:20280604T123000
DTSTAMP:20260422T030643
CREATED:20251226T085821Z
LAST-MODIFIED:20251226T090012Z
UID:10002267-1843731000-1843734600@www.martini-gadderbaum.de
SUMMARY:Kirchcafé
DESCRIPTION:
URL:https://www.martini-gadderbaum.de/veranstaltung/kirchcafe-7/2028-06-04/
LOCATION:Stephanuskirche\, Pellaweg 4
END:VEVENT
BEGIN:VEVENT
DTSTART;TZID=Europe/Berlin:20280611T113000
DTEND;TZID=Europe/Berlin:20280611T123000
DTSTAMP:20260422T030643
CREATED:20251226T085821Z
LAST-MODIFIED:20251226T090012Z
UID:10002268-1844335800-1844339400@www.martini-gadderbaum.de
SUMMARY:Kirchcafé
DESCRIPTION:
URL:https://www.martini-gadderbaum.de/veranstaltung/kirchcafe-7/2028-06-11/
LOCATION:Stephanuskirche\, Pellaweg 4
END:VEVENT
BEGIN:VEVENT
DTSTART;TZID=Europe/Berlin:20280618T113000
DTEND;TZID=Europe/Berlin:20280618T123000
DTSTAMP:20260422T030643
CREATED:20251226T085821Z
LAST-MODIFIED:20251226T090012Z
UID:10002269-1844940600-1844944200@www.martini-gadderbaum.de
SUMMARY:Kirchcafé
DESCRIPTION:
URL:https://www.martini-gadderbaum.de/veranstaltung/kirchcafe-7/2028-06-18/
LOCATION:Stephanuskirche\, Pellaweg 4
END:VEVENT
BEGIN:VEVENT
DTSTART;TZID=Europe/Berlin:20280625T113000
DTEND;TZID=Europe/Berlin:20280625T123000
DTSTAMP:20260422T030643
CREATED:20251226T085821Z
LAST-MODIFIED:20251226T090012Z
UID:10002270-1845545400-1845549000@www.martini-gadderbaum.de
SUMMARY:Kirchcafé
DESCRIPTION:
URL:https://www.martini-gadderbaum.de/veranstaltung/kirchcafe-7/2028-06-25/
LOCATION:Stephanuskirche\, Pellaweg 4
END:VEVENT
BEGIN:VEVENT
DTSTART;TZID=Europe/Berlin:20280702T113000
DTEND;TZID=Europe/Berlin:20280702T123000
DTSTAMP:20260422T030643
CREATED:20251226T085821Z
LAST-MODIFIED:20251226T090012Z
UID:10002271-1846150200-1846153800@www.martini-gadderbaum.de
SUMMARY:Kirchcafé
DESCRIPTION:
URL:https://www.martini-gadderbaum.de/veranstaltung/kirchcafe-7/2028-07-02/
LOCATION:Stephanuskirche\, Pellaweg 4
END:VEVENT
END:VCALENDAR