BEGIN:VCALENDAR
VERSION:2.0
PRODID:-//Martini Kirchengemeinde Bielefeld Gadderbaum - ECPv6.15.17.1//NONSGML v1.0//EN
CALSCALE:GREGORIAN
METHOD:PUBLISH
X-ORIGINAL-URL:https://www.martini-gadderbaum.de
X-WR-CALDESC:Veranstaltungen für Martini Kirchengemeinde Bielefeld Gadderbaum
REFRESH-INTERVAL;VALUE=DURATION:PT1H
X-Robots-Tag:noindex
X-PUBLISHED-TTL:PT1H
BEGIN:VTIMEZONE
TZID:Europe/Berlin
BEGIN:DAYLIGHT
TZOFFSETFROM:+0100
TZOFFSETTO:+0200
TZNAME:CEST
DTSTART:20290325T010000
END:DAYLIGHT
BEGIN:STANDARD
TZOFFSETFROM:+0200
TZOFFSETTO:+0100
TZNAME:CET
DTSTART:20291028T010000
END:STANDARD
BEGIN:DAYLIGHT
TZOFFSETFROM:+0100
TZOFFSETTO:+0200
TZNAME:CEST
DTSTART:20300331T010000
END:DAYLIGHT
BEGIN:STANDARD
TZOFFSETFROM:+0200
TZOFFSETTO:+0100
TZNAME:CET
DTSTART:20301027T010000
END:STANDARD
BEGIN:DAYLIGHT
TZOFFSETFROM:+0100
TZOFFSETTO:+0200
TZNAME:CEST
DTSTART:20310330T010000
END:DAYLIGHT
BEGIN:STANDARD
TZOFFSETFROM:+0200
TZOFFSETTO:+0100
TZNAME:CET
DTSTART:20311026T010000
END:STANDARD
END:VTIMEZONE
BEGIN:VEVENT
DTSTART;TZID=Europe/Berlin:20300407T113000
DTEND;TZID=Europe/Berlin:20300407T123000
DTSTAMP:20260424T123228
CREATED:20251226T085821Z
LAST-MODIFIED:20251226T090012Z
UID:10002363-1901791800-1901795400@www.martini-gadderbaum.de
SUMMARY:Kirchcafé
DESCRIPTION:
URL:https://www.martini-gadderbaum.de/veranstaltung/kirchcafe-7/2030-04-07/
LOCATION:Stephanuskirche\, Pellaweg 4
END:VEVENT
BEGIN:VEVENT
DTSTART;TZID=Europe/Berlin:20300411T093000
DTEND;TZID=Europe/Berlin:20300411T113000
DTSTAMP:20260424T123228
CREATED:20250721T071918Z
LAST-MODIFIED:20250721T072436Z
UID:10002047-1902130200-1902137400@www.martini-gadderbaum.de
SUMMARY:Martini-Frühstück
DESCRIPTION:
URL:https://www.martini-gadderbaum.de/veranstaltung/martini-fruehstueck-2/2030-04-11/
LOCATION:MEC
END:VEVENT
BEGIN:VEVENT
DTSTART;TZID=Europe/Berlin:20300411T093000
DTEND;TZID=Europe/Berlin:20300411T113000
DTSTAMP:20260424T123228
CREATED:20260325T083114Z
LAST-MODIFIED:20260325T083133Z
UID:10002913-1902130200-1902137400@www.martini-gadderbaum.de
SUMMARY:Martini-Frühstück
DESCRIPTION:
URL:https://www.martini-gadderbaum.de/veranstaltung/martini-fruehstueck-4/2030-04-11/
LOCATION:MEC
END:VEVENT
BEGIN:VEVENT
DTSTART;TZID=Europe/Berlin:20300414T113000
DTEND;TZID=Europe/Berlin:20300414T123000
DTSTAMP:20260424T123228
CREATED:20251226T085821Z
LAST-MODIFIED:20251226T090012Z
UID:10002364-1902396600-1902400200@www.martini-gadderbaum.de
SUMMARY:Kirchcafé
DESCRIPTION:
URL:https://www.martini-gadderbaum.de/veranstaltung/kirchcafe-7/2030-04-14/
LOCATION:Stephanuskirche\, Pellaweg 4
END:VEVENT
BEGIN:VEVENT
DTSTART;TZID=Europe/Berlin:20300421T113000
DTEND;TZID=Europe/Berlin:20300421T123000
DTSTAMP:20260424T123228
CREATED:20251226T085821Z
LAST-MODIFIED:20251226T090012Z
UID:10002365-1903001400-1903005000@www.martini-gadderbaum.de
SUMMARY:Kirchcafé
DESCRIPTION:
URL:https://www.martini-gadderbaum.de/veranstaltung/kirchcafe-7/2030-04-21/
LOCATION:Stephanuskirche\, Pellaweg 4
END:VEVENT
BEGIN:VEVENT
DTSTART;TZID=Europe/Berlin:20300428T113000
DTEND;TZID=Europe/Berlin:20300428T123000
DTSTAMP:20260424T123228
CREATED:20251226T085821Z
LAST-MODIFIED:20251226T090012Z
UID:10002366-1903606200-1903609800@www.martini-gadderbaum.de
SUMMARY:Kirchcafé
DESCRIPTION:
URL:https://www.martini-gadderbaum.de/veranstaltung/kirchcafe-7/2030-04-28/
LOCATION:Stephanuskirche\, Pellaweg 4
END:VEVENT
END:VCALENDAR