BEGIN:VCALENDAR
VERSION:2.0
PRODID:-//Martini Kirchengemeinde Bielefeld Gadderbaum - ECPv6.15.17.1//NONSGML v1.0//EN
CALSCALE:GREGORIAN
METHOD:PUBLISH
X-ORIGINAL-URL:https://www.martini-gadderbaum.de
X-WR-CALDESC:Veranstaltungen für Martini Kirchengemeinde Bielefeld Gadderbaum
REFRESH-INTERVAL;VALUE=DURATION:PT1H
X-Robots-Tag:noindex
X-PUBLISHED-TTL:PT1H
BEGIN:VTIMEZONE
TZID:Europe/Berlin
BEGIN:DAYLIGHT
TZOFFSETFROM:+0100
TZOFFSETTO:+0200
TZNAME:CEST
DTSTART:20290325T010000
END:DAYLIGHT
BEGIN:STANDARD
TZOFFSETFROM:+0200
TZOFFSETTO:+0100
TZNAME:CET
DTSTART:20291028T010000
END:STANDARD
BEGIN:DAYLIGHT
TZOFFSETFROM:+0100
TZOFFSETTO:+0200
TZNAME:CEST
DTSTART:20300331T010000
END:DAYLIGHT
BEGIN:STANDARD
TZOFFSETFROM:+0200
TZOFFSETTO:+0100
TZNAME:CET
DTSTART:20301027T010000
END:STANDARD
BEGIN:DAYLIGHT
TZOFFSETFROM:+0100
TZOFFSETTO:+0200
TZNAME:CEST
DTSTART:20310330T010000
END:DAYLIGHT
BEGIN:STANDARD
TZOFFSETFROM:+0200
TZOFFSETTO:+0100
TZNAME:CET
DTSTART:20311026T010000
END:STANDARD
END:VTIMEZONE
BEGIN:VEVENT
DTSTART;TZID=Europe/Berlin:20300303T113000
DTEND;TZID=Europe/Berlin:20300303T123000
DTSTAMP:20260424T111241
CREATED:20251226T085821Z
LAST-MODIFIED:20251226T090012Z
UID:10002358-1898767800-1898771400@www.martini-gadderbaum.de
SUMMARY:Kirchcafé
DESCRIPTION:
URL:https://www.martini-gadderbaum.de/veranstaltung/kirchcafe-7/2030-03-03/
LOCATION:Stephanuskirche\, Pellaweg 4
END:VEVENT
BEGIN:VEVENT
DTSTART;TZID=Europe/Berlin:20300310T113000
DTEND;TZID=Europe/Berlin:20300310T123000
DTSTAMP:20260424T111241
CREATED:20251226T085821Z
LAST-MODIFIED:20251226T090012Z
UID:10002359-1899372600-1899376200@www.martini-gadderbaum.de
SUMMARY:Kirchcafé
DESCRIPTION:
URL:https://www.martini-gadderbaum.de/veranstaltung/kirchcafe-7/2030-03-10/
LOCATION:Stephanuskirche\, Pellaweg 4
END:VEVENT
BEGIN:VEVENT
DTSTART;TZID=Europe/Berlin:20300314T093000
DTEND;TZID=Europe/Berlin:20300314T113000
DTSTAMP:20260424T111241
CREATED:20250721T071918Z
LAST-MODIFIED:20250721T072436Z
UID:10002046-1899711000-1899718200@www.martini-gadderbaum.de
SUMMARY:Martini-Frühstück
DESCRIPTION:
URL:https://www.martini-gadderbaum.de/veranstaltung/martini-fruehstueck-2/2030-03-14/
LOCATION:MEC
END:VEVENT
BEGIN:VEVENT
DTSTART;TZID=Europe/Berlin:20300314T093000
DTEND;TZID=Europe/Berlin:20300314T113000
DTSTAMP:20260424T111241
CREATED:20260325T083114Z
LAST-MODIFIED:20260325T083133Z
UID:10002912-1899711000-1899718200@www.martini-gadderbaum.de
SUMMARY:Martini-Frühstück
DESCRIPTION:
URL:https://www.martini-gadderbaum.de/veranstaltung/martini-fruehstueck-4/2030-03-14/
LOCATION:MEC
END:VEVENT
BEGIN:VEVENT
DTSTART;TZID=Europe/Berlin:20300317T113000
DTEND;TZID=Europe/Berlin:20300317T123000
DTSTAMP:20260424T111241
CREATED:20251226T085821Z
LAST-MODIFIED:20251226T090012Z
UID:10002360-1899977400-1899981000@www.martini-gadderbaum.de
SUMMARY:Kirchcafé
DESCRIPTION:
URL:https://www.martini-gadderbaum.de/veranstaltung/kirchcafe-7/2030-03-17/
LOCATION:Stephanuskirche\, Pellaweg 4
END:VEVENT
BEGIN:VEVENT
DTSTART;TZID=Europe/Berlin:20300324T113000
DTEND;TZID=Europe/Berlin:20300324T123000
DTSTAMP:20260424T111241
CREATED:20251226T085821Z
LAST-MODIFIED:20251226T090012Z
UID:10002361-1900582200-1900585800@www.martini-gadderbaum.de
SUMMARY:Kirchcafé
DESCRIPTION:
URL:https://www.martini-gadderbaum.de/veranstaltung/kirchcafe-7/2030-03-24/
LOCATION:Stephanuskirche\, Pellaweg 4
END:VEVENT
BEGIN:VEVENT
DTSTART;TZID=Europe/Berlin:20300331T113000
DTEND;TZID=Europe/Berlin:20300331T123000
DTSTAMP:20260424T111241
CREATED:20251226T085821Z
LAST-MODIFIED:20251226T090012Z
UID:10002362-1901187000-1901190600@www.martini-gadderbaum.de
SUMMARY:Kirchcafé
DESCRIPTION:
URL:https://www.martini-gadderbaum.de/veranstaltung/kirchcafe-7/2030-03-31/
LOCATION:Stephanuskirche\, Pellaweg 4
END:VEVENT
END:VCALENDAR