BEGIN:VCALENDAR
VERSION:2.0
PRODID:-//Martini Kirchengemeinde Bielefeld Gadderbaum - ECPv6.15.17.1//NONSGML v1.0//EN
CALSCALE:GREGORIAN
METHOD:PUBLISH
X-WR-CALNAME:Martini Kirchengemeinde Bielefeld Gadderbaum
X-ORIGINAL-URL:https://www.martini-gadderbaum.de
X-WR-CALDESC:Veranstaltungen für Martini Kirchengemeinde Bielefeld Gadderbaum
REFRESH-INTERVAL;VALUE=DURATION:PT1H
X-Robots-Tag:noindex
X-PUBLISHED-TTL:PT1H
BEGIN:VTIMEZONE
TZID:Europe/Berlin
BEGIN:DAYLIGHT
TZOFFSETFROM:+0100
TZOFFSETTO:+0200
TZNAME:CEST
DTSTART:20280326T010000
END:DAYLIGHT
BEGIN:STANDARD
TZOFFSETFROM:+0200
TZOFFSETTO:+0100
TZNAME:CET
DTSTART:20281029T010000
END:STANDARD
BEGIN:DAYLIGHT
TZOFFSETFROM:+0100
TZOFFSETTO:+0200
TZNAME:CEST
DTSTART:20290325T010000
END:DAYLIGHT
BEGIN:STANDARD
TZOFFSETFROM:+0200
TZOFFSETTO:+0100
TZNAME:CET
DTSTART:20291028T010000
END:STANDARD
BEGIN:DAYLIGHT
TZOFFSETFROM:+0100
TZOFFSETTO:+0200
TZNAME:CEST
DTSTART:20300331T010000
END:DAYLIGHT
BEGIN:STANDARD
TZOFFSETFROM:+0200
TZOFFSETTO:+0100
TZNAME:CET
DTSTART:20301027T010000
END:STANDARD
END:VTIMEZONE
BEGIN:VEVENT
DTSTART;TZID=Europe/Berlin:20290603T113000
DTEND;TZID=Europe/Berlin:20290603T123000
DTSTAMP:20260423T222758
CREATED:20251226T085821Z
LAST-MODIFIED:20251226T090012Z
UID:10002319-1875180600-1875184200@www.martini-gadderbaum.de
SUMMARY:Kirchcafé
DESCRIPTION:
URL:https://www.martini-gadderbaum.de/veranstaltung/kirchcafe-7/2029-06-03/
LOCATION:Stephanuskirche\, Pellaweg 4
END:VEVENT
BEGIN:VEVENT
DTSTART;TZID=Europe/Berlin:20290610T113000
DTEND;TZID=Europe/Berlin:20290610T123000
DTSTAMP:20260423T222758
CREATED:20251226T085821Z
LAST-MODIFIED:20251226T090012Z
UID:10002320-1875785400-1875789000@www.martini-gadderbaum.de
SUMMARY:Kirchcafé
DESCRIPTION:
URL:https://www.martini-gadderbaum.de/veranstaltung/kirchcafe-7/2029-06-10/
LOCATION:Stephanuskirche\, Pellaweg 4
END:VEVENT
BEGIN:VEVENT
DTSTART;TZID=Europe/Berlin:20290614T093000
DTEND;TZID=Europe/Berlin:20290614T113000
DTSTAMP:20260423T222758
CREATED:20250721T071918Z
LAST-MODIFIED:20250721T072436Z
UID:10002037-1876123800-1876131000@www.martini-gadderbaum.de
SUMMARY:Martini-Frühstück
DESCRIPTION:
URL:https://www.martini-gadderbaum.de/veranstaltung/martini-fruehstueck-2/2029-06-14/
LOCATION:MEC
END:VEVENT
BEGIN:VEVENT
DTSTART;TZID=Europe/Berlin:20290614T093000
DTEND;TZID=Europe/Berlin:20290614T113000
DTSTAMP:20260423T222758
CREATED:20260325T083114Z
LAST-MODIFIED:20260325T083133Z
UID:10002903-1876123800-1876131000@www.martini-gadderbaum.de
SUMMARY:Martini-Frühstück
DESCRIPTION:
URL:https://www.martini-gadderbaum.de/veranstaltung/martini-fruehstueck-4/2029-06-14/
LOCATION:MEC
END:VEVENT
BEGIN:VEVENT
DTSTART;TZID=Europe/Berlin:20290617T113000
DTEND;TZID=Europe/Berlin:20290617T123000
DTSTAMP:20260423T222758
CREATED:20251226T085821Z
LAST-MODIFIED:20251226T090012Z
UID:10002321-1876390200-1876393800@www.martini-gadderbaum.de
SUMMARY:Kirchcafé
DESCRIPTION:
URL:https://www.martini-gadderbaum.de/veranstaltung/kirchcafe-7/2029-06-17/
LOCATION:Stephanuskirche\, Pellaweg 4
END:VEVENT
BEGIN:VEVENT
DTSTART;TZID=Europe/Berlin:20290624T113000
DTEND;TZID=Europe/Berlin:20290624T123000
DTSTAMP:20260423T222758
CREATED:20251226T085821Z
LAST-MODIFIED:20251226T090012Z
UID:10002322-1876995000-1876998600@www.martini-gadderbaum.de
SUMMARY:Kirchcafé
DESCRIPTION:
URL:https://www.martini-gadderbaum.de/veranstaltung/kirchcafe-7/2029-06-24/
LOCATION:Stephanuskirche\, Pellaweg 4
END:VEVENT
END:VCALENDAR