BEGIN:VCALENDAR
VERSION:2.0
PRODID:-//Martini Kirchengemeinde Bielefeld Gadderbaum - ECPv6.15.17.1//NONSGML v1.0//EN
CALSCALE:GREGORIAN
METHOD:PUBLISH
X-WR-CALNAME:Martini Kirchengemeinde Bielefeld Gadderbaum
X-ORIGINAL-URL:https://www.martini-gadderbaum.de
X-WR-CALDESC:Veranstaltungen für Martini Kirchengemeinde Bielefeld Gadderbaum
REFRESH-INTERVAL;VALUE=DURATION:PT1H
X-Robots-Tag:noindex
X-PUBLISHED-TTL:PT1H
BEGIN:VTIMEZONE
TZID:Europe/Berlin
BEGIN:DAYLIGHT
TZOFFSETFROM:+0100
TZOFFSETTO:+0200
TZNAME:CEST
DTSTART:20270328T010000
END:DAYLIGHT
BEGIN:STANDARD
TZOFFSETFROM:+0200
TZOFFSETTO:+0100
TZNAME:CET
DTSTART:20271031T010000
END:STANDARD
BEGIN:DAYLIGHT
TZOFFSETFROM:+0100
TZOFFSETTO:+0200
TZNAME:CEST
DTSTART:20280326T010000
END:DAYLIGHT
BEGIN:STANDARD
TZOFFSETFROM:+0200
TZOFFSETTO:+0100
TZNAME:CET
DTSTART:20281029T010000
END:STANDARD
BEGIN:DAYLIGHT
TZOFFSETFROM:+0100
TZOFFSETTO:+0200
TZNAME:CEST
DTSTART:20290325T010000
END:DAYLIGHT
BEGIN:STANDARD
TZOFFSETFROM:+0200
TZOFFSETTO:+0100
TZNAME:CET
DTSTART:20291028T010000
END:STANDARD
END:VTIMEZONE
BEGIN:VEVENT
DTSTART;TZID=Europe/Berlin:20281203T113000
DTEND;TZID=Europe/Berlin:20281203T123000
DTSTAMP:20260423T130339
CREATED:20251226T085821Z
LAST-MODIFIED:20251226T090012Z
UID:10002293-1859455800-1859459400@www.martini-gadderbaum.de
SUMMARY:Kirchcafé
DESCRIPTION:
URL:https://www.martini-gadderbaum.de/veranstaltung/kirchcafe-7/2028-12-03/
LOCATION:Stephanuskirche\, Pellaweg 4
END:VEVENT
BEGIN:VEVENT
DTSTART;TZID=Europe/Berlin:20281210T113000
DTEND;TZID=Europe/Berlin:20281210T123000
DTSTAMP:20260423T130339
CREATED:20251226T085821Z
LAST-MODIFIED:20251226T090012Z
UID:10002294-1860060600-1860064200@www.martini-gadderbaum.de
SUMMARY:Kirchcafé
DESCRIPTION:
URL:https://www.martini-gadderbaum.de/veranstaltung/kirchcafe-7/2028-12-10/
LOCATION:Stephanuskirche\, Pellaweg 4
END:VEVENT
BEGIN:VEVENT
DTSTART;TZID=Europe/Berlin:20281214T093000
DTEND;TZID=Europe/Berlin:20281214T113000
DTSTAMP:20260423T130339
CREATED:20250721T071918Z
LAST-MODIFIED:20250721T072436Z
UID:10002031-1860399000-1860406200@www.martini-gadderbaum.de
SUMMARY:Martini-Frühstück
DESCRIPTION:
URL:https://www.martini-gadderbaum.de/veranstaltung/martini-fruehstueck-2/2028-12-14/
LOCATION:MEC
END:VEVENT
BEGIN:VEVENT
DTSTART;TZID=Europe/Berlin:20281214T093000
DTEND;TZID=Europe/Berlin:20281214T113000
DTSTAMP:20260423T130339
CREATED:20260325T083114Z
LAST-MODIFIED:20260325T083133Z
UID:10002897-1860399000-1860406200@www.martini-gadderbaum.de
SUMMARY:Martini-Frühstück
DESCRIPTION:
URL:https://www.martini-gadderbaum.de/veranstaltung/martini-fruehstueck-4/2028-12-14/
LOCATION:MEC
END:VEVENT
BEGIN:VEVENT
DTSTART;TZID=Europe/Berlin:20281217T113000
DTEND;TZID=Europe/Berlin:20281217T123000
DTSTAMP:20260423T130339
CREATED:20251226T085821Z
LAST-MODIFIED:20251226T090012Z
UID:10002295-1860665400-1860669000@www.martini-gadderbaum.de
SUMMARY:Kirchcafé
DESCRIPTION:
URL:https://www.martini-gadderbaum.de/veranstaltung/kirchcafe-7/2028-12-17/
LOCATION:Stephanuskirche\, Pellaweg 4
END:VEVENT
BEGIN:VEVENT
DTSTART;TZID=Europe/Berlin:20281224T113000
DTEND;TZID=Europe/Berlin:20281224T123000
DTSTAMP:20260423T130339
CREATED:20251226T085821Z
LAST-MODIFIED:20251226T090012Z
UID:10002296-1861270200-1861273800@www.martini-gadderbaum.de
SUMMARY:Kirchcafé
DESCRIPTION:
URL:https://www.martini-gadderbaum.de/veranstaltung/kirchcafe-7/2028-12-24/
LOCATION:Stephanuskirche\, Pellaweg 4
END:VEVENT
BEGIN:VEVENT
DTSTART;TZID=Europe/Berlin:20281231T113000
DTEND;TZID=Europe/Berlin:20281231T123000
DTSTAMP:20260423T130339
CREATED:20251226T085821Z
LAST-MODIFIED:20251226T090012Z
UID:10002297-1861875000-1861878600@www.martini-gadderbaum.de
SUMMARY:Kirchcafé
DESCRIPTION:
URL:https://www.martini-gadderbaum.de/veranstaltung/kirchcafe-7/2028-12-31/
LOCATION:Stephanuskirche\, Pellaweg 4
END:VEVENT
END:VCALENDAR