BEGIN:VCALENDAR
VERSION:2.0
PRODID:-//Martini Kirchengemeinde Bielefeld Gadderbaum - ECPv6.15.17.1//NONSGML v1.0//EN
CALSCALE:GREGORIAN
METHOD:PUBLISH
X-ORIGINAL-URL:https://www.martini-gadderbaum.de
X-WR-CALDESC:Veranstaltungen für Martini Kirchengemeinde Bielefeld Gadderbaum
REFRESH-INTERVAL;VALUE=DURATION:PT1H
X-Robots-Tag:noindex
X-PUBLISHED-TTL:PT1H
BEGIN:VTIMEZONE
TZID:Europe/Berlin
BEGIN:DAYLIGHT
TZOFFSETFROM:+0100
TZOFFSETTO:+0200
TZNAME:CEST
DTSTART:20270328T010000
END:DAYLIGHT
BEGIN:STANDARD
TZOFFSETFROM:+0200
TZOFFSETTO:+0100
TZNAME:CET
DTSTART:20271031T010000
END:STANDARD
BEGIN:DAYLIGHT
TZOFFSETFROM:+0100
TZOFFSETTO:+0200
TZNAME:CEST
DTSTART:20280326T010000
END:DAYLIGHT
BEGIN:STANDARD
TZOFFSETFROM:+0200
TZOFFSETTO:+0100
TZNAME:CET
DTSTART:20281029T010000
END:STANDARD
BEGIN:DAYLIGHT
TZOFFSETFROM:+0100
TZOFFSETTO:+0200
TZNAME:CEST
DTSTART:20290325T010000
END:DAYLIGHT
BEGIN:STANDARD
TZOFFSETFROM:+0200
TZOFFSETTO:+0100
TZNAME:CET
DTSTART:20291028T010000
END:STANDARD
END:VTIMEZONE
BEGIN:VEVENT
DTSTART;TZID=Europe/Berlin:20280102T113000
DTEND;TZID=Europe/Berlin:20280102T123000
DTSTAMP:20260422T204711
CREATED:20251226T085821Z
LAST-MODIFIED:20251226T090012Z
UID:10002245-1830425400-1830429000@www.martini-gadderbaum.de
SUMMARY:Kirchcafé
DESCRIPTION:
URL:https://www.martini-gadderbaum.de/veranstaltung/kirchcafe-7/2028-01-02/
LOCATION:Stephanuskirche\, Pellaweg 4
END:VEVENT
BEGIN:VEVENT
DTSTART;TZID=Europe/Berlin:20280109T113000
DTEND;TZID=Europe/Berlin:20280109T123000
DTSTAMP:20260422T204711
CREATED:20251226T085821Z
LAST-MODIFIED:20251226T090012Z
UID:10002246-1831030200-1831033800@www.martini-gadderbaum.de
SUMMARY:Kirchcafé
DESCRIPTION:
URL:https://www.martini-gadderbaum.de/veranstaltung/kirchcafe-7/2028-01-09/
LOCATION:Stephanuskirche\, Pellaweg 4
END:VEVENT
BEGIN:VEVENT
DTSTART;TZID=Europe/Berlin:20280113T093000
DTEND;TZID=Europe/Berlin:20280113T113000
DTSTAMP:20260422T204711
CREATED:20250721T071918Z
LAST-MODIFIED:20250721T072436Z
UID:10002020-1831368600-1831375800@www.martini-gadderbaum.de
SUMMARY:Martini-Frühstück
DESCRIPTION:
URL:https://www.martini-gadderbaum.de/veranstaltung/martini-fruehstueck-2/2028-01-13/
LOCATION:MEC
END:VEVENT
BEGIN:VEVENT
DTSTART;TZID=Europe/Berlin:20280113T093000
DTEND;TZID=Europe/Berlin:20280113T113000
DTSTAMP:20260422T204711
CREATED:20260325T083114Z
LAST-MODIFIED:20260325T083133Z
UID:10002886-1831368600-1831375800@www.martini-gadderbaum.de
SUMMARY:Martini-Frühstück
DESCRIPTION:
URL:https://www.martini-gadderbaum.de/veranstaltung/martini-fruehstueck-4/2028-01-13/
LOCATION:MEC
END:VEVENT
BEGIN:VEVENT
DTSTART;TZID=Europe/Berlin:20280116T113000
DTEND;TZID=Europe/Berlin:20280116T123000
DTSTAMP:20260422T204711
CREATED:20251226T085821Z
LAST-MODIFIED:20251226T090012Z
UID:10002247-1831635000-1831638600@www.martini-gadderbaum.de
SUMMARY:Kirchcafé
DESCRIPTION:
URL:https://www.martini-gadderbaum.de/veranstaltung/kirchcafe-7/2028-01-16/
LOCATION:Stephanuskirche\, Pellaweg 4
END:VEVENT
BEGIN:VEVENT
DTSTART;TZID=Europe/Berlin:20280123T113000
DTEND;TZID=Europe/Berlin:20280123T123000
DTSTAMP:20260422T204711
CREATED:20251226T085821Z
LAST-MODIFIED:20251226T090012Z
UID:10002248-1832239800-1832243400@www.martini-gadderbaum.de
SUMMARY:Kirchcafé
DESCRIPTION:
URL:https://www.martini-gadderbaum.de/veranstaltung/kirchcafe-7/2028-01-23/
LOCATION:Stephanuskirche\, Pellaweg 4
END:VEVENT
BEGIN:VEVENT
DTSTART;TZID=Europe/Berlin:20280130T113000
DTEND;TZID=Europe/Berlin:20280130T123000
DTSTAMP:20260422T204711
CREATED:20251226T085821Z
LAST-MODIFIED:20251226T090012Z
UID:10002249-1832844600-1832848200@www.martini-gadderbaum.de
SUMMARY:Kirchcafé
DESCRIPTION:
URL:https://www.martini-gadderbaum.de/veranstaltung/kirchcafe-7/2028-01-30/
LOCATION:Stephanuskirche\, Pellaweg 4
END:VEVENT
END:VCALENDAR