BEGIN:VCALENDAR
VERSION:2.0
PRODID:-//Martini Kirchengemeinde Bielefeld Gadderbaum - ECPv6.15.17.1//NONSGML v1.0//EN
CALSCALE:GREGORIAN
METHOD:PUBLISH
X-WR-CALNAME:Martini Kirchengemeinde Bielefeld Gadderbaum
X-ORIGINAL-URL:https://www.martini-gadderbaum.de
X-WR-CALDESC:Veranstaltungen für Martini Kirchengemeinde Bielefeld Gadderbaum
REFRESH-INTERVAL;VALUE=DURATION:PT1H
X-Robots-Tag:noindex
X-PUBLISHED-TTL:PT1H
BEGIN:VTIMEZONE
TZID:Europe/Berlin
BEGIN:DAYLIGHT
TZOFFSETFROM:+0100
TZOFFSETTO:+0200
TZNAME:CEST
DTSTART:20250330T010000
END:DAYLIGHT
BEGIN:STANDARD
TZOFFSETFROM:+0200
TZOFFSETTO:+0100
TZNAME:CET
DTSTART:20251026T010000
END:STANDARD
BEGIN:DAYLIGHT
TZOFFSETFROM:+0100
TZOFFSETTO:+0200
TZNAME:CEST
DTSTART:20260329T010000
END:DAYLIGHT
BEGIN:STANDARD
TZOFFSETFROM:+0200
TZOFFSETTO:+0100
TZNAME:CET
DTSTART:20261025T010000
END:STANDARD
BEGIN:DAYLIGHT
TZOFFSETFROM:+0100
TZOFFSETTO:+0200
TZNAME:CEST
DTSTART:20270328T010000
END:DAYLIGHT
BEGIN:STANDARD
TZOFFSETFROM:+0200
TZOFFSETTO:+0100
TZNAME:CET
DTSTART:20271031T010000
END:STANDARD
END:VTIMEZONE
BEGIN:VEVENT
DTSTART;TZID=Europe/Berlin:20261004T103000
DTEND;TZID=Europe/Berlin:20261004T113000
DTSTAMP:20260421T210954
CREATED:20251226T085456Z
LAST-MODIFIED:20251226T085626Z
UID:10002129-1791109800-1791113400@www.martini-gadderbaum.de
SUMMARY:Gottesdienst
DESCRIPTION:
URL:https://www.martini-gadderbaum.de/veranstaltung/gottesdienst-56/2026-10-04/
LOCATION:Stephanuskirche\, Pellaweg 4
END:VEVENT
BEGIN:VEVENT
DTSTART;TZID=Europe/Berlin:20261004T113000
DTEND;TZID=Europe/Berlin:20261004T123000
DTSTAMP:20260421T210954
CREATED:20251226T085821Z
LAST-MODIFIED:20251226T090012Z
UID:10002180-1791113400-1791117000@www.martini-gadderbaum.de
SUMMARY:Kirchcafé
DESCRIPTION:
URL:https://www.martini-gadderbaum.de/veranstaltung/kirchcafe-7/2026-10-04/
LOCATION:Stephanuskirche\, Pellaweg 4
END:VEVENT
BEGIN:VEVENT
DTSTART;TZID=Europe/Berlin:20261005T190000
DTEND;TZID=Europe/Berlin:20261005T210000
DTSTAMP:20260421T210954
CREATED:20260101T150630Z
LAST-MODIFIED:20260101T150632Z
UID:10002665-1791226800-1791234000@www.martini-gadderbaum.de
SUMMARY:Tischtennisgruppe
DESCRIPTION:
URL:https://www.martini-gadderbaum.de/veranstaltung/tischtennisgruppe-2/2026-10-05/
LOCATION:Großer Saal
END:VEVENT
BEGIN:VEVENT
DTSTART;TZID=Europe/Berlin:20261006T093000
DTEND;TZID=Europe/Berlin:20261006T110000
DTSTAMP:20260421T210954
CREATED:20260101T145226Z
LAST-MODIFIED:20260101T145228Z
UID:10002456-1791279000-1791284400@www.martini-gadderbaum.de
SUMMARY:Tischtennis für Senior*innen
DESCRIPTION:
URL:https://www.martini-gadderbaum.de/veranstaltung/tischtennis-fuer-seniorinnen-2/2026-10-06/
LOCATION:Großer Saal
END:VEVENT
BEGIN:VEVENT
DTSTART;TZID=Europe/Berlin:20261006T100000
DTEND;TZID=Europe/Berlin:20261006T120000
DTSTAMP:20260421T210954
CREATED:20260101T145600Z
LAST-MODIFIED:20260101T145658Z
UID:10002509-1791280800-1791288000@www.martini-gadderbaum.de
SUMMARY:Mini-Monster-Krabbelgruppe
DESCRIPTION:
URL:https://www.martini-gadderbaum.de/veranstaltung/mini-monster-krabbelgruppe-6/2026-10-06/
LOCATION:MEC
END:VEVENT
BEGIN:VEVENT
DTSTART;TZID=Europe/Berlin:20261006T180000
DTEND;TZID=Europe/Berlin:20261006T200000
DTSTAMP:20260421T210954
CREATED:20260101T153931Z
LAST-MODIFIED:20260101T153933Z
UID:10002728-1791309600-1791316800@www.martini-gadderbaum.de
SUMMARY:ZWAR-Initiative | Kreatives Singen
DESCRIPTION:
URL:https://www.martini-gadderbaum.de/veranstaltung/zwar-initiative-7/2026-10-06/
LOCATION:MEC
END:VEVENT
BEGIN:VEVENT
DTSTART;TZID=Europe/Berlin:20261007T193000
DTEND;TZID=Europe/Berlin:20261007T210000
DTSTAMP:20260421T210954
CREATED:20260101T150044Z
LAST-MODIFIED:20260101T150045Z
UID:10002562-1791401400-1791406800@www.martini-gadderbaum.de
SUMMARY:Blockflötenensemble
DESCRIPTION:
URL:https://www.martini-gadderbaum.de/veranstaltung/blockfloetenensemble-2/2026-10-07/
LOCATION:MEC
END:VEVENT
BEGIN:VEVENT
DTSTART;TZID=Europe/Berlin:20261008T093000
DTEND;TZID=Europe/Berlin:20261008T113000
DTSTAMP:20260421T210954
CREATED:20250721T071918Z
LAST-MODIFIED:20250721T072436Z
UID:10002005-1791451800-1791459000@www.martini-gadderbaum.de
SUMMARY:Martini-Frühstück
DESCRIPTION:
URL:https://www.martini-gadderbaum.de/veranstaltung/martini-fruehstueck-2/2026-10-08/
LOCATION:MEC
END:VEVENT
BEGIN:VEVENT
DTSTART;TZID=Europe/Berlin:20261008T093000
DTEND;TZID=Europe/Berlin:20261008T113000
DTSTAMP:20260421T210954
CREATED:20260325T083114Z
LAST-MODIFIED:20260325T083133Z
UID:10002871-1791451800-1791459000@www.martini-gadderbaum.de
SUMMARY:Martini-Frühstück
DESCRIPTION:
URL:https://www.martini-gadderbaum.de/veranstaltung/martini-fruehstueck-4/2026-10-08/
LOCATION:MEC
END:VEVENT
BEGIN:VEVENT
DTSTART;TZID=Europe/Berlin:20261011T103000
DTEND;TZID=Europe/Berlin:20261011T113000
DTSTAMP:20260421T210954
CREATED:20251226T085456Z
LAST-MODIFIED:20251226T085626Z
UID:10002130-1791714600-1791718200@www.martini-gadderbaum.de
SUMMARY:Gottesdienst
DESCRIPTION:
URL:https://www.martini-gadderbaum.de/veranstaltung/gottesdienst-56/2026-10-11/
LOCATION:Stephanuskirche\, Pellaweg 4
END:VEVENT
BEGIN:VEVENT
DTSTART;TZID=Europe/Berlin:20261011T113000
DTEND;TZID=Europe/Berlin:20261011T123000
DTSTAMP:20260421T210954
CREATED:20251226T085821Z
LAST-MODIFIED:20251226T090012Z
UID:10002181-1791718200-1791721800@www.martini-gadderbaum.de
SUMMARY:Kirchcafé
DESCRIPTION:
URL:https://www.martini-gadderbaum.de/veranstaltung/kirchcafe-7/2026-10-11/
LOCATION:Stephanuskirche\, Pellaweg 4
END:VEVENT
BEGIN:VEVENT
DTSTART;TZID=Europe/Berlin:20261012T190000
DTEND;TZID=Europe/Berlin:20261012T210000
DTSTAMP:20260421T210954
CREATED:20260101T150630Z
LAST-MODIFIED:20260101T150632Z
UID:10002666-1791831600-1791838800@www.martini-gadderbaum.de
SUMMARY:Tischtennisgruppe
DESCRIPTION:
URL:https://www.martini-gadderbaum.de/veranstaltung/tischtennisgruppe-2/2026-10-12/
LOCATION:Großer Saal
END:VEVENT
BEGIN:VEVENT
DTSTART;TZID=Europe/Berlin:20261013T093000
DTEND;TZID=Europe/Berlin:20261013T110000
DTSTAMP:20260421T210954
CREATED:20260101T145226Z
LAST-MODIFIED:20260101T145228Z
UID:10002457-1791883800-1791889200@www.martini-gadderbaum.de
SUMMARY:Tischtennis für Senior*innen
DESCRIPTION:
URL:https://www.martini-gadderbaum.de/veranstaltung/tischtennis-fuer-seniorinnen-2/2026-10-13/
LOCATION:Großer Saal
END:VEVENT
BEGIN:VEVENT
DTSTART;TZID=Europe/Berlin:20261013T100000
DTEND;TZID=Europe/Berlin:20261013T120000
DTSTAMP:20260421T210954
CREATED:20260101T145600Z
LAST-MODIFIED:20260101T145658Z
UID:10002510-1791885600-1791892800@www.martini-gadderbaum.de
SUMMARY:Mini-Monster-Krabbelgruppe
DESCRIPTION:
URL:https://www.martini-gadderbaum.de/veranstaltung/mini-monster-krabbelgruppe-6/2026-10-13/
LOCATION:MEC
END:VEVENT
BEGIN:VEVENT
DTSTART;TZID=Europe/Berlin:20261014T193000
DTEND;TZID=Europe/Berlin:20261014T210000
DTSTAMP:20260421T210954
CREATED:20260101T150044Z
LAST-MODIFIED:20260101T150045Z
UID:10002563-1792006200-1792011600@www.martini-gadderbaum.de
SUMMARY:Blockflötenensemble
DESCRIPTION:
URL:https://www.martini-gadderbaum.de/veranstaltung/blockfloetenensemble-2/2026-10-14/
LOCATION:MEC
END:VEVENT
BEGIN:VEVENT
DTSTART;TZID=Europe/Berlin:20261018T103000
DTEND;TZID=Europe/Berlin:20261018T113000
DTSTAMP:20260421T210954
CREATED:20251226T085456Z
LAST-MODIFIED:20251226T085626Z
UID:10002131-1792319400-1792323000@www.martini-gadderbaum.de
SUMMARY:Gottesdienst
DESCRIPTION:
URL:https://www.martini-gadderbaum.de/veranstaltung/gottesdienst-56/2026-10-18/
LOCATION:Stephanuskirche\, Pellaweg 4
END:VEVENT
BEGIN:VEVENT
DTSTART;TZID=Europe/Berlin:20261018T113000
DTEND;TZID=Europe/Berlin:20261018T123000
DTSTAMP:20260421T210954
CREATED:20251226T085821Z
LAST-MODIFIED:20251226T090012Z
UID:10002182-1792323000-1792326600@www.martini-gadderbaum.de
SUMMARY:Kirchcafé
DESCRIPTION:
URL:https://www.martini-gadderbaum.de/veranstaltung/kirchcafe-7/2026-10-18/
LOCATION:Stephanuskirche\, Pellaweg 4
END:VEVENT
BEGIN:VEVENT
DTSTART;TZID=Europe/Berlin:20261019T190000
DTEND;TZID=Europe/Berlin:20261019T210000
DTSTAMP:20260421T210954
CREATED:20260101T150630Z
LAST-MODIFIED:20260101T150632Z
UID:10002667-1792436400-1792443600@www.martini-gadderbaum.de
SUMMARY:Tischtennisgruppe
DESCRIPTION:
URL:https://www.martini-gadderbaum.de/veranstaltung/tischtennisgruppe-2/2026-10-19/
LOCATION:Großer Saal
END:VEVENT
BEGIN:VEVENT
DTSTART;TZID=Europe/Berlin:20261020T093000
DTEND;TZID=Europe/Berlin:20261020T110000
DTSTAMP:20260421T210954
CREATED:20260101T145226Z
LAST-MODIFIED:20260101T145228Z
UID:10002458-1792488600-1792494000@www.martini-gadderbaum.de
SUMMARY:Tischtennis für Senior*innen
DESCRIPTION:
URL:https://www.martini-gadderbaum.de/veranstaltung/tischtennis-fuer-seniorinnen-2/2026-10-20/
LOCATION:Großer Saal
END:VEVENT
BEGIN:VEVENT
DTSTART;TZID=Europe/Berlin:20261020T100000
DTEND;TZID=Europe/Berlin:20261020T120000
DTSTAMP:20260421T210954
CREATED:20260101T145600Z
LAST-MODIFIED:20260101T145658Z
UID:10002511-1792490400-1792497600@www.martini-gadderbaum.de
SUMMARY:Mini-Monster-Krabbelgruppe
DESCRIPTION:
URL:https://www.martini-gadderbaum.de/veranstaltung/mini-monster-krabbelgruppe-6/2026-10-20/
LOCATION:MEC
END:VEVENT
BEGIN:VEVENT
DTSTART;TZID=Europe/Berlin:20261020T180000
DTEND;TZID=Europe/Berlin:20261020T200000
DTSTAMP:20260421T210954
CREATED:20260101T153931Z
LAST-MODIFIED:20260101T153933Z
UID:10002729-1792519200-1792526400@www.martini-gadderbaum.de
SUMMARY:ZWAR-Initiative | Kreatives Singen
DESCRIPTION:
URL:https://www.martini-gadderbaum.de/veranstaltung/zwar-initiative-7/2026-10-20/
LOCATION:MEC
END:VEVENT
BEGIN:VEVENT
DTSTART;TZID=Europe/Berlin:20261020T193000
DTEND;TZID=Europe/Berlin:20261020T210000
DTSTAMP:20260421T210954
CREATED:20260101T151022Z
LAST-MODIFIED:20260101T152008Z
UID:10002699-1792524600-1792530000@www.martini-gadderbaum.de
SUMMARY:Martini im Gespräch
DESCRIPTION:
URL:https://www.martini-gadderbaum.de/veranstaltung/martini-im-gespraech-2/2026-10-20/
LOCATION:Wintergarten
END:VEVENT
BEGIN:VEVENT
DTSTART;TZID=Europe/Berlin:20261021T193000
DTEND;TZID=Europe/Berlin:20261021T210000
DTSTAMP:20260421T210954
CREATED:20260101T150044Z
LAST-MODIFIED:20260101T150045Z
UID:10002564-1792611000-1792616400@www.martini-gadderbaum.de
SUMMARY:Blockflötenensemble
DESCRIPTION:
URL:https://www.martini-gadderbaum.de/veranstaltung/blockfloetenensemble-2/2026-10-21/
LOCATION:MEC
END:VEVENT
BEGIN:VEVENT
DTSTART;TZID=Europe/Berlin:20261025T103000
DTEND;TZID=Europe/Berlin:20261025T113000
DTSTAMP:20260421T210954
CREATED:20251226T085456Z
LAST-MODIFIED:20251226T085626Z
UID:10002132-1792924200-1792927800@www.martini-gadderbaum.de
SUMMARY:Gottesdienst
DESCRIPTION:
URL:https://www.martini-gadderbaum.de/veranstaltung/gottesdienst-56/2026-10-25/
LOCATION:Stephanuskirche\, Pellaweg 4
END:VEVENT
BEGIN:VEVENT
DTSTART;TZID=Europe/Berlin:20261025T113000
DTEND;TZID=Europe/Berlin:20261025T123000
DTSTAMP:20260421T210954
CREATED:20251226T085821Z
LAST-MODIFIED:20251226T090012Z
UID:10002183-1792927800-1792931400@www.martini-gadderbaum.de
SUMMARY:Kirchcafé
DESCRIPTION:
URL:https://www.martini-gadderbaum.de/veranstaltung/kirchcafe-7/2026-10-25/
LOCATION:Stephanuskirche\, Pellaweg 4
END:VEVENT
BEGIN:VEVENT
DTSTART;TZID=Europe/Berlin:20261026T190000
DTEND;TZID=Europe/Berlin:20261026T210000
DTSTAMP:20260421T210954
CREATED:20260101T150630Z
LAST-MODIFIED:20260101T150632Z
UID:10002668-1793041200-1793048400@www.martini-gadderbaum.de
SUMMARY:Tischtennisgruppe
DESCRIPTION:
URL:https://www.martini-gadderbaum.de/veranstaltung/tischtennisgruppe-2/2026-10-26/
LOCATION:Großer Saal
END:VEVENT
BEGIN:VEVENT
DTSTART;TZID=Europe/Berlin:20261027T093000
DTEND;TZID=Europe/Berlin:20261027T110000
DTSTAMP:20260421T210954
CREATED:20260101T145226Z
LAST-MODIFIED:20260101T145228Z
UID:10002459-1793093400-1793098800@www.martini-gadderbaum.de
SUMMARY:Tischtennis für Senior*innen
DESCRIPTION:
URL:https://www.martini-gadderbaum.de/veranstaltung/tischtennis-fuer-seniorinnen-2/2026-10-27/
LOCATION:Großer Saal
END:VEVENT
BEGIN:VEVENT
DTSTART;TZID=Europe/Berlin:20261027T100000
DTEND;TZID=Europe/Berlin:20261027T120000
DTSTAMP:20260421T210954
CREATED:20260101T145600Z
LAST-MODIFIED:20260101T145658Z
UID:10002512-1793095200-1793102400@www.martini-gadderbaum.de
SUMMARY:Mini-Monster-Krabbelgruppe
DESCRIPTION:
URL:https://www.martini-gadderbaum.de/veranstaltung/mini-monster-krabbelgruppe-6/2026-10-27/
LOCATION:MEC
END:VEVENT
BEGIN:VEVENT
DTSTART;TZID=Europe/Berlin:20261028T193000
DTEND;TZID=Europe/Berlin:20261028T210000
DTSTAMP:20260421T210954
CREATED:20260101T150044Z
LAST-MODIFIED:20260101T150045Z
UID:10002565-1793215800-1793221200@www.martini-gadderbaum.de
SUMMARY:Blockflötenensemble
DESCRIPTION:
URL:https://www.martini-gadderbaum.de/veranstaltung/blockfloetenensemble-2/2026-10-28/
LOCATION:MEC
END:VEVENT
BEGIN:VEVENT
DTSTART;TZID=Europe/Berlin:20261029T173000
DTEND;TZID=Europe/Berlin:20261029T210000
DTSTAMP:20260421T210954
CREATED:20260101T162938Z
LAST-MODIFIED:20260101T162940Z
UID:10002813-1793295000-1793307600@www.martini-gadderbaum.de
SUMMARY:ZWAR Initiative
DESCRIPTION:
URL:https://www.martini-gadderbaum.de/veranstaltung/zwar-initiative-8/2026-10-29/
LOCATION:Bücherei
END:VEVENT
END:VCALENDAR