BEGIN:VCALENDAR
VERSION:2.0
PRODID:-//Martini Kirchengemeinde Bielefeld Gadderbaum - ECPv6.15.17.1//NONSGML v1.0//EN
CALSCALE:GREGORIAN
METHOD:PUBLISH
X-ORIGINAL-URL:https://www.martini-gadderbaum.de
X-WR-CALDESC:Veranstaltungen für Martini Kirchengemeinde Bielefeld Gadderbaum
REFRESH-INTERVAL;VALUE=DURATION:PT1H
X-Robots-Tag:noindex
X-PUBLISHED-TTL:PT1H
BEGIN:VTIMEZONE
TZID:Europe/Berlin
BEGIN:DAYLIGHT
TZOFFSETFROM:+0100
TZOFFSETTO:+0200
TZNAME:CEST
DTSTART:20250330T010000
END:DAYLIGHT
BEGIN:STANDARD
TZOFFSETFROM:+0200
TZOFFSETTO:+0100
TZNAME:CET
DTSTART:20251026T010000
END:STANDARD
BEGIN:DAYLIGHT
TZOFFSETFROM:+0100
TZOFFSETTO:+0200
TZNAME:CEST
DTSTART:20260329T010000
END:DAYLIGHT
BEGIN:STANDARD
TZOFFSETFROM:+0200
TZOFFSETTO:+0100
TZNAME:CET
DTSTART:20261025T010000
END:STANDARD
BEGIN:DAYLIGHT
TZOFFSETFROM:+0100
TZOFFSETTO:+0200
TZNAME:CEST
DTSTART:20270328T010000
END:DAYLIGHT
BEGIN:STANDARD
TZOFFSETFROM:+0200
TZOFFSETTO:+0100
TZNAME:CET
DTSTART:20271031T010000
END:STANDARD
END:VTIMEZONE
BEGIN:VEVENT
DTSTART;TZID=Europe/Berlin:20260701T193000
DTEND;TZID=Europe/Berlin:20260701T210000
DTSTAMP:20260421T162820
CREATED:20260101T150044Z
LAST-MODIFIED:20260101T150045Z
UID:10002548-1782934200-1782939600@www.martini-gadderbaum.de
SUMMARY:Blockflötenensemble
DESCRIPTION:
URL:https://www.martini-gadderbaum.de/veranstaltung/blockfloetenensemble-2/2026-07-01/
LOCATION:MEC
END:VEVENT
BEGIN:VEVENT
DTSTART;TZID=Europe/Berlin:20260705T103000
DTEND;TZID=Europe/Berlin:20260705T113000
DTSTAMP:20260421T162820
CREATED:20251226T085456Z
LAST-MODIFIED:20251226T085626Z
UID:10002116-1783247400-1783251000@www.martini-gadderbaum.de
SUMMARY:Gottesdienst
DESCRIPTION:
URL:https://www.martini-gadderbaum.de/veranstaltung/gottesdienst-56/2026-07-05/
LOCATION:Stephanuskirche\, Pellaweg 4
END:VEVENT
BEGIN:VEVENT
DTSTART;TZID=Europe/Berlin:20260705T113000
DTEND;TZID=Europe/Berlin:20260705T123000
DTSTAMP:20260421T162820
CREATED:20251226T085821Z
LAST-MODIFIED:20251226T090012Z
UID:10002167-1783251000-1783254600@www.martini-gadderbaum.de
SUMMARY:Kirchcafé
DESCRIPTION:
URL:https://www.martini-gadderbaum.de/veranstaltung/kirchcafe-7/2026-07-05/
LOCATION:Stephanuskirche\, Pellaweg 4
END:VEVENT
BEGIN:VEVENT
DTSTART;TZID=Europe/Berlin:20260706T190000
DTEND;TZID=Europe/Berlin:20260706T210000
DTSTAMP:20260421T162820
CREATED:20260101T150630Z
LAST-MODIFIED:20260101T150632Z
UID:10002652-1783364400-1783371600@www.martini-gadderbaum.de
SUMMARY:Tischtennisgruppe
DESCRIPTION:
URL:https://www.martini-gadderbaum.de/veranstaltung/tischtennisgruppe-2/2026-07-06/
LOCATION:Großer Saal
END:VEVENT
BEGIN:VEVENT
DTSTART;TZID=Europe/Berlin:20260707T093000
DTEND;TZID=Europe/Berlin:20260707T110000
DTSTAMP:20260421T162820
CREATED:20260101T145226Z
LAST-MODIFIED:20260101T145228Z
UID:10002443-1783416600-1783422000@www.martini-gadderbaum.de
SUMMARY:Tischtennis für Senior*innen
DESCRIPTION:
URL:https://www.martini-gadderbaum.de/veranstaltung/tischtennis-fuer-seniorinnen-2/2026-07-07/
LOCATION:Großer Saal
END:VEVENT
BEGIN:VEVENT
DTSTART;TZID=Europe/Berlin:20260707T100000
DTEND;TZID=Europe/Berlin:20260707T120000
DTSTAMP:20260421T162820
CREATED:20260101T145600Z
LAST-MODIFIED:20260101T145658Z
UID:10002496-1783418400-1783425600@www.martini-gadderbaum.de
SUMMARY:Mini-Monster-Krabbelgruppe
DESCRIPTION:
URL:https://www.martini-gadderbaum.de/veranstaltung/mini-monster-krabbelgruppe-6/2026-07-07/
LOCATION:MEC
END:VEVENT
BEGIN:VEVENT
DTSTART;TZID=Europe/Berlin:20260708T193000
DTEND;TZID=Europe/Berlin:20260708T210000
DTSTAMP:20260421T162820
CREATED:20260101T150044Z
LAST-MODIFIED:20260101T150045Z
UID:10002549-1783539000-1783544400@www.martini-gadderbaum.de
SUMMARY:Blockflötenensemble
DESCRIPTION:
URL:https://www.martini-gadderbaum.de/veranstaltung/blockfloetenensemble-2/2026-07-08/
LOCATION:MEC
END:VEVENT
BEGIN:VEVENT
DTSTART;TZID=Europe/Berlin:20260709T093000
DTEND;TZID=Europe/Berlin:20260709T113000
DTSTAMP:20260421T162820
CREATED:20250721T071918Z
LAST-MODIFIED:20250721T072436Z
UID:10002002-1783589400-1783596600@www.martini-gadderbaum.de
SUMMARY:Martini-Frühstück
DESCRIPTION:
URL:https://www.martini-gadderbaum.de/veranstaltung/martini-fruehstueck-2/2026-07-09/
LOCATION:MEC
END:VEVENT
BEGIN:VEVENT
DTSTART;TZID=Europe/Berlin:20260709T093000
DTEND;TZID=Europe/Berlin:20260709T113000
DTSTAMP:20260421T162820
CREATED:20260325T083114Z
LAST-MODIFIED:20260325T083133Z
UID:10002868-1783589400-1783596600@www.martini-gadderbaum.de
SUMMARY:Martini-Frühstück
DESCRIPTION:
URL:https://www.martini-gadderbaum.de/veranstaltung/martini-fruehstueck-4/2026-07-09/
LOCATION:MEC
END:VEVENT
BEGIN:VEVENT
DTSTART;TZID=Europe/Berlin:20260712T103000
DTEND;TZID=Europe/Berlin:20260712T113000
DTSTAMP:20260421T162820
CREATED:20251226T085456Z
LAST-MODIFIED:20251226T085626Z
UID:10002117-1783852200-1783855800@www.martini-gadderbaum.de
SUMMARY:Gottesdienst
DESCRIPTION:
URL:https://www.martini-gadderbaum.de/veranstaltung/gottesdienst-56/2026-07-12/
LOCATION:Stephanuskirche\, Pellaweg 4
END:VEVENT
BEGIN:VEVENT
DTSTART;TZID=Europe/Berlin:20260712T113000
DTEND;TZID=Europe/Berlin:20260712T123000
DTSTAMP:20260421T162820
CREATED:20251226T085821Z
LAST-MODIFIED:20251226T090012Z
UID:10002168-1783855800-1783859400@www.martini-gadderbaum.de
SUMMARY:Kirchcafé
DESCRIPTION:
URL:https://www.martini-gadderbaum.de/veranstaltung/kirchcafe-7/2026-07-12/
LOCATION:Stephanuskirche\, Pellaweg 4
END:VEVENT
BEGIN:VEVENT
DTSTART;TZID=Europe/Berlin:20260713T190000
DTEND;TZID=Europe/Berlin:20260713T210000
DTSTAMP:20260421T162820
CREATED:20260101T150630Z
LAST-MODIFIED:20260101T150632Z
UID:10002653-1783969200-1783976400@www.martini-gadderbaum.de
SUMMARY:Tischtennisgruppe
DESCRIPTION:
URL:https://www.martini-gadderbaum.de/veranstaltung/tischtennisgruppe-2/2026-07-13/
LOCATION:Großer Saal
END:VEVENT
BEGIN:VEVENT
DTSTART;TZID=Europe/Berlin:20260714T093000
DTEND;TZID=Europe/Berlin:20260714T110000
DTSTAMP:20260421T162820
CREATED:20260101T145226Z
LAST-MODIFIED:20260101T145228Z
UID:10002444-1784021400-1784026800@www.martini-gadderbaum.de
SUMMARY:Tischtennis für Senior*innen
DESCRIPTION:
URL:https://www.martini-gadderbaum.de/veranstaltung/tischtennis-fuer-seniorinnen-2/2026-07-14/
LOCATION:Großer Saal
END:VEVENT
BEGIN:VEVENT
DTSTART;TZID=Europe/Berlin:20260714T100000
DTEND;TZID=Europe/Berlin:20260714T120000
DTSTAMP:20260421T162820
CREATED:20260101T145600Z
LAST-MODIFIED:20260101T145658Z
UID:10002497-1784023200-1784030400@www.martini-gadderbaum.de
SUMMARY:Mini-Monster-Krabbelgruppe
DESCRIPTION:
URL:https://www.martini-gadderbaum.de/veranstaltung/mini-monster-krabbelgruppe-6/2026-07-14/
LOCATION:MEC
END:VEVENT
BEGIN:VEVENT
DTSTART;TZID=Europe/Berlin:20260714T180000
DTEND;TZID=Europe/Berlin:20260714T200000
DTSTAMP:20260421T162820
CREATED:20260101T153931Z
LAST-MODIFIED:20260101T153933Z
UID:10002722-1784052000-1784059200@www.martini-gadderbaum.de
SUMMARY:ZWAR-Initiative | Kreatives Singen
DESCRIPTION:
URL:https://www.martini-gadderbaum.de/veranstaltung/zwar-initiative-7/2026-07-14/
LOCATION:MEC
END:VEVENT
BEGIN:VEVENT
DTSTART;TZID=Europe/Berlin:20260715T193000
DTEND;TZID=Europe/Berlin:20260715T210000
DTSTAMP:20260421T162820
CREATED:20260101T150044Z
LAST-MODIFIED:20260101T150045Z
UID:10002550-1784143800-1784149200@www.martini-gadderbaum.de
SUMMARY:Blockflötenensemble
DESCRIPTION:
URL:https://www.martini-gadderbaum.de/veranstaltung/blockfloetenensemble-2/2026-07-15/
LOCATION:MEC
END:VEVENT
BEGIN:VEVENT
DTSTART;TZID=Europe/Berlin:20260719T103000
DTEND;TZID=Europe/Berlin:20260719T113000
DTSTAMP:20260421T162820
CREATED:20251226T085456Z
LAST-MODIFIED:20251226T085626Z
UID:10002118-1784457000-1784460600@www.martini-gadderbaum.de
SUMMARY:Gottesdienst
DESCRIPTION:
URL:https://www.martini-gadderbaum.de/veranstaltung/gottesdienst-56/2026-07-19/
LOCATION:Stephanuskirche\, Pellaweg 4
END:VEVENT
BEGIN:VEVENT
DTSTART;TZID=Europe/Berlin:20260719T113000
DTEND;TZID=Europe/Berlin:20260719T123000
DTSTAMP:20260421T162820
CREATED:20251226T085821Z
LAST-MODIFIED:20251226T090012Z
UID:10002169-1784460600-1784464200@www.martini-gadderbaum.de
SUMMARY:Kirchcafé
DESCRIPTION:
URL:https://www.martini-gadderbaum.de/veranstaltung/kirchcafe-7/2026-07-19/
LOCATION:Stephanuskirche\, Pellaweg 4
END:VEVENT
BEGIN:VEVENT
DTSTART;TZID=Europe/Berlin:20260720T190000
DTEND;TZID=Europe/Berlin:20260720T210000
DTSTAMP:20260421T162820
CREATED:20260101T150630Z
LAST-MODIFIED:20260101T150632Z
UID:10002654-1784574000-1784581200@www.martini-gadderbaum.de
SUMMARY:Tischtennisgruppe
DESCRIPTION:
URL:https://www.martini-gadderbaum.de/veranstaltung/tischtennisgruppe-2/2026-07-20/
LOCATION:Großer Saal
END:VEVENT
BEGIN:VEVENT
DTSTART;TZID=Europe/Berlin:20260721T093000
DTEND;TZID=Europe/Berlin:20260721T110000
DTSTAMP:20260421T162820
CREATED:20260101T145226Z
LAST-MODIFIED:20260101T145228Z
UID:10002445-1784626200-1784631600@www.martini-gadderbaum.de
SUMMARY:Tischtennis für Senior*innen
DESCRIPTION:
URL:https://www.martini-gadderbaum.de/veranstaltung/tischtennis-fuer-seniorinnen-2/2026-07-21/
LOCATION:Großer Saal
END:VEVENT
BEGIN:VEVENT
DTSTART;TZID=Europe/Berlin:20260721T100000
DTEND;TZID=Europe/Berlin:20260721T120000
DTSTAMP:20260421T162820
CREATED:20260101T145600Z
LAST-MODIFIED:20260101T145658Z
UID:10002498-1784628000-1784635200@www.martini-gadderbaum.de
SUMMARY:Mini-Monster-Krabbelgruppe
DESCRIPTION:
URL:https://www.martini-gadderbaum.de/veranstaltung/mini-monster-krabbelgruppe-6/2026-07-21/
LOCATION:MEC
END:VEVENT
BEGIN:VEVENT
DTSTART;TZID=Europe/Berlin:20260722T193000
DTEND;TZID=Europe/Berlin:20260722T210000
DTSTAMP:20260421T162820
CREATED:20260101T150044Z
LAST-MODIFIED:20260101T150045Z
UID:10002551-1784748600-1784754000@www.martini-gadderbaum.de
SUMMARY:Blockflötenensemble
DESCRIPTION:
URL:https://www.martini-gadderbaum.de/veranstaltung/blockfloetenensemble-2/2026-07-22/
LOCATION:MEC
END:VEVENT
BEGIN:VEVENT
DTSTART;TZID=Europe/Berlin:20260726T103000
DTEND;TZID=Europe/Berlin:20260726T113000
DTSTAMP:20260421T162820
CREATED:20251226T085456Z
LAST-MODIFIED:20251226T085626Z
UID:10002119-1785061800-1785065400@www.martini-gadderbaum.de
SUMMARY:Gottesdienst
DESCRIPTION:
URL:https://www.martini-gadderbaum.de/veranstaltung/gottesdienst-56/2026-07-26/
LOCATION:Stephanuskirche\, Pellaweg 4
END:VEVENT
BEGIN:VEVENT
DTSTART;TZID=Europe/Berlin:20260726T113000
DTEND;TZID=Europe/Berlin:20260726T123000
DTSTAMP:20260421T162820
CREATED:20251226T085821Z
LAST-MODIFIED:20251226T090012Z
UID:10002170-1785065400-1785069000@www.martini-gadderbaum.de
SUMMARY:Kirchcafé
DESCRIPTION:
URL:https://www.martini-gadderbaum.de/veranstaltung/kirchcafe-7/2026-07-26/
LOCATION:Stephanuskirche\, Pellaweg 4
END:VEVENT
BEGIN:VEVENT
DTSTART;TZID=Europe/Berlin:20260727T190000
DTEND;TZID=Europe/Berlin:20260727T210000
DTSTAMP:20260421T162820
CREATED:20260101T150630Z
LAST-MODIFIED:20260101T150632Z
UID:10002655-1785178800-1785186000@www.martini-gadderbaum.de
SUMMARY:Tischtennisgruppe
DESCRIPTION:
URL:https://www.martini-gadderbaum.de/veranstaltung/tischtennisgruppe-2/2026-07-27/
LOCATION:Großer Saal
END:VEVENT
BEGIN:VEVENT
DTSTART;TZID=Europe/Berlin:20260728T093000
DTEND;TZID=Europe/Berlin:20260728T110000
DTSTAMP:20260421T162820
CREATED:20260101T145226Z
LAST-MODIFIED:20260101T145228Z
UID:10002446-1785231000-1785236400@www.martini-gadderbaum.de
SUMMARY:Tischtennis für Senior*innen
DESCRIPTION:
URL:https://www.martini-gadderbaum.de/veranstaltung/tischtennis-fuer-seniorinnen-2/2026-07-28/
LOCATION:Großer Saal
END:VEVENT
BEGIN:VEVENT
DTSTART;TZID=Europe/Berlin:20260728T100000
DTEND;TZID=Europe/Berlin:20260728T120000
DTSTAMP:20260421T162820
CREATED:20260101T145600Z
LAST-MODIFIED:20260101T145658Z
UID:10002499-1785232800-1785240000@www.martini-gadderbaum.de
SUMMARY:Mini-Monster-Krabbelgruppe
DESCRIPTION:
URL:https://www.martini-gadderbaum.de/veranstaltung/mini-monster-krabbelgruppe-6/2026-07-28/
LOCATION:MEC
END:VEVENT
BEGIN:VEVENT
DTSTART;TZID=Europe/Berlin:20260728T180000
DTEND;TZID=Europe/Berlin:20260728T200000
DTSTAMP:20260421T162820
CREATED:20260101T153931Z
LAST-MODIFIED:20260101T153933Z
UID:10002723-1785261600-1785268800@www.martini-gadderbaum.de
SUMMARY:ZWAR-Initiative | Kreatives Singen
DESCRIPTION:
URL:https://www.martini-gadderbaum.de/veranstaltung/zwar-initiative-7/2026-07-28/
LOCATION:MEC
END:VEVENT
BEGIN:VEVENT
DTSTART;TZID=Europe/Berlin:20260728T193000
DTEND;TZID=Europe/Berlin:20260728T210000
DTSTAMP:20260421T162820
CREATED:20260101T151022Z
LAST-MODIFIED:20260101T152008Z
UID:10002693-1785267000-1785272400@www.martini-gadderbaum.de
SUMMARY:Martini im Gespräch
DESCRIPTION:
URL:https://www.martini-gadderbaum.de/veranstaltung/martini-im-gespraech-2/2026-07-28/
LOCATION:Wintergarten
END:VEVENT
BEGIN:VEVENT
DTSTART;TZID=Europe/Berlin:20260729T193000
DTEND;TZID=Europe/Berlin:20260729T210000
DTSTAMP:20260421T162820
CREATED:20260101T150044Z
LAST-MODIFIED:20260101T150045Z
UID:10002552-1785353400-1785358800@www.martini-gadderbaum.de
SUMMARY:Blockflötenensemble
DESCRIPTION:
URL:https://www.martini-gadderbaum.de/veranstaltung/blockfloetenensemble-2/2026-07-29/
LOCATION:MEC
END:VEVENT
END:VCALENDAR