BEGIN:VCALENDAR
VERSION:2.0
PRODID:-//Martini Kirchengemeinde Bielefeld Gadderbaum - ECPv6.15.17.1//NONSGML v1.0//EN
CALSCALE:GREGORIAN
METHOD:PUBLISH
X-ORIGINAL-URL:https://www.martini-gadderbaum.de
X-WR-CALDESC:Veranstaltungen für Martini Kirchengemeinde Bielefeld Gadderbaum
REFRESH-INTERVAL;VALUE=DURATION:PT1H
X-Robots-Tag:noindex
X-PUBLISHED-TTL:PT1H
BEGIN:VTIMEZONE
TZID:Europe/Berlin
BEGIN:DAYLIGHT
TZOFFSETFROM:+0100
TZOFFSETTO:+0200
TZNAME:CEST
DTSTART:20250330T010000
END:DAYLIGHT
BEGIN:STANDARD
TZOFFSETFROM:+0200
TZOFFSETTO:+0100
TZNAME:CET
DTSTART:20251026T010000
END:STANDARD
BEGIN:DAYLIGHT
TZOFFSETFROM:+0100
TZOFFSETTO:+0200
TZNAME:CEST
DTSTART:20260329T010000
END:DAYLIGHT
BEGIN:STANDARD
TZOFFSETFROM:+0200
TZOFFSETTO:+0100
TZNAME:CET
DTSTART:20261025T010000
END:STANDARD
BEGIN:DAYLIGHT
TZOFFSETFROM:+0100
TZOFFSETTO:+0200
TZNAME:CEST
DTSTART:20270328T010000
END:DAYLIGHT
BEGIN:STANDARD
TZOFFSETFROM:+0200
TZOFFSETTO:+0100
TZNAME:CET
DTSTART:20271031T010000
END:STANDARD
END:VTIMEZONE
BEGIN:VEVENT
DTSTART;TZID=Europe/Berlin:20260502T100000
DTEND;TZID=Europe/Berlin:20260502T133000
DTSTAMP:20260421T132358
CREATED:20260101T162827Z
LAST-MODIFIED:20260101T162833Z
UID:10002811-1777716000-1777728600@www.martini-gadderbaum.de
SUMMARY:NaWuMi-Treffen
DESCRIPTION:
URL:https://www.martini-gadderbaum.de/veranstaltung/nawumi-treffen-5/
LOCATION:MEC
END:VEVENT
BEGIN:VEVENT
DTSTART;TZID=Europe/Berlin:20260503T103000
DTEND;TZID=Europe/Berlin:20260503T113000
DTSTAMP:20260421T132358
CREATED:20251229T092823Z
LAST-MODIFIED:20260330T085648Z
UID:10002107-1777804200-1777807800@www.martini-gadderbaum.de
SUMMARY:Gottesdienst mit Pfarrer Johannes Schildmann (Abendmahl)
DESCRIPTION:
URL:https://www.martini-gadderbaum.de/veranstaltung/gottesdienst-73/
LOCATION:Stephanuskirche\, Pellaweg 4
END:VEVENT
BEGIN:VEVENT
DTSTART;TZID=Europe/Berlin:20260503T113000
DTEND;TZID=Europe/Berlin:20260503T123000
DTSTAMP:20260421T132358
CREATED:20251229T092905Z
LAST-MODIFIED:20251229T092907Z
UID:10002158-1777807800-1777811400@www.martini-gadderbaum.de
SUMMARY:Musikalisches Kirchcafé
DESCRIPTION:
URL:https://www.martini-gadderbaum.de/veranstaltung/kirchcafe-11/
LOCATION:Stephanuskirche\, Pellaweg 4
END:VEVENT
BEGIN:VEVENT
DTSTART;TZID=Europe/Berlin:20260504T190000
DTEND;TZID=Europe/Berlin:20260504T210000
DTSTAMP:20260421T132358
CREATED:20260101T150630Z
LAST-MODIFIED:20260101T150632Z
UID:10002643-1777921200-1777928400@www.martini-gadderbaum.de
SUMMARY:Tischtennisgruppe
DESCRIPTION:
URL:https://www.martini-gadderbaum.de/veranstaltung/tischtennisgruppe-2/2026-05-04/
LOCATION:Großer Saal
END:VEVENT
BEGIN:VEVENT
DTSTART;TZID=Europe/Berlin:20260505T093000
DTEND;TZID=Europe/Berlin:20260505T110000
DTSTAMP:20260421T132358
CREATED:20260101T145226Z
LAST-MODIFIED:20260101T145228Z
UID:10002434-1777973400-1777978800@www.martini-gadderbaum.de
SUMMARY:Tischtennis für Senior*innen
DESCRIPTION:
URL:https://www.martini-gadderbaum.de/veranstaltung/tischtennis-fuer-seniorinnen-2/2026-05-05/
LOCATION:Großer Saal
END:VEVENT
BEGIN:VEVENT
DTSTART;TZID=Europe/Berlin:20260505T100000
DTEND;TZID=Europe/Berlin:20260505T120000
DTSTAMP:20260421T132358
CREATED:20260101T145600Z
LAST-MODIFIED:20260101T145658Z
UID:10002487-1777975200-1777982400@www.martini-gadderbaum.de
SUMMARY:Mini-Monster-Krabbelgruppe
DESCRIPTION:
URL:https://www.martini-gadderbaum.de/veranstaltung/mini-monster-krabbelgruppe-6/2026-05-05/
LOCATION:MEC
END:VEVENT
BEGIN:VEVENT
DTSTART;TZID=Europe/Berlin:20260505T180000
DTEND;TZID=Europe/Berlin:20260505T200000
DTSTAMP:20260421T132358
CREATED:20260101T153931Z
LAST-MODIFIED:20260101T153933Z
UID:10002717-1778004000-1778011200@www.martini-gadderbaum.de
SUMMARY:ZWAR-Initiative | Kreatives Singen
DESCRIPTION:
URL:https://www.martini-gadderbaum.de/veranstaltung/zwar-initiative-7/2026-05-05/
LOCATION:MEC
END:VEVENT
BEGIN:VEVENT
DTSTART;TZID=Europe/Berlin:20260506T153000
DTEND;TZID=Europe/Berlin:20260506T170000
DTSTAMP:20260421T132358
CREATED:20260101T163134Z
LAST-MODIFIED:20260101T163136Z
UID:10002815-1778081400-1778086800@www.martini-gadderbaum.de
SUMMARY:Vortreffen Senior*innenfreizeit
DESCRIPTION:
URL:https://www.martini-gadderbaum.de/veranstaltung/vortreffen-seniorinnenfreizeit/
LOCATION:MEC
END:VEVENT
BEGIN:VEVENT
DTSTART;TZID=Europe/Berlin:20260506T181500
DTEND;TZID=Europe/Berlin:20260506T200000
DTSTAMP:20260421T132358
CREATED:20260203T165624Z
LAST-MODIFIED:20260203T165722Z
UID:10002857-1778091300-1778097600@www.martini-gadderbaum.de
SUMMARY:Israelische Tänze
DESCRIPTION:
URL:https://www.martini-gadderbaum.de/veranstaltung/israelische-taenze-9/
LOCATION:Großer Saal
END:VEVENT
BEGIN:VEVENT
DTSTART;TZID=Europe/Berlin:20260506T193000
DTEND;TZID=Europe/Berlin:20260506T210000
DTSTAMP:20260421T132358
CREATED:20260101T150044Z
LAST-MODIFIED:20260101T150045Z
UID:10002540-1778095800-1778101200@www.martini-gadderbaum.de
SUMMARY:Blockflötenensemble
DESCRIPTION:
URL:https://www.martini-gadderbaum.de/veranstaltung/blockfloetenensemble-2/2026-05-06/
LOCATION:MEC
END:VEVENT
BEGIN:VEVENT
DTSTART;TZID=Europe/Berlin:20260510T103000
DTEND;TZID=Europe/Berlin:20260510T113000
DTSTAMP:20260421T132358
CREATED:20251229T093346Z
LAST-MODIFIED:20251229T093347Z
UID:10002108-1778409000-1778412600@www.martini-gadderbaum.de
SUMMARY:Gottesdienst mit Marlene Crüsemann
DESCRIPTION:
URL:https://www.martini-gadderbaum.de/veranstaltung/gottesdienst-74/
LOCATION:Stephanuskirche\, Pellaweg 4
END:VEVENT
BEGIN:VEVENT
DTSTART;TZID=Europe/Berlin:20260510T103000
DTEND;TZID=Europe/Berlin:20260510T113000
DTSTAMP:20260421T132358
CREATED:20251229T093509Z
LAST-MODIFIED:20251229T093512Z
UID:10002414-1778409000-1778412600@www.martini-gadderbaum.de
SUMMARY:Gottesdienst zur Konfirmation mit Pfarrerin Susanne Stöcker
DESCRIPTION:
URL:https://www.martini-gadderbaum.de/veranstaltung/gottesdienst-zur-konfirmation-mit-pfarrerin-susanne-stoecker-2/
LOCATION:Altstädter Nicolai-Kirche
END:VEVENT
BEGIN:VEVENT
DTSTART;TZID=Europe/Berlin:20260510T113000
DTEND;TZID=Europe/Berlin:20260510T123000
DTSTAMP:20260421T132358
CREATED:20251226T085821Z
LAST-MODIFIED:20251226T090012Z
UID:10002159-1778412600-1778416200@www.martini-gadderbaum.de
SUMMARY:Kirchcafé
DESCRIPTION:
URL:https://www.martini-gadderbaum.de/veranstaltung/kirchcafe-7/2026-05-10/
LOCATION:Stephanuskirche\, Pellaweg 4
END:VEVENT
BEGIN:VEVENT
DTSTART;TZID=Europe/Berlin:20260511T190000
DTEND;TZID=Europe/Berlin:20260511T210000
DTSTAMP:20260421T132358
CREATED:20260101T150630Z
LAST-MODIFIED:20260101T150632Z
UID:10002644-1778526000-1778533200@www.martini-gadderbaum.de
SUMMARY:Tischtennisgruppe
DESCRIPTION:
URL:https://www.martini-gadderbaum.de/veranstaltung/tischtennisgruppe-2/2026-05-11/
LOCATION:Großer Saal
END:VEVENT
BEGIN:VEVENT
DTSTART;TZID=Europe/Berlin:20260512T093000
DTEND;TZID=Europe/Berlin:20260512T110000
DTSTAMP:20260421T132358
CREATED:20260101T145226Z
LAST-MODIFIED:20260101T145228Z
UID:10002435-1778578200-1778583600@www.martini-gadderbaum.de
SUMMARY:Tischtennis für Senior*innen
DESCRIPTION:
URL:https://www.martini-gadderbaum.de/veranstaltung/tischtennis-fuer-seniorinnen-2/2026-05-12/
LOCATION:Großer Saal
END:VEVENT
BEGIN:VEVENT
DTSTART;TZID=Europe/Berlin:20260512T100000
DTEND;TZID=Europe/Berlin:20260512T120000
DTSTAMP:20260421T132358
CREATED:20260101T145600Z
LAST-MODIFIED:20260101T145658Z
UID:10002488-1778580000-1778587200@www.martini-gadderbaum.de
SUMMARY:Mini-Monster-Krabbelgruppe
DESCRIPTION:
URL:https://www.martini-gadderbaum.de/veranstaltung/mini-monster-krabbelgruppe-6/2026-05-12/
LOCATION:MEC
END:VEVENT
BEGIN:VEVENT
DTSTART;TZID=Europe/Berlin:20260512T153000
DTEND;TZID=Europe/Berlin:20260512T163000
DTSTAMP:20260421T132358
CREATED:20251229T093632Z
LAST-MODIFIED:20251229T093634Z
UID:10002415-1778599800-1778603400@www.martini-gadderbaum.de
SUMMARY:Gottesdienst mit Pastor Bernward Wolf
DESCRIPTION:
URL:https://www.martini-gadderbaum.de/veranstaltung/gottesdienst-mit-pastor-bernward-wolf-4/
LOCATION:St. Pius\, Piusweg 3
END:VEVENT
BEGIN:VEVENT
DTSTART;TZID=Europe/Berlin:20260512T193000
DTEND;TZID=Europe/Berlin:20260512T210000
DTSTAMP:20260421T132358
CREATED:20260101T163314Z
LAST-MODIFIED:20260101T163316Z
UID:10002816-1778614200-1778619600@www.martini-gadderbaum.de
SUMMARY:Martini im Gespräch
DESCRIPTION:
URL:https://www.martini-gadderbaum.de/veranstaltung/martini-im-gespraech-4/
LOCATION:Wintergarten
END:VEVENT
BEGIN:VEVENT
DTSTART;TZID=Europe/Berlin:20260513T193000
DTEND;TZID=Europe/Berlin:20260513T210000
DTSTAMP:20260421T132358
CREATED:20260101T150044Z
LAST-MODIFIED:20260101T150045Z
UID:10002541-1778700600-1778706000@www.martini-gadderbaum.de
SUMMARY:Blockflötenensemble
DESCRIPTION:
URL:https://www.martini-gadderbaum.de/veranstaltung/blockfloetenensemble-2/2026-05-13/
LOCATION:MEC
END:VEVENT
BEGIN:VEVENT
DTSTART;TZID=Europe/Berlin:20260514T103000
DTEND;TZID=Europe/Berlin:20260514T113000
DTSTAMP:20260421T132358
CREATED:20251229T093904Z
LAST-MODIFIED:20251229T093906Z
UID:10002416-1778754600-1778758200@www.martini-gadderbaum.de
SUMMARY:Gottesdienst an Christi Himmelfahrt (Open-Air)
DESCRIPTION:
URL:https://www.martini-gadderbaum.de/veranstaltung/gottesdienst-an-christi-himmelfahrt-open-air/
LOCATION:Alter Markt Bielefeld
END:VEVENT
BEGIN:VEVENT
DTSTART;TZID=Europe/Berlin:20260517T103000
DTEND;TZID=Europe/Berlin:20260517T113000
DTSTAMP:20260421T132358
CREATED:20251229T094332Z
LAST-MODIFIED:20251229T094333Z
UID:10002109-1779013800-1779017400@www.martini-gadderbaum.de
SUMMARY:Gottesdienst mit Pfarrerin Susanne Stöcker
DESCRIPTION:
URL:https://www.martini-gadderbaum.de/veranstaltung/gottesdienst-76/
LOCATION:Stephanuskirche\, Pellaweg 4
END:VEVENT
BEGIN:VEVENT
DTSTART;TZID=Europe/Berlin:20260517T113000
DTEND;TZID=Europe/Berlin:20260517T123000
DTSTAMP:20260421T132358
CREATED:20251229T094439Z
LAST-MODIFIED:20251229T094440Z
UID:10002160-1779017400-1779021000@www.martini-gadderbaum.de
SUMMARY:Gemeindeversammlung mit Kirchcafé
DESCRIPTION:
URL:https://www.martini-gadderbaum.de/veranstaltung/kirchcafe-12/
LOCATION:Stephanuskirche\, Pellaweg 4
END:VEVENT
BEGIN:VEVENT
DTSTART;TZID=Europe/Berlin:20260518T190000
DTEND;TZID=Europe/Berlin:20260518T210000
DTSTAMP:20260421T132358
CREATED:20260101T150630Z
LAST-MODIFIED:20260101T150632Z
UID:10002645-1779130800-1779138000@www.martini-gadderbaum.de
SUMMARY:Tischtennisgruppe
DESCRIPTION:
URL:https://www.martini-gadderbaum.de/veranstaltung/tischtennisgruppe-2/2026-05-18/
LOCATION:Großer Saal
END:VEVENT
BEGIN:VEVENT
DTSTART;TZID=Europe/Berlin:20260518T193000
DTEND;TZID=Europe/Berlin:20260518T210000
DTSTAMP:20260421T132358
CREATED:20260418T073849Z
LAST-MODIFIED:20260418T073851Z
UID:10002925-1779132600-1779138000@www.martini-gadderbaum.de
SUMMARY:KiBiz - Die Reform des NRW-Kita-Gesetzes im Gespräch mit den Bielefelder Landtagsabgeordneten Christina Kampmann und Tom Brüntrup
DESCRIPTION:
URL:https://www.martini-gadderbaum.de/veranstaltung/kibiz-die-reform-des-nrw-kita-gesetzes-im-gespraech-mit-den-bielefelder-landtagsabgeordneten-christina-kampmann-und-tom-bruentrup/
LOCATION:Großer Saal
END:VEVENT
BEGIN:VEVENT
DTSTART;TZID=Europe/Berlin:20260519T093000
DTEND;TZID=Europe/Berlin:20260519T110000
DTSTAMP:20260421T132358
CREATED:20260101T145226Z
LAST-MODIFIED:20260101T145228Z
UID:10002436-1779183000-1779188400@www.martini-gadderbaum.de
SUMMARY:Tischtennis für Senior*innen
DESCRIPTION:
URL:https://www.martini-gadderbaum.de/veranstaltung/tischtennis-fuer-seniorinnen-2/2026-05-19/
LOCATION:Großer Saal
END:VEVENT
BEGIN:VEVENT
DTSTART;TZID=Europe/Berlin:20260519T100000
DTEND;TZID=Europe/Berlin:20260519T120000
DTSTAMP:20260421T132358
CREATED:20260101T145600Z
LAST-MODIFIED:20260101T145658Z
UID:10002489-1779184800-1779192000@www.martini-gadderbaum.de
SUMMARY:Mini-Monster-Krabbelgruppe
DESCRIPTION:
URL:https://www.martini-gadderbaum.de/veranstaltung/mini-monster-krabbelgruppe-6/2026-05-19/
LOCATION:MEC
END:VEVENT
BEGIN:VEVENT
DTSTART;TZID=Europe/Berlin:20260519T180000
DTEND;TZID=Europe/Berlin:20260519T200000
DTSTAMP:20260421T132358
CREATED:20260101T153931Z
LAST-MODIFIED:20260101T153933Z
UID:10002718-1779213600-1779220800@www.martini-gadderbaum.de
SUMMARY:ZWAR-Initiative | Kreatives Singen
DESCRIPTION:
URL:https://www.martini-gadderbaum.de/veranstaltung/zwar-initiative-7/2026-05-19/
LOCATION:MEC
END:VEVENT
BEGIN:VEVENT
DTSTART;TZID=Europe/Berlin:20260520T193000
DTEND;TZID=Europe/Berlin:20260520T210000
DTSTAMP:20260421T132358
CREATED:20260101T150044Z
LAST-MODIFIED:20260101T150045Z
UID:10002542-1779305400-1779310800@www.martini-gadderbaum.de
SUMMARY:Blockflötenensemble
DESCRIPTION:
URL:https://www.martini-gadderbaum.de/veranstaltung/blockfloetenensemble-2/2026-05-20/
LOCATION:MEC
END:VEVENT
BEGIN:VEVENT
DTSTART;TZID=Europe/Berlin:20260521T093000
DTEND;TZID=Europe/Berlin:20260521T113000
DTSTAMP:20260421T132358
CREATED:20260129T153916Z
LAST-MODIFIED:20260129T153917Z
UID:10002849-1779355800-1779363000@www.martini-gadderbaum.de
SUMMARY:Martini-Frühstück
DESCRIPTION:
URL:https://www.martini-gadderbaum.de/veranstaltung/martini-fruehstueck-3/
LOCATION:MEC
END:VEVENT
BEGIN:VEVENT
DTSTART;TZID=Europe/Berlin:20260524T103000
DTEND;TZID=Europe/Berlin:20260524T113000
DTSTAMP:20260421T132358
CREATED:20251229T094243Z
LAST-MODIFIED:20251229T094244Z
UID:10002110-1779618600-1779622200@www.martini-gadderbaum.de
SUMMARY:Pfingst-Gottesdienst mit Prädikantin Melanie Brinkmann und Prädikant Michael Conty (Open-Air)
DESCRIPTION:Botanischer Garten Bielefeld
URL:https://www.martini-gadderbaum.de/veranstaltung/gottesdienst-75/
END:VEVENT
END:VCALENDAR