BEGIN:VCALENDAR
VERSION:2.0
PRODID:-//Martini Kirchengemeinde Bielefeld Gadderbaum - ECPv6.15.17.1//NONSGML v1.0//EN
CALSCALE:GREGORIAN
METHOD:PUBLISH
X-ORIGINAL-URL:https://www.martini-gadderbaum.de
X-WR-CALDESC:Veranstaltungen für Martini Kirchengemeinde Bielefeld Gadderbaum
REFRESH-INTERVAL;VALUE=DURATION:PT1H
X-Robots-Tag:noindex
X-PUBLISHED-TTL:PT1H
BEGIN:VTIMEZONE
TZID:Europe/Berlin
BEGIN:DAYLIGHT
TZOFFSETFROM:+0100
TZOFFSETTO:+0200
TZNAME:CEST
DTSTART:20240331T010000
END:DAYLIGHT
BEGIN:STANDARD
TZOFFSETFROM:+0200
TZOFFSETTO:+0100
TZNAME:CET
DTSTART:20241027T010000
END:STANDARD
BEGIN:DAYLIGHT
TZOFFSETFROM:+0100
TZOFFSETTO:+0200
TZNAME:CEST
DTSTART:20250330T010000
END:DAYLIGHT
BEGIN:STANDARD
TZOFFSETFROM:+0200
TZOFFSETTO:+0100
TZNAME:CET
DTSTART:20251026T010000
END:STANDARD
BEGIN:DAYLIGHT
TZOFFSETFROM:+0100
TZOFFSETTO:+0200
TZNAME:CEST
DTSTART:20260329T010000
END:DAYLIGHT
BEGIN:STANDARD
TZOFFSETFROM:+0200
TZOFFSETTO:+0100
TZNAME:CET
DTSTART:20261025T010000
END:STANDARD
END:VTIMEZONE
BEGIN:VEVENT
DTSTART;TZID=Europe/Berlin:20251101T000000
DTEND;TZID=Europe/Berlin:20251101T235959
DTSTAMP:20260421T194652
CREATED:20241223T160144Z
LAST-MODIFIED:20241223T160145Z
UID:10000980-1761955200-1762041599@www.martini-gadderbaum.de
SUMMARY:Allerheiligen
DESCRIPTION:
URL:https://www.martini-gadderbaum.de/veranstaltung/allerheiligen/
END:VEVENT
BEGIN:VEVENT
DTSTART;TZID=Europe/Berlin:20251102T103000
DTEND;TZID=Europe/Berlin:20251102T113000
DTSTAMP:20260421T194652
CREATED:20250721T081303Z
LAST-MODIFIED:20250721T081306Z
UID:10000839-1762079400-1762083000@www.martini-gadderbaum.de
SUMMARY:Gottesdienst mit Abendmahl und Pfarrer Johannes Schildmann
DESCRIPTION:
URL:https://www.martini-gadderbaum.de/veranstaltung/gottesdienst-47/
LOCATION:Stephanuskirche
END:VEVENT
BEGIN:VEVENT
DTSTART;TZID=Europe/Berlin:20251102T110000
DTEND;TZID=Europe/Berlin:20251102T113000
DTSTAMP:20260421T194652
CREATED:20241223T145538Z
LAST-MODIFIED:20241223T145539Z
UID:10000891-1762081200-1762083000@www.martini-gadderbaum.de
SUMMARY:Kindergottesdienst
DESCRIPTION:
URL:https://www.martini-gadderbaum.de/veranstaltung/kindergottesdienst/2025-11-02/
LOCATION:Stephanuskirche
END:VEVENT
BEGIN:VEVENT
DTSTART;TZID=Europe/Berlin:20251102T113000
DTEND;TZID=Europe/Berlin:20251102T123000
DTSTAMP:20260421T194652
CREATED:20241223T151013Z
LAST-MODIFIED:20241223T151015Z
UID:10000946-1762083000-1762086600@www.martini-gadderbaum.de
SUMMARY:Kirchcafé
DESCRIPTION:
URL:https://www.martini-gadderbaum.de/veranstaltung/kirchcafe-2/2025-11-02/
LOCATION:Großer Saal
END:VEVENT
BEGIN:VEVENT
DTSTART;TZID=Europe/Berlin:20251103T150000
DTEND;TZID=Europe/Berlin:20251103T170000
DTSTAMP:20260421T194652
CREATED:20250721T071422Z
LAST-MODIFIED:20250721T071423Z
UID:10001979-1762182000-1762189200@www.martini-gadderbaum.de
SUMMARY:Tischtennis
DESCRIPTION:
URL:https://www.martini-gadderbaum.de/veranstaltung/tischtennis-29/2025-11-03/
LOCATION:Großer Saal
END:VEVENT
BEGIN:VEVENT
DTSTART;TZID=Europe/Berlin:20251103T190000
DTEND;TZID=Europe/Berlin:20251103T210000
DTSTAMP:20260421T194652
CREATED:20241224T092506Z
LAST-MODIFIED:20241224T092507Z
UID:10001308-1762196400-1762203600@www.martini-gadderbaum.de
SUMMARY:Tischtennisgruppe
DESCRIPTION:
URL:https://www.martini-gadderbaum.de/veranstaltung/tischtennisgruppe-3/2025-11-03/
LOCATION:Großer Saal
END:VEVENT
BEGIN:VEVENT
DTSTART;TZID=Europe/Berlin:20251104T093000
DTEND;TZID=Europe/Berlin:20251104T113000
DTSTAMP:20260421T194652
CREATED:20241224T085321Z
LAST-MODIFIED:20241224T085537Z
UID:10001085-1762248600-1762255800@www.martini-gadderbaum.de
SUMMARY:Tischtennis für Senior*innen
DESCRIPTION:
URL:https://www.martini-gadderbaum.de/veranstaltung/tischtennis-fuer-seniorinnen/2025-11-04/
LOCATION:Großer Saal
END:VEVENT
BEGIN:VEVENT
DTSTART;TZID=Europe/Berlin:20251104T100000
DTEND;TZID=Europe/Berlin:20251104T120000
DTSTAMP:20260421T194652
CREATED:20241224T092841Z
LAST-MODIFIED:20241224T092842Z
UID:10001419-1762250400-1762257600@www.martini-gadderbaum.de
SUMMARY:Mini-Monster-Krabbelgruppe
DESCRIPTION:
URL:https://www.martini-gadderbaum.de/veranstaltung/mini-monster-krabbelgruppe-2/2025-11-04/
LOCATION:MEC
END:VEVENT
BEGIN:VEVENT
DTSTART;TZID=Europe/Berlin:20251105T120000
DTEND;TZID=Europe/Berlin:20251105T130000
DTSTAMP:20260421T194652
CREATED:20241224T085925Z
LAST-MODIFIED:20241224T085926Z
UID:10001136-1762344000-1762347600@www.martini-gadderbaum.de
SUMMARY:Martini-Mittagstisch
DESCRIPTION:
URL:https://www.martini-gadderbaum.de/veranstaltung/martini-mittagstisch-3/2025-11-05/
LOCATION:Bücherei
END:VEVENT
BEGIN:VEVENT
DTSTART;TZID=Europe/Berlin:20251105T181500
DTEND;TZID=Europe/Berlin:20251105T200000
DTSTAMP:20260421T194652
CREATED:20241224T093436Z
LAST-MODIFIED:20241224T093437Z
UID:10001481-1762366500-1762372800@www.martini-gadderbaum.de
SUMMARY:Israelische Tänze
DESCRIPTION:
URL:https://www.martini-gadderbaum.de/veranstaltung/israelische-taenze-23/2025-11-05/
LOCATION:Großer Saal
END:VEVENT
BEGIN:VEVENT
DTSTART;TZID=Europe/Berlin:20251105T193000
DTEND;TZID=Europe/Berlin:20251105T210000
DTSTAMP:20260421T194652
CREATED:20241224T090458Z
LAST-MODIFIED:20241224T090459Z
UID:10001189-1762371000-1762376400@www.martini-gadderbaum.de
SUMMARY:Blockflötenensemble
DESCRIPTION:
URL:https://www.martini-gadderbaum.de/veranstaltung/blockfloetenensemble/2025-11-05/
LOCATION:MEC
END:VEVENT
BEGIN:VEVENT
DTSTART;TZID=Europe/Berlin:20251106T180000
DTEND;TZID=Europe/Berlin:20251106T210000
DTSTAMP:20260421T194652
CREATED:20250721T071656Z
LAST-MODIFIED:20250721T071657Z
UID:10001990-1762452000-1762462800@www.martini-gadderbaum.de
SUMMARY:Zwar-Basisgruppe
DESCRIPTION:
URL:https://www.martini-gadderbaum.de/veranstaltung/zwar-basisgruppe-5/2025-11-06/
LOCATION:Bücherei
END:VEVENT
BEGIN:VEVENT
DTSTART;TZID=Europe/Berlin:20251109T103000
DTEND;TZID=Europe/Berlin:20251109T113000
DTSTAMP:20260421T194652
CREATED:20250721T081745Z
LAST-MODIFIED:20250721T081750Z
UID:10000840-1762684200-1762687800@www.martini-gadderbaum.de
SUMMARY:Gottesdienst mit Vikarin Ulrike La Gro
DESCRIPTION:
URL:https://www.martini-gadderbaum.de/veranstaltung/gottesdienst-48/
LOCATION:Stephanuskirche
END:VEVENT
BEGIN:VEVENT
DTSTART;TZID=Europe/Berlin:20251109T110000
DTEND;TZID=Europe/Berlin:20251109T113000
DTSTAMP:20260421T194652
CREATED:20241223T145538Z
LAST-MODIFIED:20241223T145539Z
UID:10000892-1762686000-1762687800@www.martini-gadderbaum.de
SUMMARY:Kindergottesdienst
DESCRIPTION:
URL:https://www.martini-gadderbaum.de/veranstaltung/kindergottesdienst/2025-11-09/
LOCATION:Stephanuskirche
END:VEVENT
BEGIN:VEVENT
DTSTART;TZID=Europe/Berlin:20251109T113000
DTEND;TZID=Europe/Berlin:20251109T123000
DTSTAMP:20260421T194652
CREATED:20241223T151013Z
LAST-MODIFIED:20241223T151015Z
UID:10000947-1762687800-1762691400@www.martini-gadderbaum.de
SUMMARY:Kirchcafé
DESCRIPTION:
URL:https://www.martini-gadderbaum.de/veranstaltung/kirchcafe-2/2025-11-09/
LOCATION:Großer Saal
END:VEVENT
BEGIN:VEVENT
DTSTART;TZID=Europe/Berlin:20251110T150000
DTEND;TZID=Europe/Berlin:20251110T170000
DTSTAMP:20260421T194652
CREATED:20250721T071422Z
LAST-MODIFIED:20250721T071423Z
UID:10001980-1762786800-1762794000@www.martini-gadderbaum.de
SUMMARY:Tischtennis
DESCRIPTION:
URL:https://www.martini-gadderbaum.de/veranstaltung/tischtennis-29/2025-11-10/
LOCATION:Großer Saal
END:VEVENT
BEGIN:VEVENT
DTSTART;TZID=Europe/Berlin:20251110T190000
DTEND;TZID=Europe/Berlin:20251110T210000
DTSTAMP:20260421T194652
CREATED:20241224T092506Z
LAST-MODIFIED:20241224T092507Z
UID:10001309-1762801200-1762808400@www.martini-gadderbaum.de
SUMMARY:Tischtennisgruppe
DESCRIPTION:
URL:https://www.martini-gadderbaum.de/veranstaltung/tischtennisgruppe-3/2025-11-10/
LOCATION:Großer Saal
END:VEVENT
BEGIN:VEVENT
DTSTART;TZID=Europe/Berlin:20251111T093000
DTEND;TZID=Europe/Berlin:20251111T113000
DTSTAMP:20260421T194652
CREATED:20241224T085321Z
LAST-MODIFIED:20241224T085537Z
UID:10001086-1762853400-1762860600@www.martini-gadderbaum.de
SUMMARY:Tischtennis für Senior*innen
DESCRIPTION:
URL:https://www.martini-gadderbaum.de/veranstaltung/tischtennis-fuer-seniorinnen/2025-11-11/
LOCATION:Großer Saal
END:VEVENT
BEGIN:VEVENT
DTSTART;TZID=Europe/Berlin:20251111T100000
DTEND;TZID=Europe/Berlin:20251111T120000
DTSTAMP:20260421T194652
CREATED:20241224T092841Z
LAST-MODIFIED:20241224T092842Z
UID:10001420-1762855200-1762862400@www.martini-gadderbaum.de
SUMMARY:Mini-Monster-Krabbelgruppe
DESCRIPTION:
URL:https://www.martini-gadderbaum.de/veranstaltung/mini-monster-krabbelgruppe-2/2025-11-11/
LOCATION:MEC
END:VEVENT
BEGIN:VEVENT
DTSTART;TZID=Europe/Berlin:20251111T180000
DTEND;TZID=Europe/Berlin:20251111T200000
DTSTAMP:20260421T194652
CREATED:20250721T072148Z
LAST-MODIFIED:20250721T072150Z
UID:10002053-1762884000-1762891200@www.martini-gadderbaum.de
SUMMARY:ZWAR | Kreatives Singen
DESCRIPTION:
URL:https://www.martini-gadderbaum.de/veranstaltung/zwar-kreatives-singen-3/2025-11-11/
LOCATION:MEC
END:VEVENT
BEGIN:VEVENT
DTSTART;TZID=Europe/Berlin:20251111T193000
DTEND;TZID=Europe/Berlin:20251111T210000
DTSTAMP:20260421T194652
CREATED:20250307T091558Z
LAST-MODIFIED:20250307T091608Z
UID:10001561-1762889400-1762894800@www.martini-gadderbaum.de
SUMMARY:Martini im Gespräch
DESCRIPTION:
URL:https://www.martini-gadderbaum.de/veranstaltung/martini-im-gespraech-12/2025-11-11/
LOCATION:Bücherei
END:VEVENT
BEGIN:VEVENT
DTSTART;TZID=Europe/Berlin:20251112T120000
DTEND;TZID=Europe/Berlin:20251112T130000
DTSTAMP:20260421T194652
CREATED:20241224T085925Z
LAST-MODIFIED:20241224T085926Z
UID:10001137-1762948800-1762952400@www.martini-gadderbaum.de
SUMMARY:Martini-Mittagstisch
DESCRIPTION:
URL:https://www.martini-gadderbaum.de/veranstaltung/martini-mittagstisch-3/2025-11-12/
LOCATION:Bücherei
END:VEVENT
BEGIN:VEVENT
DTSTART;TZID=Europe/Berlin:20251112T181500
DTEND;TZID=Europe/Berlin:20251112T200000
DTSTAMP:20260421T194652
CREATED:20241224T093436Z
LAST-MODIFIED:20241224T093437Z
UID:10001482-1762971300-1762977600@www.martini-gadderbaum.de
SUMMARY:Israelische Tänze
DESCRIPTION:
URL:https://www.martini-gadderbaum.de/veranstaltung/israelische-taenze-23/2025-11-12/
LOCATION:Großer Saal
END:VEVENT
BEGIN:VEVENT
DTSTART;TZID=Europe/Berlin:20251112T193000
DTEND;TZID=Europe/Berlin:20251112T210000
DTSTAMP:20260421T194652
CREATED:20241224T090458Z
LAST-MODIFIED:20241224T090459Z
UID:10001190-1762975800-1762981200@www.martini-gadderbaum.de
SUMMARY:Blockflötenensemble
DESCRIPTION:
URL:https://www.martini-gadderbaum.de/veranstaltung/blockfloetenensemble/2025-11-12/
LOCATION:MEC
END:VEVENT
BEGIN:VEVENT
DTSTART;TZID=Europe/Berlin:20251113T093000
DTEND;TZID=Europe/Berlin:20251113T113000
DTSTAMP:20260421T194652
CREATED:20250721T071918Z
LAST-MODIFIED:20250721T072436Z
UID:10001994-1763026200-1763033400@www.martini-gadderbaum.de
SUMMARY:Martini-Frühstück
DESCRIPTION:
URL:https://www.martini-gadderbaum.de/veranstaltung/martini-fruehstueck-2/2025-11-13/
LOCATION:MEC
END:VEVENT
BEGIN:VEVENT
DTSTART;TZID=Europe/Berlin:20251113T093000
DTEND;TZID=Europe/Berlin:20251113T113000
DTSTAMP:20260421T194652
CREATED:20260325T083114Z
LAST-MODIFIED:20260325T083133Z
UID:10002861-1763026200-1763033400@www.martini-gadderbaum.de
SUMMARY:Martini-Frühstück
DESCRIPTION:
URL:https://www.martini-gadderbaum.de/veranstaltung/martini-fruehstueck-4/2025-11-13/
LOCATION:MEC
END:VEVENT
BEGIN:VEVENT
DTSTART;TZID=Europe/Berlin:20251113T103000
DTEND;TZID=Europe/Berlin:20251113T113000
DTSTAMP:20260421T194652
CREATED:20250423T074514Z
LAST-MODIFIED:20250423T074535Z
UID:10001941-1763029800-1763033400@www.martini-gadderbaum.de
SUMMARY:Ökumenischer Gottesdienst A zum Gedenken an die Verstorbenen mit Pfarrer Achim Babel und Pastor Bernward Wolf
DESCRIPTION:
URL:https://www.martini-gadderbaum.de/veranstaltung/oekumenischer-gottesdienst-a-zum-gedenken-an-die-verstorbenen-mit-pfarrer-achim-babel-und-pastor-bernward-wolf/
LOCATION:St. Pius\, Piusweg 3
END:VEVENT
BEGIN:VEVENT
DTSTART;TZID=Europe/Berlin:20251116T103000
DTEND;TZID=Europe/Berlin:20251116T113000
DTSTAMP:20260421T194652
CREATED:20251012T123916Z
LAST-MODIFIED:20251012T123917Z
UID:10000841-1763289000-1763292600@www.martini-gadderbaum.de
SUMMARY:Gottesdienst mit Prädikantin Janina Förster
DESCRIPTION:
URL:https://www.martini-gadderbaum.de/veranstaltung/gottesdienst-49/
LOCATION:Stephanuskirche
END:VEVENT
BEGIN:VEVENT
DTSTART;TZID=Europe/Berlin:20251116T110000
DTEND;TZID=Europe/Berlin:20251116T113000
DTSTAMP:20260421T194652
CREATED:20241223T145538Z
LAST-MODIFIED:20241223T145539Z
UID:10000893-1763290800-1763292600@www.martini-gadderbaum.de
SUMMARY:Kindergottesdienst
DESCRIPTION:
URL:https://www.martini-gadderbaum.de/veranstaltung/kindergottesdienst/2025-11-16/
LOCATION:Stephanuskirche
END:VEVENT
BEGIN:VEVENT
DTSTART;TZID=Europe/Berlin:20251116T113000
DTEND;TZID=Europe/Berlin:20251116T123000
DTSTAMP:20260421T194652
CREATED:20241223T151013Z
LAST-MODIFIED:20241223T151015Z
UID:10000948-1763292600-1763296200@www.martini-gadderbaum.de
SUMMARY:Kirchcafé
DESCRIPTION:
URL:https://www.martini-gadderbaum.de/veranstaltung/kirchcafe-2/2025-11-16/
LOCATION:Großer Saal
END:VEVENT
END:VCALENDAR