BEGIN:VCALENDAR
VERSION:2.0
PRODID:-//Martini Kirchengemeinde Bielefeld Gadderbaum - ECPv6.15.17.1//NONSGML v1.0//EN
CALSCALE:GREGORIAN
METHOD:PUBLISH
X-ORIGINAL-URL:https://www.martini-gadderbaum.de
X-WR-CALDESC:Veranstaltungen für Martini Kirchengemeinde Bielefeld Gadderbaum
REFRESH-INTERVAL;VALUE=DURATION:PT1H
X-Robots-Tag:noindex
X-PUBLISHED-TTL:PT1H
BEGIN:VTIMEZONE
TZID:Europe/Berlin
BEGIN:DAYLIGHT
TZOFFSETFROM:+0100
TZOFFSETTO:+0200
TZNAME:CEST
DTSTART:20240331T010000
END:DAYLIGHT
BEGIN:STANDARD
TZOFFSETFROM:+0200
TZOFFSETTO:+0100
TZNAME:CET
DTSTART:20241027T010000
END:STANDARD
BEGIN:DAYLIGHT
TZOFFSETFROM:+0100
TZOFFSETTO:+0200
TZNAME:CEST
DTSTART:20250330T010000
END:DAYLIGHT
BEGIN:STANDARD
TZOFFSETFROM:+0200
TZOFFSETTO:+0100
TZNAME:CET
DTSTART:20251026T010000
END:STANDARD
BEGIN:DAYLIGHT
TZOFFSETFROM:+0100
TZOFFSETTO:+0200
TZNAME:CEST
DTSTART:20260329T010000
END:DAYLIGHT
BEGIN:STANDARD
TZOFFSETFROM:+0200
TZOFFSETTO:+0100
TZNAME:CET
DTSTART:20261025T010000
END:STANDARD
END:VTIMEZONE
BEGIN:VEVENT
DTSTART;TZID=Europe/Berlin:20250701T080000
DTEND;TZID=Europe/Berlin:20250703T170000
DTSTAMP:20260422T014133
CREATED:20250307T125152Z
LAST-MODIFIED:20250307T125153Z
UID:10001601-1751356800-1751562000@www.martini-gadderbaum.de
SUMMARY:Studio 3 - Seminar
DESCRIPTION:
URL:https://www.martini-gadderbaum.de/veranstaltung/studio-3-seminar-2/
LOCATION:Kleiner & Großer Saal\, Küche
END:VEVENT
BEGIN:VEVENT
DTSTART;TZID=Europe/Berlin:20250701T093000
DTEND;TZID=Europe/Berlin:20250701T113000
DTSTAMP:20260422T014133
CREATED:20241224T085321Z
LAST-MODIFIED:20241224T085537Z
UID:10001067-1751362200-1751369400@www.martini-gadderbaum.de
SUMMARY:Tischtennis für Senior*innen
DESCRIPTION:
URL:https://www.martini-gadderbaum.de/veranstaltung/tischtennis-fuer-seniorinnen/2025-07-01/
LOCATION:Großer Saal
END:VEVENT
BEGIN:VEVENT
DTSTART;TZID=Europe/Berlin:20250701T100000
DTEND;TZID=Europe/Berlin:20250701T120000
DTSTAMP:20260422T014133
CREATED:20241224T092841Z
LAST-MODIFIED:20241224T092842Z
UID:10001401-1751364000-1751371200@www.martini-gadderbaum.de
SUMMARY:Mini-Monster-Krabbelgruppe
DESCRIPTION:
URL:https://www.martini-gadderbaum.de/veranstaltung/mini-monster-krabbelgruppe-2/2025-07-01/
LOCATION:MEC
END:VEVENT
BEGIN:VEVENT
DTSTART;TZID=Europe/Berlin:20250701T180000
DTEND;TZID=Europe/Berlin:20250701T193000
DTSTAMP:20260422T014133
CREATED:20250307T125234Z
LAST-MODIFIED:20250307T125234Z
UID:10001602-1751392800-1751398200@www.martini-gadderbaum.de
SUMMARY:ZWAR Kreatives Singen
DESCRIPTION:
URL:https://www.martini-gadderbaum.de/veranstaltung/zwar-kreatives-singen-30/
LOCATION:MEC
END:VEVENT
BEGIN:VEVENT
DTSTART;TZID=Europe/Berlin:20250702T083000
DTEND;TZID=Europe/Berlin:20250703T123000
DTSTAMP:20260422T014133
CREATED:20250307T125433Z
LAST-MODIFIED:20250307T125434Z
UID:10001603-1751445000-1751545800@www.martini-gadderbaum.de
SUMMARY:FvB - Sexualkundeprojekt
DESCRIPTION:
URL:https://www.martini-gadderbaum.de/veranstaltung/fvb-sexualkundeprojekt/
LOCATION:Wintergarten und KiGo-Raum
END:VEVENT
BEGIN:VEVENT
DTSTART;TZID=Europe/Berlin:20250702T120000
DTEND;TZID=Europe/Berlin:20250702T130000
DTSTAMP:20260422T014133
CREATED:20241224T085925Z
LAST-MODIFIED:20241224T085926Z
UID:10001118-1751457600-1751461200@www.martini-gadderbaum.de
SUMMARY:Martini-Mittagstisch
DESCRIPTION:
URL:https://www.martini-gadderbaum.de/veranstaltung/martini-mittagstisch-3/2025-07-02/
LOCATION:Bücherei
END:VEVENT
BEGIN:VEVENT
DTSTART;TZID=Europe/Berlin:20250702T181500
DTEND;TZID=Europe/Berlin:20250702T200000
DTSTAMP:20260422T014133
CREATED:20241224T093436Z
LAST-MODIFIED:20241224T093437Z
UID:10001463-1751480100-1751486400@www.martini-gadderbaum.de
SUMMARY:Israelische Tänze
DESCRIPTION:
URL:https://www.martini-gadderbaum.de/veranstaltung/israelische-taenze-23/2025-07-02/
LOCATION:Großer Saal
END:VEVENT
BEGIN:VEVENT
DTSTART;TZID=Europe/Berlin:20250702T193000
DTEND;TZID=Europe/Berlin:20250702T210000
DTSTAMP:20260422T014133
CREATED:20241224T090458Z
LAST-MODIFIED:20241224T090459Z
UID:10001171-1751484600-1751490000@www.martini-gadderbaum.de
SUMMARY:Blockflötenensemble
DESCRIPTION:
URL:https://www.martini-gadderbaum.de/veranstaltung/blockfloetenensemble/2025-07-02/
LOCATION:MEC
END:VEVENT
BEGIN:VEVENT
DTSTART;TZID=Europe/Berlin:20250704T150000
DTEND;TZID=Europe/Berlin:20250704T210000
DTSTAMP:20260422T014133
CREATED:20250307T125603Z
LAST-MODIFIED:20250307T125646Z
UID:10001604-1751641200-1751662800@www.martini-gadderbaum.de
SUMMARY:Konfi-Anmeldeevent
DESCRIPTION:
URL:https://www.martini-gadderbaum.de/veranstaltung/konfi-anmeldeevent/
LOCATION:Stephanuskirche und ganzes Gemeindehaus
END:VEVENT
BEGIN:VEVENT
DTSTART;TZID=Europe/Berlin:20250706T103000
DTEND;TZID=Europe/Berlin:20250706T113000
DTSTAMP:20260422T014133
CREATED:20250307T080626Z
LAST-MODIFIED:20250307T080639Z
UID:10000822-1751797800-1751801400@www.martini-gadderbaum.de
SUMMARY:Gottesdienst mit Abendmahl mit Pfr'in Susanne Stöcker
DESCRIPTION:
URL:https://www.martini-gadderbaum.de/veranstaltung/gottesdienst-34/
LOCATION:Stephanuskirche
END:VEVENT
BEGIN:VEVENT
DTSTART;TZID=Europe/Berlin:20250706T110000
DTEND;TZID=Europe/Berlin:20250706T113000
DTSTAMP:20260422T014133
CREATED:20241223T145538Z
LAST-MODIFIED:20241223T145539Z
UID:10000874-1751799600-1751801400@www.martini-gadderbaum.de
SUMMARY:Kindergottesdienst
DESCRIPTION:
URL:https://www.martini-gadderbaum.de/veranstaltung/kindergottesdienst/2025-07-06/
LOCATION:Stephanuskirche
END:VEVENT
BEGIN:VEVENT
DTSTART;TZID=Europe/Berlin:20250706T113000
DTEND;TZID=Europe/Berlin:20250706T123000
DTSTAMP:20260422T014133
CREATED:20241223T151013Z
LAST-MODIFIED:20241223T151015Z
UID:10000929-1751801400-1751805000@www.martini-gadderbaum.de
SUMMARY:Kirchcafé
DESCRIPTION:
URL:https://www.martini-gadderbaum.de/veranstaltung/kirchcafe-2/2025-07-06/
LOCATION:Großer Saal
END:VEVENT
BEGIN:VEVENT
DTSTART;TZID=Europe/Berlin:20250707T150000
DTEND;TZID=Europe/Berlin:20250707T170000
DTSTAMP:20260422T014133
CREATED:20250307T125833Z
LAST-MODIFIED:20250307T125834Z
UID:10001605-1751900400-1751907600@www.martini-gadderbaum.de
SUMMARY:Tischtennis
DESCRIPTION:
URL:https://www.martini-gadderbaum.de/veranstaltung/tischtennis-20/
LOCATION:Großer Saal
END:VEVENT
BEGIN:VEVENT
DTSTART;TZID=Europe/Berlin:20250707T170000
DTEND;TZID=Europe/Berlin:20250707T190000
DTSTAMP:20260422T014133
CREATED:20250307T125910Z
LAST-MODIFIED:20250307T125911Z
UID:10001606-1751907600-1751914800@www.martini-gadderbaum.de
SUMMARY:Ex-CVJMler Treffen
DESCRIPTION:
URL:https://www.martini-gadderbaum.de/veranstaltung/ex-cvjmler-treffen-10/
LOCATION:Wintergarten
END:VEVENT
BEGIN:VEVENT
DTSTART;TZID=Europe/Berlin:20250707T190000
DTEND;TZID=Europe/Berlin:20250707T210000
DTSTAMP:20260422T014133
CREATED:20241224T092506Z
LAST-MODIFIED:20241224T092507Z
UID:10001291-1751914800-1751922000@www.martini-gadderbaum.de
SUMMARY:Tischtennisgruppe
DESCRIPTION:
URL:https://www.martini-gadderbaum.de/veranstaltung/tischtennisgruppe-3/2025-07-07/
LOCATION:Großer Saal
END:VEVENT
BEGIN:VEVENT
DTSTART;TZID=Europe/Berlin:20250708T093000
DTEND;TZID=Europe/Berlin:20250708T113000
DTSTAMP:20260422T014133
CREATED:20241224T085321Z
LAST-MODIFIED:20241224T085537Z
UID:10001068-1751967000-1751974200@www.martini-gadderbaum.de
SUMMARY:Tischtennis für Senior*innen
DESCRIPTION:
URL:https://www.martini-gadderbaum.de/veranstaltung/tischtennis-fuer-seniorinnen/2025-07-08/
LOCATION:Großer Saal
END:VEVENT
BEGIN:VEVENT
DTSTART;TZID=Europe/Berlin:20250708T093000
DTEND;TZID=Europe/Berlin:20250708T113000
DTSTAMP:20260422T014133
CREATED:20241224T092648Z
LAST-MODIFIED:20241224T092649Z
UID:10001322-1751967000-1751974200@www.martini-gadderbaum.de
SUMMARY:Martini-Frühstück
DESCRIPTION:
URL:https://www.martini-gadderbaum.de/veranstaltung/martini-fruehstueck-11/2025-07-08/
END:VEVENT
BEGIN:VEVENT
DTSTART;TZID=Europe/Berlin:20250708T100000
DTEND;TZID=Europe/Berlin:20250708T120000
DTSTAMP:20260422T014133
CREATED:20241224T092841Z
LAST-MODIFIED:20241224T092842Z
UID:10001402-1751968800-1751976000@www.martini-gadderbaum.de
SUMMARY:Mini-Monster-Krabbelgruppe
DESCRIPTION:
URL:https://www.martini-gadderbaum.de/veranstaltung/mini-monster-krabbelgruppe-2/2025-07-08/
LOCATION:MEC
END:VEVENT
BEGIN:VEVENT
DTSTART;TZID=Europe/Berlin:20250708T153000
DTEND;TZID=Europe/Berlin:20250708T163000
DTSTAMP:20260422T014133
CREATED:20241223T152757Z
LAST-MODIFIED:20241223T152758Z
UID:10000962-1751988600-1751992200@www.martini-gadderbaum.de
SUMMARY:Gottesdienst mit Abendmahl mit Pfarrer Thomas Gano
DESCRIPTION:
URL:https://www.martini-gadderbaum.de/veranstaltung/gottesdienst-mit-abendmahl-mit-pfarrer-thomas-gano-5/
LOCATION:St. Pius\, Piusweg 3
END:VEVENT
BEGIN:VEVENT
DTSTART;TZID=Europe/Berlin:20250708T193000
DTEND;TZID=Europe/Berlin:20250708T210000
DTSTAMP:20260422T014133
CREATED:20250307T091558Z
LAST-MODIFIED:20250307T091608Z
UID:10001557-1752003000-1752008400@www.martini-gadderbaum.de
SUMMARY:Martini im Gespräch
DESCRIPTION:
URL:https://www.martini-gadderbaum.de/veranstaltung/martini-im-gespraech-12/2025-07-08/
LOCATION:Bücherei
END:VEVENT
BEGIN:VEVENT
DTSTART;TZID=Europe/Berlin:20250709T120000
DTEND;TZID=Europe/Berlin:20250709T130000
DTSTAMP:20260422T014133
CREATED:20241224T085925Z
LAST-MODIFIED:20241224T085926Z
UID:10001119-1752062400-1752066000@www.martini-gadderbaum.de
SUMMARY:Martini-Mittagstisch
DESCRIPTION:
URL:https://www.martini-gadderbaum.de/veranstaltung/martini-mittagstisch-3/2025-07-09/
LOCATION:Bücherei
END:VEVENT
BEGIN:VEVENT
DTSTART;TZID=Europe/Berlin:20250709T181500
DTEND;TZID=Europe/Berlin:20250709T200000
DTSTAMP:20260422T014133
CREATED:20241224T093436Z
LAST-MODIFIED:20241224T093437Z
UID:10001464-1752084900-1752091200@www.martini-gadderbaum.de
SUMMARY:Israelische Tänze
DESCRIPTION:
URL:https://www.martini-gadderbaum.de/veranstaltung/israelische-taenze-23/2025-07-09/
LOCATION:Großer Saal
END:VEVENT
BEGIN:VEVENT
DTSTART;TZID=Europe/Berlin:20250709T193000
DTEND;TZID=Europe/Berlin:20250709T210000
DTSTAMP:20260422T014133
CREATED:20241224T090458Z
LAST-MODIFIED:20241224T090459Z
UID:10001172-1752089400-1752094800@www.martini-gadderbaum.de
SUMMARY:Blockflötenensemble
DESCRIPTION:
URL:https://www.martini-gadderbaum.de/veranstaltung/blockfloetenensemble/2025-07-09/
LOCATION:MEC
END:VEVENT
BEGIN:VEVENT
DTSTART;TZID=Europe/Berlin:20250709T193000
DTEND;TZID=Europe/Berlin:20250709T220000
DTSTAMP:20260422T014133
CREATED:20250318T081454Z
LAST-MODIFIED:20250318T081526Z
UID:10001618-1752089400-1752098400@www.martini-gadderbaum.de
SUMMARY:Presbyterium
DESCRIPTION:
URL:https://www.martini-gadderbaum.de/veranstaltung/presbyterium-19/
LOCATION:Wintergarten
END:VEVENT
BEGIN:VEVENT
DTSTART;TZID=Europe/Berlin:20250710T183000
DTEND;TZID=Europe/Berlin:20250710T210000
DTSTAMP:20260422T014133
CREATED:20250307T130111Z
LAST-MODIFIED:20250318T081605Z
UID:10001607-1752172200-1752181200@www.martini-gadderbaum.de
SUMMARY:ZWAR-Initiative
DESCRIPTION:
URL:https://www.martini-gadderbaum.de/veranstaltung/zwar-initiative-31/
LOCATION:Kleiner Saal
END:VEVENT
BEGIN:VEVENT
DTSTART;TZID=Europe/Berlin:20250713T103000
DTEND;TZID=Europe/Berlin:20250713T113000
DTSTAMP:20260422T014133
CREATED:20241223T145312Z
LAST-MODIFIED:20241223T145314Z
UID:10000823-1752402600-1752406200@www.martini-gadderbaum.de
SUMMARY:Gottesdienst
DESCRIPTION:
URL:https://www.martini-gadderbaum.de/veranstaltung/gottesdienst-6/2025-07-13/
LOCATION:Stephanuskirche
END:VEVENT
BEGIN:VEVENT
DTSTART;TZID=Europe/Berlin:20250713T113000
DTEND;TZID=Europe/Berlin:20250713T123000
DTSTAMP:20260422T014133
CREATED:20241223T151013Z
LAST-MODIFIED:20241223T151015Z
UID:10000930-1752406200-1752409800@www.martini-gadderbaum.de
SUMMARY:Kirchcafé
DESCRIPTION:
URL:https://www.martini-gadderbaum.de/veranstaltung/kirchcafe-2/2025-07-13/
LOCATION:Großer Saal
END:VEVENT
BEGIN:VEVENT
DTSTART;TZID=Europe/Berlin:20250714T080000
DTEND;TZID=Europe/Berlin:20250826T170000
DTSTAMP:20260422T014133
CREATED:20241223T154355Z
LAST-MODIFIED:20241223T154356Z
UID:10000968-1752480000-1756227600@www.martini-gadderbaum.de
SUMMARY:Sommerferien
DESCRIPTION:
URL:https://www.martini-gadderbaum.de/veranstaltung/sommerferien-2/
END:VEVENT
BEGIN:VEVENT
DTSTART;TZID=Europe/Berlin:20250714T150000
DTEND;TZID=Europe/Berlin:20250714T170000
DTSTAMP:20260422T014133
CREATED:20250307T130226Z
LAST-MODIFIED:20250307T130227Z
UID:10001608-1752505200-1752512400@www.martini-gadderbaum.de
SUMMARY:Tischtennis
DESCRIPTION:
URL:https://www.martini-gadderbaum.de/veranstaltung/tischtennis-21/
LOCATION:Großer Saal
END:VEVENT
BEGIN:VEVENT
DTSTART;TZID=Europe/Berlin:20250715T093000
DTEND;TZID=Europe/Berlin:20250715T113000
DTSTAMP:20260422T014133
CREATED:20241224T085321Z
LAST-MODIFIED:20241224T085537Z
UID:10001069-1752571800-1752579000@www.martini-gadderbaum.de
SUMMARY:Tischtennis für Senior*innen
DESCRIPTION:
URL:https://www.martini-gadderbaum.de/veranstaltung/tischtennis-fuer-seniorinnen/2025-07-15/
LOCATION:Großer Saal
END:VEVENT
END:VCALENDAR