BEGIN:VCALENDAR
VERSION:2.0
PRODID:-//Martini Kirchengemeinde Bielefeld Gadderbaum - ECPv6.15.17.1//NONSGML v1.0//EN
CALSCALE:GREGORIAN
METHOD:PUBLISH
X-WR-CALNAME:Martini Kirchengemeinde Bielefeld Gadderbaum
X-ORIGINAL-URL:https://www.martini-gadderbaum.de
X-WR-CALDESC:Veranstaltungen für Martini Kirchengemeinde Bielefeld Gadderbaum
REFRESH-INTERVAL;VALUE=DURATION:PT1H
X-Robots-Tag:noindex
X-PUBLISHED-TTL:PT1H
BEGIN:VTIMEZONE
TZID:Europe/Berlin
BEGIN:DAYLIGHT
TZOFFSETFROM:+0100
TZOFFSETTO:+0200
TZNAME:CEST
DTSTART:20240331T010000
END:DAYLIGHT
BEGIN:STANDARD
TZOFFSETFROM:+0200
TZOFFSETTO:+0100
TZNAME:CET
DTSTART:20241027T010000
END:STANDARD
BEGIN:DAYLIGHT
TZOFFSETFROM:+0100
TZOFFSETTO:+0200
TZNAME:CEST
DTSTART:20250330T010000
END:DAYLIGHT
BEGIN:STANDARD
TZOFFSETFROM:+0200
TZOFFSETTO:+0100
TZNAME:CET
DTSTART:20251026T010000
END:STANDARD
BEGIN:DAYLIGHT
TZOFFSETFROM:+0100
TZOFFSETTO:+0200
TZNAME:CEST
DTSTART:20260329T010000
END:DAYLIGHT
BEGIN:STANDARD
TZOFFSETFROM:+0200
TZOFFSETTO:+0100
TZNAME:CET
DTSTART:20261025T010000
END:STANDARD
END:VTIMEZONE
BEGIN:VEVENT
DTSTART;TZID=Europe/Berlin:20250601T103000
DTEND;TZID=Europe/Berlin:20250601T113000
DTSTAMP:20260422T030601
CREATED:20250224T165321Z
LAST-MODIFIED:20250224T165327Z
UID:10000817-1748773800-1748777400@www.martini-gadderbaum.de
SUMMARY:Gottesdienst mit Abendmahl mit Pfr'in Susanne Stöcker
DESCRIPTION:
URL:https://www.martini-gadderbaum.de/veranstaltung/gottesdienst-30/
LOCATION:Stephanuskirche
END:VEVENT
BEGIN:VEVENT
DTSTART;TZID=Europe/Berlin:20250601T110000
DTEND;TZID=Europe/Berlin:20250601T113000
DTSTAMP:20260422T030601
CREATED:20241223T145538Z
LAST-MODIFIED:20241223T145539Z
UID:10000869-1748775600-1748777400@www.martini-gadderbaum.de
SUMMARY:Kindergottesdienst
DESCRIPTION:
URL:https://www.martini-gadderbaum.de/veranstaltung/kindergottesdienst/2025-06-01/
LOCATION:Stephanuskirche
END:VEVENT
BEGIN:VEVENT
DTSTART;TZID=Europe/Berlin:20250601T113000
DTEND;TZID=Europe/Berlin:20250601T123000
DTSTAMP:20260422T030601
CREATED:20250307T075904Z
LAST-MODIFIED:20250307T075910Z
UID:10000924-1748777400-1748781000@www.martini-gadderbaum.de
SUMMARY:Gemeindeversammlung und Kirchcafé
DESCRIPTION:
URL:https://www.martini-gadderbaum.de/veranstaltung/kirchcafe-10/
LOCATION:Großer Saal
END:VEVENT
BEGIN:VEVENT
DTSTART;TZID=Europe/Berlin:20250602T150000
DTEND;TZID=Europe/Berlin:20250602T170000
DTSTAMP:20260422T030601
CREATED:20250307T123825Z
LAST-MODIFIED:20250307T123826Z
UID:10001593-1748876400-1748883600@www.martini-gadderbaum.de
SUMMARY:Tischtennis
DESCRIPTION:
URL:https://www.martini-gadderbaum.de/veranstaltung/tischtennis-16/
LOCATION:Großer Saal
END:VEVENT
BEGIN:VEVENT
DTSTART;TZID=Europe/Berlin:20250602T170000
DTEND;TZID=Europe/Berlin:20250602T190000
DTSTAMP:20260422T030601
CREATED:20250307T122308Z
LAST-MODIFIED:20250307T122309Z
UID:10001584-1748883600-1748890800@www.martini-gadderbaum.de
SUMMARY:Ex-CVJMler Treffen
DESCRIPTION:
URL:https://www.martini-gadderbaum.de/veranstaltung/ex-cvjmler-treffen-9/
LOCATION:Wintergarten
END:VEVENT
BEGIN:VEVENT
DTSTART;TZID=Europe/Berlin:20250602T190000
DTEND;TZID=Europe/Berlin:20250602T210000
DTSTAMP:20260422T030601
CREATED:20241224T092506Z
LAST-MODIFIED:20241224T092507Z
UID:10001286-1748890800-1748898000@www.martini-gadderbaum.de
SUMMARY:Tischtennisgruppe
DESCRIPTION:
URL:https://www.martini-gadderbaum.de/veranstaltung/tischtennisgruppe-3/2025-06-02/
LOCATION:Großer Saal
END:VEVENT
BEGIN:VEVENT
DTSTART;TZID=Europe/Berlin:20250603T093000
DTEND;TZID=Europe/Berlin:20250603T113000
DTSTAMP:20260422T030601
CREATED:20241224T085321Z
LAST-MODIFIED:20241224T085537Z
UID:10001063-1748943000-1748950200@www.martini-gadderbaum.de
SUMMARY:Tischtennis für Senior*innen
DESCRIPTION:
URL:https://www.martini-gadderbaum.de/veranstaltung/tischtennis-fuer-seniorinnen/2025-06-03/
LOCATION:Großer Saal
END:VEVENT
BEGIN:VEVENT
DTSTART;TZID=Europe/Berlin:20250603T100000
DTEND;TZID=Europe/Berlin:20250603T120000
DTSTAMP:20260422T030601
CREATED:20241224T092841Z
LAST-MODIFIED:20241224T092842Z
UID:10001397-1748944800-1748952000@www.martini-gadderbaum.de
SUMMARY:Mini-Monster-Krabbelgruppe
DESCRIPTION:
URL:https://www.martini-gadderbaum.de/veranstaltung/mini-monster-krabbelgruppe-2/2025-06-03/
LOCATION:MEC
END:VEVENT
BEGIN:VEVENT
DTSTART;TZID=Europe/Berlin:20250603T180000
DTEND;TZID=Europe/Berlin:20250603T193000
DTSTAMP:20260422T030601
CREATED:20250307T122427Z
LAST-MODIFIED:20250307T122428Z
UID:10001585-1748973600-1748979000@www.martini-gadderbaum.de
SUMMARY:ZWAR Kreatives Singen
DESCRIPTION:
URL:https://www.martini-gadderbaum.de/veranstaltung/zwar-kreatives-singen-24/
LOCATION:MEC
END:VEVENT
BEGIN:VEVENT
DTSTART;TZID=Europe/Berlin:20250604T120000
DTEND;TZID=Europe/Berlin:20250604T130000
DTSTAMP:20260422T030601
CREATED:20241224T085925Z
LAST-MODIFIED:20241224T085926Z
UID:10001114-1749038400-1749042000@www.martini-gadderbaum.de
SUMMARY:Martini-Mittagstisch
DESCRIPTION:
URL:https://www.martini-gadderbaum.de/veranstaltung/martini-mittagstisch-3/2025-06-04/
LOCATION:Bücherei
END:VEVENT
BEGIN:VEVENT
DTSTART;TZID=Europe/Berlin:20250604T181500
DTEND;TZID=Europe/Berlin:20250604T200000
DTSTAMP:20260422T030601
CREATED:20241224T093436Z
LAST-MODIFIED:20241224T093437Z
UID:10001459-1749060900-1749067200@www.martini-gadderbaum.de
SUMMARY:Israelische Tänze
DESCRIPTION:
URL:https://www.martini-gadderbaum.de/veranstaltung/israelische-taenze-23/2025-06-04/
LOCATION:Großer Saal
END:VEVENT
BEGIN:VEVENT
DTSTART;TZID=Europe/Berlin:20250604T193000
DTEND;TZID=Europe/Berlin:20250604T210000
DTSTAMP:20260422T030601
CREATED:20241224T090458Z
LAST-MODIFIED:20241224T090459Z
UID:10001167-1749065400-1749070800@www.martini-gadderbaum.de
SUMMARY:Blockflötenensemble
DESCRIPTION:
URL:https://www.martini-gadderbaum.de/veranstaltung/blockfloetenensemble/2025-06-04/
LOCATION:MEC
END:VEVENT
BEGIN:VEVENT
DTSTART;TZID=Europe/Berlin:20250606T170000
DTEND;TZID=Europe/Berlin:20250606T210000
DTSTAMP:20260422T030601
CREATED:20250307T123018Z
LAST-MODIFIED:20250307T123055Z
UID:10001590-1749229200-1749243600@www.martini-gadderbaum.de
SUMMARY:Nachtreffen Konfis
DESCRIPTION:
URL:https://www.martini-gadderbaum.de/veranstaltung/nachtreffen-konfis/
LOCATION:Großer Saal & MEC
END:VEVENT
BEGIN:VEVENT
DTSTART;TZID=Europe/Berlin:20250608T000000
DTEND;TZID=Europe/Berlin:20250608T235959
DTSTAMP:20260422T030601
CREATED:20241223T155828Z
LAST-MODIFIED:20241223T155829Z
UID:10000976-1749340800-1749427199@www.martini-gadderbaum.de
SUMMARY:Pfingstsonntag
DESCRIPTION:
URL:https://www.martini-gadderbaum.de/veranstaltung/pfingstsonntag/
END:VEVENT
BEGIN:VEVENT
DTSTART;TZID=Europe/Berlin:20250608T103000
DTEND;TZID=Europe/Berlin:20250608T113000
DTSTAMP:20260422T030601
CREATED:20241223T150212Z
LAST-MODIFIED:20250318T175742Z
UID:10000818-1749378600-1749382200@www.martini-gadderbaum.de
SUMMARY:Nachbarschaftsgottesdienst zu Pfingsten im Botanischen Garten mit Pfr'in Dr. Christel Weber und Diakonin Melanie Brinkmann
DESCRIPTION:
URL:https://www.martini-gadderbaum.de/veranstaltung/gottesdienst-8/
LOCATION:Botanischer Garten
END:VEVENT
BEGIN:VEVENT
DTSTART;TZID=Europe/Berlin:20250609T000000
DTEND;TZID=Europe/Berlin:20250609T235959
DTSTAMP:20260422T030601
CREATED:20241223T155900Z
LAST-MODIFIED:20241223T155900Z
UID:10000977-1749427200-1749513599@www.martini-gadderbaum.de
SUMMARY:Pfingstmontag
DESCRIPTION:
URL:https://www.martini-gadderbaum.de/veranstaltung/pfingstmontag/
END:VEVENT
BEGIN:VEVENT
DTSTART;TZID=Europe/Berlin:20250609T080000
DTEND;TZID=Europe/Berlin:20250610T170000
DTSTAMP:20260422T030601
CREATED:20241223T154307Z
LAST-MODIFIED:20241223T154939Z
UID:10000967-1749456000-1749574800@www.martini-gadderbaum.de
SUMMARY:Schulferien
DESCRIPTION:
URL:https://www.martini-gadderbaum.de/veranstaltung/schulferien-2/
END:VEVENT
BEGIN:VEVENT
DTSTART;TZID=Europe/Berlin:20250610T093000
DTEND;TZID=Europe/Berlin:20250610T113000
DTSTAMP:20260422T030601
CREATED:20241224T085321Z
LAST-MODIFIED:20241224T085537Z
UID:10001064-1749547800-1749555000@www.martini-gadderbaum.de
SUMMARY:Tischtennis für Senior*innen
DESCRIPTION:
URL:https://www.martini-gadderbaum.de/veranstaltung/tischtennis-fuer-seniorinnen/2025-06-10/
LOCATION:Großer Saal
END:VEVENT
BEGIN:VEVENT
DTSTART;TZID=Europe/Berlin:20250610T093000
DTEND;TZID=Europe/Berlin:20250610T113000
DTSTAMP:20260422T030601
CREATED:20241224T092648Z
LAST-MODIFIED:20241224T092649Z
UID:10001321-1749547800-1749555000@www.martini-gadderbaum.de
SUMMARY:Martini-Frühstück
DESCRIPTION:
URL:https://www.martini-gadderbaum.de/veranstaltung/martini-fruehstueck-11/2025-06-10/
END:VEVENT
BEGIN:VEVENT
DTSTART;TZID=Europe/Berlin:20250610T100000
DTEND;TZID=Europe/Berlin:20250610T120000
DTSTAMP:20260422T030601
CREATED:20241224T092841Z
LAST-MODIFIED:20241224T092842Z
UID:10001398-1749549600-1749556800@www.martini-gadderbaum.de
SUMMARY:Mini-Monster-Krabbelgruppe
DESCRIPTION:
URL:https://www.martini-gadderbaum.de/veranstaltung/mini-monster-krabbelgruppe-2/2025-06-10/
LOCATION:MEC
END:VEVENT
BEGIN:VEVENT
DTSTART;TZID=Europe/Berlin:20250610T193000
DTEND;TZID=Europe/Berlin:20250610T210000
DTSTAMP:20260422T030601
CREATED:20250307T091558Z
LAST-MODIFIED:20250307T091608Z
UID:10001556-1749583800-1749589200@www.martini-gadderbaum.de
SUMMARY:Martini im Gespräch
DESCRIPTION:
URL:https://www.martini-gadderbaum.de/veranstaltung/martini-im-gespraech-12/2025-06-10/
LOCATION:Bücherei
END:VEVENT
BEGIN:VEVENT
DTSTART;TZID=Europe/Berlin:20250611T120000
DTEND;TZID=Europe/Berlin:20250611T130000
DTSTAMP:20260422T030601
CREATED:20241224T085925Z
LAST-MODIFIED:20241224T085926Z
UID:10001115-1749643200-1749646800@www.martini-gadderbaum.de
SUMMARY:Martini-Mittagstisch
DESCRIPTION:
URL:https://www.martini-gadderbaum.de/veranstaltung/martini-mittagstisch-3/2025-06-11/
LOCATION:Bücherei
END:VEVENT
BEGIN:VEVENT
DTSTART;TZID=Europe/Berlin:20250611T170000
DTEND;TZID=Europe/Berlin:20250611T190000
DTSTAMP:20260422T030601
CREATED:20250321T075040Z
LAST-MODIFIED:20250321T075131Z
UID:10001675-1749661200-1749668400@www.martini-gadderbaum.de
SUMMARY:Steuerungsgruppe Region Mitte
DESCRIPTION:
URL:https://www.martini-gadderbaum.de/veranstaltung/steuerungsgruppe-region-mitte-2/
LOCATION:Kleiner Saal
END:VEVENT
BEGIN:VEVENT
DTSTART;TZID=Europe/Berlin:20250611T181500
DTEND;TZID=Europe/Berlin:20250611T200000
DTSTAMP:20260422T030601
CREATED:20241224T093436Z
LAST-MODIFIED:20241224T093437Z
UID:10001460-1749665700-1749672000@www.martini-gadderbaum.de
SUMMARY:Israelische Tänze
DESCRIPTION:
URL:https://www.martini-gadderbaum.de/veranstaltung/israelische-taenze-23/2025-06-11/
LOCATION:Großer Saal
END:VEVENT
BEGIN:VEVENT
DTSTART;TZID=Europe/Berlin:20250611T193000
DTEND;TZID=Europe/Berlin:20250611T210000
DTSTAMP:20260422T030601
CREATED:20241224T090458Z
LAST-MODIFIED:20241224T090459Z
UID:10001168-1749670200-1749675600@www.martini-gadderbaum.de
SUMMARY:Blockflötenensemble
DESCRIPTION:
URL:https://www.martini-gadderbaum.de/veranstaltung/blockfloetenensemble/2025-06-11/
LOCATION:MEC
END:VEVENT
BEGIN:VEVENT
DTSTART;TZID=Europe/Berlin:20250612T183000
DTEND;TZID=Europe/Berlin:20250612T210000
DTSTAMP:20260422T030601
CREATED:20250307T123352Z
LAST-MODIFIED:20250318T081014Z
UID:10001591-1749753000-1749762000@www.martini-gadderbaum.de
SUMMARY:ZWAR-Initiative
DESCRIPTION:
URL:https://www.martini-gadderbaum.de/veranstaltung/zwar-initiative-29/
LOCATION:Kleiner Saal
END:VEVENT
BEGIN:VEVENT
DTSTART;TZID=Europe/Berlin:20250614T090000
DTEND;TZID=Europe/Berlin:20250614T150000
DTSTAMP:20260422T030601
CREATED:20250318T080838Z
LAST-MODIFIED:20250318T080859Z
UID:10001616-1749891600-1749913200@www.martini-gadderbaum.de
SUMMARY:Tagung Andreas-Mohn-Stiftung
DESCRIPTION:
URL:https://www.martini-gadderbaum.de/veranstaltung/tagung-andreas-mohn-stiftung/
LOCATION:MEC
END:VEVENT
BEGIN:VEVENT
DTSTART;TZID=Europe/Berlin:20250615T103000
DTEND;TZID=Europe/Berlin:20250615T113000
DTSTAMP:20260422T030601
CREATED:20250307T080003Z
LAST-MODIFIED:20250307T080009Z
UID:10000819-1749983400-1749987000@www.martini-gadderbaum.de
SUMMARY:Gottesdienst mit Pfr'in Susanne Stöcker
DESCRIPTION:
URL:https://www.martini-gadderbaum.de/veranstaltung/gottesdienst-31/
LOCATION:Stephanuskirche
END:VEVENT
BEGIN:VEVENT
DTSTART;TZID=Europe/Berlin:20250615T110000
DTEND;TZID=Europe/Berlin:20250615T113000
DTSTAMP:20260422T030601
CREATED:20241223T145538Z
LAST-MODIFIED:20241223T145539Z
UID:10000871-1749985200-1749987000@www.martini-gadderbaum.de
SUMMARY:Kindergottesdienst
DESCRIPTION:
URL:https://www.martini-gadderbaum.de/veranstaltung/kindergottesdienst/2025-06-15/
LOCATION:Stephanuskirche
END:VEVENT
BEGIN:VEVENT
DTSTART;TZID=Europe/Berlin:20250615T113000
DTEND;TZID=Europe/Berlin:20250615T123000
DTSTAMP:20260422T030601
CREATED:20241223T151013Z
LAST-MODIFIED:20241223T151015Z
UID:10000926-1749987000-1749990600@www.martini-gadderbaum.de
SUMMARY:Kirchcafé
DESCRIPTION:
URL:https://www.martini-gadderbaum.de/veranstaltung/kirchcafe-2/2025-06-15/
LOCATION:Großer Saal
END:VEVENT
END:VCALENDAR