BEGIN:VCALENDAR
VERSION:2.0
PRODID:-//Martini Kirchengemeinde Bielefeld Gadderbaum - ECPv6.15.17.1//NONSGML v1.0//EN
CALSCALE:GREGORIAN
METHOD:PUBLISH
X-ORIGINAL-URL:https://www.martini-gadderbaum.de
X-WR-CALDESC:Veranstaltungen für Martini Kirchengemeinde Bielefeld Gadderbaum
REFRESH-INTERVAL;VALUE=DURATION:PT1H
X-Robots-Tag:noindex
X-PUBLISHED-TTL:PT1H
BEGIN:VTIMEZONE
TZID:Europe/Berlin
BEGIN:DAYLIGHT
TZOFFSETFROM:+0100
TZOFFSETTO:+0200
TZNAME:CEST
DTSTART:20250330T010000
END:DAYLIGHT
BEGIN:STANDARD
TZOFFSETFROM:+0200
TZOFFSETTO:+0100
TZNAME:CET
DTSTART:20251026T010000
END:STANDARD
BEGIN:DAYLIGHT
TZOFFSETFROM:+0100
TZOFFSETTO:+0200
TZNAME:CEST
DTSTART:20260329T010000
END:DAYLIGHT
BEGIN:STANDARD
TZOFFSETFROM:+0200
TZOFFSETTO:+0100
TZNAME:CET
DTSTART:20261025T010000
END:STANDARD
BEGIN:DAYLIGHT
TZOFFSETFROM:+0100
TZOFFSETTO:+0200
TZNAME:CEST
DTSTART:20270328T010000
END:DAYLIGHT
BEGIN:STANDARD
TZOFFSETFROM:+0200
TZOFFSETTO:+0100
TZNAME:CET
DTSTART:20271031T010000
END:STANDARD
END:VTIMEZONE
BEGIN:VEVENT
DTSTART;TZID=Europe/Berlin:20260330T080000
DTEND;TZID=Europe/Berlin:20260411T170000
DTSTAMP:20260421T132302
CREATED:20260101T161148Z
LAST-MODIFIED:20260101T161148Z
UID:10002803-1774857600-1775926800@www.martini-gadderbaum.de
SUMMARY:Osterferien NRW
DESCRIPTION:
URL:https://www.martini-gadderbaum.de/veranstaltung/osterferien-nrw/
END:VEVENT
BEGIN:VEVENT
DTSTART;TZID=Europe/Berlin:20260405T090000
DTEND;TZID=Europe/Berlin:20260405T103000
DTSTAMP:20260421T132302
CREATED:20251229T092157Z
LAST-MODIFIED:20251229T092159Z
UID:10002412-1775379600-1775385000@www.martini-gadderbaum.de
SUMMARY:Osterfrühstück
DESCRIPTION:
URL:https://www.martini-gadderbaum.de/veranstaltung/osterfruehstueck/
LOCATION:Großer Saal
END:VEVENT
BEGIN:VEVENT
DTSTART;TZID=Europe/Berlin:20260405T103000
DTEND;TZID=Europe/Berlin:20260405T113000
DTSTAMP:20260421T132302
CREATED:20251229T092047Z
LAST-MODIFIED:20251229T092049Z
UID:10002103-1775385000-1775388600@www.martini-gadderbaum.de
SUMMARY:Gottesdienst zu Ostern mit Pfarrerin Susanne Stöcker
DESCRIPTION:
URL:https://www.martini-gadderbaum.de/veranstaltung/gottesdienst-69/
LOCATION:Stephanuskirche\, Pellaweg 4
END:VEVENT
END:VCALENDAR