BEGIN:VCALENDAR
VERSION:2.0
PRODID:-//Martini Kirchengemeinde Bielefeld Gadderbaum - ECPv6.15.17.1//NONSGML v1.0//EN
CALSCALE:GREGORIAN
METHOD:PUBLISH
X-ORIGINAL-URL:https://www.martini-gadderbaum.de
X-WR-CALDESC:Veranstaltungen für Martini Kirchengemeinde Bielefeld Gadderbaum
REFRESH-INTERVAL;VALUE=DURATION:PT1H
X-Robots-Tag:noindex
X-PUBLISHED-TTL:PT1H
BEGIN:VTIMEZONE
TZID:Europe/Berlin
BEGIN:DAYLIGHT
TZOFFSETFROM:+0100
TZOFFSETTO:+0200
TZNAME:CEST
DTSTART:20250330T010000
END:DAYLIGHT
BEGIN:STANDARD
TZOFFSETFROM:+0200
TZOFFSETTO:+0100
TZNAME:CET
DTSTART:20251026T010000
END:STANDARD
BEGIN:DAYLIGHT
TZOFFSETFROM:+0100
TZOFFSETTO:+0200
TZNAME:CEST
DTSTART:20260329T010000
END:DAYLIGHT
BEGIN:STANDARD
TZOFFSETFROM:+0200
TZOFFSETTO:+0100
TZNAME:CET
DTSTART:20261025T010000
END:STANDARD
BEGIN:DAYLIGHT
TZOFFSETFROM:+0100
TZOFFSETTO:+0200
TZNAME:CEST
DTSTART:20270328T010000
END:DAYLIGHT
BEGIN:STANDARD
TZOFFSETFROM:+0200
TZOFFSETTO:+0100
TZNAME:CET
DTSTART:20271031T010000
END:STANDARD
END:VTIMEZONE
BEGIN:VEVENT
DTSTART;TZID=Europe/Berlin:20260323T080000
DTEND;TZID=Europe/Berlin:20260327T170000
DTSTAMP:20260421T162821
CREATED:20260101T160221Z
LAST-MODIFIED:20260101T160222Z
UID:10002801-1774252800-1774630800@www.martini-gadderbaum.de
SUMMARY:Seminar Autea
DESCRIPTION:
URL:https://www.martini-gadderbaum.de/veranstaltung/seminar-autea-6/
LOCATION:Kleiner & Großer Saal\, KiGo-Raum\, Küche
END:VEVENT
BEGIN:VEVENT
DTSTART;TZID=Europe/Berlin:20260324T093000
DTEND;TZID=Europe/Berlin:20260324T110000
DTSTAMP:20260421T162821
CREATED:20260101T145226Z
LAST-MODIFIED:20260101T145228Z
UID:10002428-1774344600-1774350000@www.martini-gadderbaum.de
SUMMARY:Tischtennis für Senior*innen
DESCRIPTION:
URL:https://www.martini-gadderbaum.de/veranstaltung/tischtennis-fuer-seniorinnen-2/2026-03-24/
LOCATION:Großer Saal
END:VEVENT
BEGIN:VEVENT
DTSTART;TZID=Europe/Berlin:20260324T100000
DTEND;TZID=Europe/Berlin:20260324T120000
DTSTAMP:20260421T162821
CREATED:20260101T145600Z
LAST-MODIFIED:20260101T145658Z
UID:10002481-1774346400-1774353600@www.martini-gadderbaum.de
SUMMARY:Mini-Monster-Krabbelgruppe
DESCRIPTION:
URL:https://www.martini-gadderbaum.de/veranstaltung/mini-monster-krabbelgruppe-6/2026-03-24/
LOCATION:MEC
END:VEVENT
BEGIN:VEVENT
DTSTART;TZID=Europe/Berlin:20260324T180000
DTEND;TZID=Europe/Berlin:20260324T200000
DTSTAMP:20260421T162821
CREATED:20260101T153931Z
LAST-MODIFIED:20260101T153933Z
UID:10002714-1774375200-1774382400@www.martini-gadderbaum.de
SUMMARY:ZWAR-Initiative | Kreatives Singen
DESCRIPTION:
URL:https://www.martini-gadderbaum.de/veranstaltung/zwar-initiative-7/2026-03-24/
LOCATION:MEC
END:VEVENT
END:VCALENDAR