BEGIN:VCALENDAR
VERSION:2.0
PRODID:-//Martini Kirchengemeinde Bielefeld Gadderbaum - ECPv6.15.17.1//NONSGML v1.0//EN
CALSCALE:GREGORIAN
METHOD:PUBLISH
X-WR-CALNAME:Martini Kirchengemeinde Bielefeld Gadderbaum
X-ORIGINAL-URL:https://www.martini-gadderbaum.de
X-WR-CALDESC:Veranstaltungen für Martini Kirchengemeinde Bielefeld Gadderbaum
REFRESH-INTERVAL;VALUE=DURATION:PT1H
X-Robots-Tag:noindex
X-PUBLISHED-TTL:PT1H
BEGIN:VTIMEZONE
TZID:Europe/Berlin
BEGIN:DAYLIGHT
TZOFFSETFROM:+0100
TZOFFSETTO:+0200
TZNAME:CEST
DTSTART:20250330T010000
END:DAYLIGHT
BEGIN:STANDARD
TZOFFSETFROM:+0200
TZOFFSETTO:+0100
TZNAME:CET
DTSTART:20251026T010000
END:STANDARD
BEGIN:DAYLIGHT
TZOFFSETFROM:+0100
TZOFFSETTO:+0200
TZNAME:CEST
DTSTART:20260329T010000
END:DAYLIGHT
BEGIN:STANDARD
TZOFFSETFROM:+0200
TZOFFSETTO:+0100
TZNAME:CET
DTSTART:20261025T010000
END:STANDARD
BEGIN:DAYLIGHT
TZOFFSETFROM:+0100
TZOFFSETTO:+0200
TZNAME:CEST
DTSTART:20270328T010000
END:DAYLIGHT
BEGIN:STANDARD
TZOFFSETFROM:+0200
TZOFFSETTO:+0100
TZNAME:CET
DTSTART:20271031T010000
END:STANDARD
END:VTIMEZONE
BEGIN:VEVENT
DTSTART;TZID=Europe/Berlin:20260208T110000
DTEND;TZID=Europe/Berlin:20260222T140000
DTSTAMP:20260421T162346
CREATED:20251229T085345Z
LAST-MODIFIED:20251229T085346Z
UID:10002406-1770548400-1771768800@www.martini-gadderbaum.de
SUMMARY:Vesperkirche
DESCRIPTION:
URL:https://www.martini-gadderbaum.de/veranstaltung/vesperkirche-2/
LOCATION:Neustädter Marien-Kirche
END:VEVENT
BEGIN:VEVENT
DTSTART;TZID=Europe/Berlin:20260211T193000
DTEND;TZID=Europe/Berlin:20260211T210000
DTSTAMP:20260421T162346
CREATED:20260101T150044Z
LAST-MODIFIED:20260101T150045Z
UID:10002528-1770838200-1770843600@www.martini-gadderbaum.de
SUMMARY:Blockflötenensemble
DESCRIPTION:
URL:https://www.martini-gadderbaum.de/veranstaltung/blockfloetenensemble-2/2026-02-11/
LOCATION:MEC
END:VEVENT
END:VCALENDAR