BEGIN:VCALENDAR
VERSION:2.0
PRODID:-//Martini Kirchengemeinde Bielefeld Gadderbaum - ECPv6.15.17.1//NONSGML v1.0//EN
CALSCALE:GREGORIAN
METHOD:PUBLISH
X-WR-CALNAME:Martini Kirchengemeinde Bielefeld Gadderbaum
X-ORIGINAL-URL:https://www.martini-gadderbaum.de
X-WR-CALDESC:Veranstaltungen für Martini Kirchengemeinde Bielefeld Gadderbaum
REFRESH-INTERVAL;VALUE=DURATION:PT1H
X-Robots-Tag:noindex
X-PUBLISHED-TTL:PT1H
BEGIN:VTIMEZONE
TZID:Europe/Berlin
BEGIN:DAYLIGHT
TZOFFSETFROM:+0100
TZOFFSETTO:+0200
TZNAME:CEST
DTSTART:20250330T010000
END:DAYLIGHT
BEGIN:STANDARD
TZOFFSETFROM:+0200
TZOFFSETTO:+0100
TZNAME:CET
DTSTART:20251026T010000
END:STANDARD
BEGIN:DAYLIGHT
TZOFFSETFROM:+0100
TZOFFSETTO:+0200
TZNAME:CEST
DTSTART:20260329T010000
END:DAYLIGHT
BEGIN:STANDARD
TZOFFSETFROM:+0200
TZOFFSETTO:+0100
TZNAME:CET
DTSTART:20261025T010000
END:STANDARD
BEGIN:DAYLIGHT
TZOFFSETFROM:+0100
TZOFFSETTO:+0200
TZNAME:CEST
DTSTART:20270328T010000
END:DAYLIGHT
BEGIN:STANDARD
TZOFFSETFROM:+0200
TZOFFSETTO:+0100
TZNAME:CET
DTSTART:20271031T010000
END:STANDARD
END:VTIMEZONE
BEGIN:VEVENT
DTSTART;TZID=Europe/Berlin:20260126T080000
DTEND;TZID=Europe/Berlin:20260129T170000
DTSTAMP:20260421T162203
CREATED:20260101T151644Z
LAST-MODIFIED:20260101T151720Z
UID:10002708-1769414400-1769706000@www.martini-gadderbaum.de
SUMMARY:Seminar Autea
DESCRIPTION:
URL:https://www.martini-gadderbaum.de/veranstaltung/seminar-autea-5/
LOCATION:Kleiner & Großer Saal\, KiGo-Raum\, Küche
END:VEVENT
BEGIN:VEVENT
DTSTART;TZID=Europe/Berlin:20260127T093000
DTEND;TZID=Europe/Berlin:20260127T110000
DTSTAMP:20260421T162203
CREATED:20260101T145226Z
LAST-MODIFIED:20260101T145228Z
UID:10002420-1769506200-1769511600@www.martini-gadderbaum.de
SUMMARY:Tischtennis für Senior*innen
DESCRIPTION:
URL:https://www.martini-gadderbaum.de/veranstaltung/tischtennis-fuer-seniorinnen-2/2026-01-27/
LOCATION:Großer Saal
END:VEVENT
BEGIN:VEVENT
DTSTART;TZID=Europe/Berlin:20260127T100000
DTEND;TZID=Europe/Berlin:20260127T120000
DTSTAMP:20260421T162203
CREATED:20260101T145600Z
LAST-MODIFIED:20260101T145658Z
UID:10002473-1769508000-1769515200@www.martini-gadderbaum.de
SUMMARY:Mini-Monster-Krabbelgruppe
DESCRIPTION:
URL:https://www.martini-gadderbaum.de/veranstaltung/mini-monster-krabbelgruppe-6/2026-01-27/
LOCATION:MEC
END:VEVENT
BEGIN:VEVENT
DTSTART;TZID=Europe/Berlin:20260127T170000
DTEND;TZID=Europe/Berlin:20260127T190000
DTSTAMP:20260421T162203
CREATED:20260101T151848Z
LAST-MODIFIED:20260101T151849Z
UID:10002709-1769533200-1769540400@www.martini-gadderbaum.de
SUMMARY:Besuchsdienst
DESCRIPTION:
URL:https://www.martini-gadderbaum.de/veranstaltung/besuchsdienst/
LOCATION:Wintergarten
END:VEVENT
BEGIN:VEVENT
DTSTART;TZID=Europe/Berlin:20260127T180000
DTEND;TZID=Europe/Berlin:20260127T200000
DTSTAMP:20260421T162203
CREATED:20260101T150742Z
LAST-MODIFIED:20260101T152138Z
UID:10002710-1769536800-1769544000@www.martini-gadderbaum.de
SUMMARY:ZWAR-Initiative
DESCRIPTION:
URL:https://www.martini-gadderbaum.de/veranstaltung/zwar-initiative-4/2026-01-27/
LOCATION:MEC
END:VEVENT
END:VCALENDAR