BEGIN:VCALENDAR
VERSION:2.0
PRODID:-//Martini Kirchengemeinde Bielefeld Gadderbaum - ECPv6.15.17.1//NONSGML v1.0//EN
CALSCALE:GREGORIAN
METHOD:PUBLISH
X-ORIGINAL-URL:https://www.martini-gadderbaum.de
X-WR-CALDESC:Veranstaltungen für Martini Kirchengemeinde Bielefeld Gadderbaum
REFRESH-INTERVAL;VALUE=DURATION:PT1H
X-Robots-Tag:noindex
X-PUBLISHED-TTL:PT1H
BEGIN:VTIMEZONE
TZID:Europe/Berlin
BEGIN:DAYLIGHT
TZOFFSETFROM:+0100
TZOFFSETTO:+0200
TZNAME:CEST
DTSTART:20240331T010000
END:DAYLIGHT
BEGIN:STANDARD
TZOFFSETFROM:+0200
TZOFFSETTO:+0100
TZNAME:CET
DTSTART:20241027T010000
END:STANDARD
BEGIN:DAYLIGHT
TZOFFSETFROM:+0100
TZOFFSETTO:+0200
TZNAME:CEST
DTSTART:20250330T010000
END:DAYLIGHT
BEGIN:STANDARD
TZOFFSETFROM:+0200
TZOFFSETTO:+0100
TZNAME:CET
DTSTART:20251026T010000
END:STANDARD
BEGIN:DAYLIGHT
TZOFFSETFROM:+0100
TZOFFSETTO:+0200
TZNAME:CEST
DTSTART:20260329T010000
END:DAYLIGHT
BEGIN:STANDARD
TZOFFSETFROM:+0200
TZOFFSETTO:+0100
TZNAME:CET
DTSTART:20261025T010000
END:STANDARD
END:VTIMEZONE
BEGIN:VEVENT
DTSTART;TZID=Europe/Berlin:20251118T093000
DTEND;TZID=Europe/Berlin:20251118T113000
DTSTAMP:20260421T211209
CREATED:20241224T085321Z
LAST-MODIFIED:20241224T085537Z
UID:10001087-1763458200-1763465400@www.martini-gadderbaum.de
SUMMARY:Tischtennis für Senior*innen
DESCRIPTION:
URL:https://www.martini-gadderbaum.de/veranstaltung/tischtennis-fuer-seniorinnen/2025-11-18/
LOCATION:Großer Saal
END:VEVENT
BEGIN:VEVENT
DTSTART;TZID=Europe/Berlin:20251118T100000
DTEND;TZID=Europe/Berlin:20251118T120000
DTSTAMP:20260421T211209
CREATED:20241224T092841Z
LAST-MODIFIED:20241224T092842Z
UID:10001421-1763460000-1763467200@www.martini-gadderbaum.de
SUMMARY:Mini-Monster-Krabbelgruppe
DESCRIPTION:
URL:https://www.martini-gadderbaum.de/veranstaltung/mini-monster-krabbelgruppe-2/2025-11-18/
LOCATION:MEC
END:VEVENT
BEGIN:VEVENT
DTSTART;TZID=Europe/Berlin:20251118T180000
DTEND;TZID=Europe/Berlin:20251118T200000
DTSTAMP:20260421T211209
CREATED:20250721T080255Z
LAST-MODIFIED:20250721T080257Z
UID:10002075-1763488800-1763496000@www.martini-gadderbaum.de
SUMMARY:ZWAR | Kreatives Singen
DESCRIPTION:
URL:https://www.martini-gadderbaum.de/veranstaltung/zwar-kreatives-singen-6/2025-11-18/
LOCATION:MEC
END:VEVENT
END:VCALENDAR