BEGIN:VCALENDAR
VERSION:2.0
PRODID:-//Martini Kirchengemeinde Bielefeld Gadderbaum - ECPv6.15.17.1//NONSGML v1.0//EN
CALSCALE:GREGORIAN
METHOD:PUBLISH
X-WR-CALNAME:Martini Kirchengemeinde Bielefeld Gadderbaum
X-ORIGINAL-URL:https://www.martini-gadderbaum.de
X-WR-CALDESC:Veranstaltungen für Martini Kirchengemeinde Bielefeld Gadderbaum
REFRESH-INTERVAL;VALUE=DURATION:PT1H
X-Robots-Tag:noindex
X-PUBLISHED-TTL:PT1H
BEGIN:VTIMEZONE
TZID:Europe/Berlin
BEGIN:DAYLIGHT
TZOFFSETFROM:+0100
TZOFFSETTO:+0200
TZNAME:CEST
DTSTART:20240331T010000
END:DAYLIGHT
BEGIN:STANDARD
TZOFFSETFROM:+0200
TZOFFSETTO:+0100
TZNAME:CET
DTSTART:20241027T010000
END:STANDARD
BEGIN:DAYLIGHT
TZOFFSETFROM:+0100
TZOFFSETTO:+0200
TZNAME:CEST
DTSTART:20250330T010000
END:DAYLIGHT
BEGIN:STANDARD
TZOFFSETFROM:+0200
TZOFFSETTO:+0100
TZNAME:CET
DTSTART:20251026T010000
END:STANDARD
BEGIN:DAYLIGHT
TZOFFSETFROM:+0100
TZOFFSETTO:+0200
TZNAME:CEST
DTSTART:20260329T010000
END:DAYLIGHT
BEGIN:STANDARD
TZOFFSETFROM:+0200
TZOFFSETTO:+0100
TZNAME:CET
DTSTART:20261025T010000
END:STANDARD
END:VTIMEZONE
BEGIN:VEVENT
DTSTART;TZID=Europe/Berlin:20251111T093000
DTEND;TZID=Europe/Berlin:20251111T113000
DTSTAMP:20260421T210954
CREATED:20241224T085321Z
LAST-MODIFIED:20241224T085537Z
UID:10001086-1762853400-1762860600@www.martini-gadderbaum.de
SUMMARY:Tischtennis für Senior*innen
DESCRIPTION:
URL:https://www.martini-gadderbaum.de/veranstaltung/tischtennis-fuer-seniorinnen/2025-11-11/
LOCATION:Großer Saal
END:VEVENT
BEGIN:VEVENT
DTSTART;TZID=Europe/Berlin:20251111T100000
DTEND;TZID=Europe/Berlin:20251111T120000
DTSTAMP:20260421T210954
CREATED:20241224T092841Z
LAST-MODIFIED:20241224T092842Z
UID:10001420-1762855200-1762862400@www.martini-gadderbaum.de
SUMMARY:Mini-Monster-Krabbelgruppe
DESCRIPTION:
URL:https://www.martini-gadderbaum.de/veranstaltung/mini-monster-krabbelgruppe-2/2025-11-11/
LOCATION:MEC
END:VEVENT
BEGIN:VEVENT
DTSTART;TZID=Europe/Berlin:20251111T180000
DTEND;TZID=Europe/Berlin:20251111T200000
DTSTAMP:20260421T210954
CREATED:20250721T072148Z
LAST-MODIFIED:20250721T072150Z
UID:10002053-1762884000-1762891200@www.martini-gadderbaum.de
SUMMARY:ZWAR | Kreatives Singen
DESCRIPTION:
URL:https://www.martini-gadderbaum.de/veranstaltung/zwar-kreatives-singen-3/2025-11-11/
LOCATION:MEC
END:VEVENT
BEGIN:VEVENT
DTSTART;TZID=Europe/Berlin:20251111T193000
DTEND;TZID=Europe/Berlin:20251111T210000
DTSTAMP:20260421T210954
CREATED:20250307T091558Z
LAST-MODIFIED:20250307T091608Z
UID:10001561-1762889400-1762894800@www.martini-gadderbaum.de
SUMMARY:Martini im Gespräch
DESCRIPTION:
URL:https://www.martini-gadderbaum.de/veranstaltung/martini-im-gespraech-12/2025-11-11/
LOCATION:Bücherei
END:VEVENT
END:VCALENDAR