BEGIN:VCALENDAR
VERSION:2.0
PRODID:-//Martini Kirchengemeinde Bielefeld Gadderbaum - ECPv6.15.17.1//NONSGML v1.0//EN
CALSCALE:GREGORIAN
METHOD:PUBLISH
X-WR-CALNAME:Martini Kirchengemeinde Bielefeld Gadderbaum
X-ORIGINAL-URL:https://www.martini-gadderbaum.de
X-WR-CALDESC:Veranstaltungen für Martini Kirchengemeinde Bielefeld Gadderbaum
REFRESH-INTERVAL;VALUE=DURATION:PT1H
X-Robots-Tag:noindex
X-PUBLISHED-TTL:PT1H
BEGIN:VTIMEZONE
TZID:Europe/Berlin
BEGIN:DAYLIGHT
TZOFFSETFROM:+0100
TZOFFSETTO:+0200
TZNAME:CEST
DTSTART:20240331T010000
END:DAYLIGHT
BEGIN:STANDARD
TZOFFSETFROM:+0200
TZOFFSETTO:+0100
TZNAME:CET
DTSTART:20241027T010000
END:STANDARD
BEGIN:DAYLIGHT
TZOFFSETFROM:+0100
TZOFFSETTO:+0200
TZNAME:CEST
DTSTART:20250330T010000
END:DAYLIGHT
BEGIN:STANDARD
TZOFFSETFROM:+0200
TZOFFSETTO:+0100
TZNAME:CET
DTSTART:20251026T010000
END:STANDARD
BEGIN:DAYLIGHT
TZOFFSETFROM:+0100
TZOFFSETTO:+0200
TZNAME:CEST
DTSTART:20260329T010000
END:DAYLIGHT
BEGIN:STANDARD
TZOFFSETFROM:+0200
TZOFFSETTO:+0100
TZNAME:CET
DTSTART:20261025T010000
END:STANDARD
END:VTIMEZONE
BEGIN:VEVENT
DTSTART;TZID=Europe/Berlin:20251013T080000
DTEND;TZID=Europe/Berlin:20251025T170000
DTSTAMP:20260421T223123
CREATED:20241223T154441Z
LAST-MODIFIED:20241223T160931Z
UID:10000969-1760342400-1761411600@www.martini-gadderbaum.de
SUMMARY:Herbstferien
DESCRIPTION:
URL:https://www.martini-gadderbaum.de/veranstaltung/herbstferien-2/
END:VEVENT
BEGIN:VEVENT
DTSTART;TZID=Europe/Berlin:20251019T103000
DTEND;TZID=Europe/Berlin:20251019T113000
DTSTAMP:20260421T223123
CREATED:20250721T075920Z
LAST-MODIFIED:20251009T080031Z
UID:10000837-1760869800-1760873400@www.martini-gadderbaum.de
SUMMARY:Gottesdienst mit Pastor Bernward Wolf
DESCRIPTION:
URL:https://www.martini-gadderbaum.de/veranstaltung/gottesdienst-45/
LOCATION:Stephanuskirche
END:VEVENT
BEGIN:VEVENT
DTSTART;TZID=Europe/Berlin:20251019T113000
DTEND;TZID=Europe/Berlin:20251019T123000
DTSTAMP:20260421T223123
CREATED:20241223T151013Z
LAST-MODIFIED:20241223T151015Z
UID:10000944-1760873400-1760877000@www.martini-gadderbaum.de
SUMMARY:Kirchcafé
DESCRIPTION:
URL:https://www.martini-gadderbaum.de/veranstaltung/kirchcafe-2/2025-10-19/
LOCATION:Großer Saal
END:VEVENT
END:VCALENDAR