BEGIN:VCALENDAR
VERSION:2.0
PRODID:-//Martini Kirchengemeinde Bielefeld Gadderbaum - ECPv6.15.17.1//NONSGML v1.0//EN
CALSCALE:GREGORIAN
METHOD:PUBLISH
X-ORIGINAL-URL:https://www.martini-gadderbaum.de
X-WR-CALDESC:Veranstaltungen für Martini Kirchengemeinde Bielefeld Gadderbaum
REFRESH-INTERVAL;VALUE=DURATION:PT1H
X-Robots-Tag:noindex
X-PUBLISHED-TTL:PT1H
BEGIN:VTIMEZONE
TZID:Europe/Berlin
BEGIN:DAYLIGHT
TZOFFSETFROM:+0100
TZOFFSETTO:+0200
TZNAME:CEST
DTSTART:20240331T010000
END:DAYLIGHT
BEGIN:STANDARD
TZOFFSETFROM:+0200
TZOFFSETTO:+0100
TZNAME:CET
DTSTART:20241027T010000
END:STANDARD
BEGIN:DAYLIGHT
TZOFFSETFROM:+0100
TZOFFSETTO:+0200
TZNAME:CEST
DTSTART:20250330T010000
END:DAYLIGHT
BEGIN:STANDARD
TZOFFSETFROM:+0200
TZOFFSETTO:+0100
TZNAME:CET
DTSTART:20251026T010000
END:STANDARD
BEGIN:DAYLIGHT
TZOFFSETFROM:+0100
TZOFFSETTO:+0200
TZNAME:CEST
DTSTART:20260329T010000
END:DAYLIGHT
BEGIN:STANDARD
TZOFFSETFROM:+0200
TZOFFSETTO:+0100
TZNAME:CET
DTSTART:20261025T010000
END:STANDARD
END:VTIMEZONE
BEGIN:VEVENT
DTSTART;TZID=Europe/Berlin:20251007T080000
DTEND;TZID=Europe/Berlin:20251009T170000
DTSTAMP:20260421T223704
CREATED:20250721T075313Z
LAST-MODIFIED:20250721T075314Z
UID:10002073-1759824000-1760029200@www.martini-gadderbaum.de
SUMMARY:Seminar | Studio 3
DESCRIPTION:
URL:https://www.martini-gadderbaum.de/veranstaltung/seminar-studio-3/
LOCATION:Kleiner & Großer Saal\, Küche
END:VEVENT
BEGIN:VEVENT
DTSTART;TZID=Europe/Berlin:20251009T093000
DTEND;TZID=Europe/Berlin:20251009T113000
DTSTAMP:20260421T223704
CREATED:20250721T071918Z
LAST-MODIFIED:20250721T072436Z
UID:10001993-1760002200-1760009400@www.martini-gadderbaum.de
SUMMARY:Martini-Frühstück
DESCRIPTION:
URL:https://www.martini-gadderbaum.de/veranstaltung/martini-fruehstueck-2/2025-10-09/
LOCATION:MEC
END:VEVENT
BEGIN:VEVENT
DTSTART;TZID=Europe/Berlin:20251009T093000
DTEND;TZID=Europe/Berlin:20251009T113000
DTSTAMP:20260421T223704
CREATED:20260325T083114Z
LAST-MODIFIED:20260325T083133Z
UID:10002860-1760002200-1760009400@www.martini-gadderbaum.de
SUMMARY:Martini-Frühstück
DESCRIPTION:
URL:https://www.martini-gadderbaum.de/veranstaltung/martini-fruehstueck-4/2025-10-09/
LOCATION:MEC
END:VEVENT
END:VCALENDAR