BEGIN:VCALENDAR
VERSION:2.0
PRODID:-//Martini Kirchengemeinde Bielefeld Gadderbaum - ECPv6.15.17.1//NONSGML v1.0//EN
CALSCALE:GREGORIAN
METHOD:PUBLISH
X-WR-CALNAME:Martini Kirchengemeinde Bielefeld Gadderbaum
X-ORIGINAL-URL:https://www.martini-gadderbaum.de
X-WR-CALDESC:Veranstaltungen für Martini Kirchengemeinde Bielefeld Gadderbaum
REFRESH-INTERVAL;VALUE=DURATION:PT1H
X-Robots-Tag:noindex
X-PUBLISHED-TTL:PT1H
BEGIN:VTIMEZONE
TZID:Europe/Berlin
BEGIN:DAYLIGHT
TZOFFSETFROM:+0100
TZOFFSETTO:+0200
TZNAME:CEST
DTSTART:20240331T010000
END:DAYLIGHT
BEGIN:STANDARD
TZOFFSETFROM:+0200
TZOFFSETTO:+0100
TZNAME:CET
DTSTART:20241027T010000
END:STANDARD
BEGIN:DAYLIGHT
TZOFFSETFROM:+0100
TZOFFSETTO:+0200
TZNAME:CEST
DTSTART:20250330T010000
END:DAYLIGHT
BEGIN:STANDARD
TZOFFSETFROM:+0200
TZOFFSETTO:+0100
TZNAME:CET
DTSTART:20251026T010000
END:STANDARD
BEGIN:DAYLIGHT
TZOFFSETFROM:+0100
TZOFFSETTO:+0200
TZNAME:CEST
DTSTART:20260329T010000
END:DAYLIGHT
BEGIN:STANDARD
TZOFFSETFROM:+0200
TZOFFSETTO:+0100
TZNAME:CET
DTSTART:20261025T010000
END:STANDARD
END:VTIMEZONE
BEGIN:VEVENT
DTSTART;TZID=Europe/Berlin:20251001T080000
DTEND;TZID=Europe/Berlin:20251005T170000
DTSTAMP:20260421T223124
CREATED:20250721T074737Z
LAST-MODIFIED:20250721T074739Z
UID:10002071-1759305600-1759683600@www.martini-gadderbaum.de
SUMMARY:Radpilgertour
DESCRIPTION:
URL:https://www.martini-gadderbaum.de/veranstaltung/radpilgertour/
END:VEVENT
BEGIN:VEVENT
DTSTART;TZID=Europe/Berlin:20251005T103000
DTEND;TZID=Europe/Berlin:20251005T113000
DTSTAMP:20260421T223124
CREATED:20250721T074941Z
LAST-MODIFIED:20250721T074943Z
UID:10000835-1759660200-1759663800@www.martini-gadderbaum.de
SUMMARY:Gottesdienst für alle mit der Kita Martini und Pfarrerin Susanne Stöcker
DESCRIPTION:
URL:https://www.martini-gadderbaum.de/veranstaltung/gottesdienst-43/
LOCATION:Stephanuskirche
END:VEVENT
BEGIN:VEVENT
DTSTART;TZID=Europe/Berlin:20251005T113000
DTEND;TZID=Europe/Berlin:20251005T123000
DTSTAMP:20260421T223124
CREATED:20241223T151013Z
LAST-MODIFIED:20241223T151015Z
UID:10000942-1759663800-1759667400@www.martini-gadderbaum.de
SUMMARY:Kirchcafé
DESCRIPTION:
URL:https://www.martini-gadderbaum.de/veranstaltung/kirchcafe-2/2025-10-05/
LOCATION:Großer Saal
END:VEVENT
END:VCALENDAR