BEGIN:VCALENDAR
VERSION:2.0
PRODID:-//Martini Kirchengemeinde Bielefeld Gadderbaum - ECPv6.15.17.1//NONSGML v1.0//EN
CALSCALE:GREGORIAN
METHOD:PUBLISH
X-WR-CALNAME:Martini Kirchengemeinde Bielefeld Gadderbaum
X-ORIGINAL-URL:https://www.martini-gadderbaum.de
X-WR-CALDESC:Veranstaltungen für Martini Kirchengemeinde Bielefeld Gadderbaum
REFRESH-INTERVAL;VALUE=DURATION:PT1H
X-Robots-Tag:noindex
X-PUBLISHED-TTL:PT1H
BEGIN:VTIMEZONE
TZID:Europe/Berlin
BEGIN:DAYLIGHT
TZOFFSETFROM:+0100
TZOFFSETTO:+0200
TZNAME:CEST
DTSTART:20240331T010000
END:DAYLIGHT
BEGIN:STANDARD
TZOFFSETFROM:+0200
TZOFFSETTO:+0100
TZNAME:CET
DTSTART:20241027T010000
END:STANDARD
BEGIN:DAYLIGHT
TZOFFSETFROM:+0100
TZOFFSETTO:+0200
TZNAME:CEST
DTSTART:20250330T010000
END:DAYLIGHT
BEGIN:STANDARD
TZOFFSETFROM:+0200
TZOFFSETTO:+0100
TZNAME:CET
DTSTART:20251026T010000
END:STANDARD
BEGIN:DAYLIGHT
TZOFFSETFROM:+0100
TZOFFSETTO:+0200
TZNAME:CEST
DTSTART:20260329T010000
END:DAYLIGHT
BEGIN:STANDARD
TZOFFSETFROM:+0200
TZOFFSETTO:+0100
TZNAME:CET
DTSTART:20261025T010000
END:STANDARD
END:VTIMEZONE
BEGIN:VEVENT
DTSTART;TZID=Europe/Berlin:20251001T080000
DTEND;TZID=Europe/Berlin:20251005T170000
DTSTAMP:20260421T223125
CREATED:20250721T074737Z
LAST-MODIFIED:20250721T074739Z
UID:10002071-1759305600-1759683600@www.martini-gadderbaum.de
SUMMARY:Radpilgertour
DESCRIPTION:
URL:https://www.martini-gadderbaum.de/veranstaltung/radpilgertour/
END:VEVENT
BEGIN:VEVENT
DTSTART;TZID=Europe/Berlin:20251001T120000
DTEND;TZID=Europe/Berlin:20251001T130000
DTSTAMP:20260421T223125
CREATED:20241224T085925Z
LAST-MODIFIED:20241224T085926Z
UID:10001131-1759320000-1759323600@www.martini-gadderbaum.de
SUMMARY:Martini-Mittagstisch
DESCRIPTION:
URL:https://www.martini-gadderbaum.de/veranstaltung/martini-mittagstisch-3/2025-10-01/
LOCATION:Bücherei
END:VEVENT
BEGIN:VEVENT
DTSTART;TZID=Europe/Berlin:20251001T181500
DTEND;TZID=Europe/Berlin:20251001T200000
DTSTAMP:20260421T223125
CREATED:20241224T093436Z
LAST-MODIFIED:20241224T093437Z
UID:10001476-1759342500-1759348800@www.martini-gadderbaum.de
SUMMARY:Israelische Tänze
DESCRIPTION:
URL:https://www.martini-gadderbaum.de/veranstaltung/israelische-taenze-23/2025-10-01/
LOCATION:Großer Saal
END:VEVENT
BEGIN:VEVENT
DTSTART;TZID=Europe/Berlin:20251001T193000
DTEND;TZID=Europe/Berlin:20251001T210000
DTSTAMP:20260421T223125
CREATED:20241224T090458Z
LAST-MODIFIED:20241224T090459Z
UID:10001184-1759347000-1759352400@www.martini-gadderbaum.de
SUMMARY:Blockflötenensemble
DESCRIPTION:
URL:https://www.martini-gadderbaum.de/veranstaltung/blockfloetenensemble/2025-10-01/
LOCATION:MEC
END:VEVENT
END:VCALENDAR