BEGIN:VCALENDAR
VERSION:2.0
PRODID:-//Martini Kirchengemeinde Bielefeld Gadderbaum - ECPv6.15.17.1//NONSGML v1.0//EN
CALSCALE:GREGORIAN
METHOD:PUBLISH
X-WR-CALNAME:Martini Kirchengemeinde Bielefeld Gadderbaum
X-ORIGINAL-URL:https://www.martini-gadderbaum.de
X-WR-CALDESC:Veranstaltungen für Martini Kirchengemeinde Bielefeld Gadderbaum
REFRESH-INTERVAL;VALUE=DURATION:PT1H
X-Robots-Tag:noindex
X-PUBLISHED-TTL:PT1H
BEGIN:VTIMEZONE
TZID:Europe/Berlin
BEGIN:DAYLIGHT
TZOFFSETFROM:+0100
TZOFFSETTO:+0200
TZNAME:CEST
DTSTART:20240331T010000
END:DAYLIGHT
BEGIN:STANDARD
TZOFFSETFROM:+0200
TZOFFSETTO:+0100
TZNAME:CET
DTSTART:20241027T010000
END:STANDARD
BEGIN:DAYLIGHT
TZOFFSETFROM:+0100
TZOFFSETTO:+0200
TZNAME:CEST
DTSTART:20250330T010000
END:DAYLIGHT
BEGIN:STANDARD
TZOFFSETFROM:+0200
TZOFFSETTO:+0100
TZNAME:CET
DTSTART:20251026T010000
END:STANDARD
BEGIN:DAYLIGHT
TZOFFSETFROM:+0100
TZOFFSETTO:+0200
TZNAME:CEST
DTSTART:20260329T010000
END:DAYLIGHT
BEGIN:STANDARD
TZOFFSETFROM:+0200
TZOFFSETTO:+0100
TZNAME:CET
DTSTART:20261025T010000
END:STANDARD
END:VTIMEZONE
BEGIN:VEVENT
DTSTART;TZID=Europe/Berlin:20250914T103000
DTEND;TZID=Europe/Berlin:20250914T113000
DTSTAMP:20260422T000757
CREATED:20250721T071221Z
LAST-MODIFIED:20250721T072734Z
UID:10000832-1757845800-1757849400@www.martini-gadderbaum.de
SUMMARY:Gottesdienst mit Taufe und Verabschiedung von Luisa Starke mit Pfarrerin Susanne Stöcker
DESCRIPTION:
URL:https://www.martini-gadderbaum.de/veranstaltung/gottesdienst-40/
LOCATION:Stephanuskirche
END:VEVENT
BEGIN:VEVENT
DTSTART;TZID=Europe/Berlin:20250914T110000
DTEND;TZID=Europe/Berlin:20250914T113000
DTSTAMP:20260422T000757
CREATED:20241223T145538Z
LAST-MODIFIED:20241223T145539Z
UID:10000884-1757847600-1757849400@www.martini-gadderbaum.de
SUMMARY:Kindergottesdienst
DESCRIPTION:
URL:https://www.martini-gadderbaum.de/veranstaltung/kindergottesdienst/2025-09-14/
LOCATION:Stephanuskirche
END:VEVENT
BEGIN:VEVENT
DTSTART;TZID=Europe/Berlin:20250914T113000
DTEND;TZID=Europe/Berlin:20250914T123000
DTSTAMP:20260422T000757
CREATED:20250721T072817Z
LAST-MODIFIED:20250721T072818Z
UID:10000939-1757849400-1757853000@www.martini-gadderbaum.de
SUMMARY:Gemeindeversammlung und Kirchcafé
DESCRIPTION:
URL:https://www.martini-gadderbaum.de/veranstaltung/kirchcafe-4/
LOCATION:Großer Saal
END:VEVENT
END:VCALENDAR