BEGIN:VCALENDAR
VERSION:2.0
PRODID:-//Martini Kirchengemeinde Bielefeld Gadderbaum - ECPv6.15.17.1//NONSGML v1.0//EN
CALSCALE:GREGORIAN
METHOD:PUBLISH
X-ORIGINAL-URL:https://www.martini-gadderbaum.de
X-WR-CALDESC:Veranstaltungen für Martini Kirchengemeinde Bielefeld Gadderbaum
REFRESH-INTERVAL;VALUE=DURATION:PT1H
X-Robots-Tag:noindex
X-PUBLISHED-TTL:PT1H
BEGIN:VTIMEZONE
TZID:Europe/Berlin
BEGIN:DAYLIGHT
TZOFFSETFROM:+0100
TZOFFSETTO:+0200
TZNAME:CEST
DTSTART:20240331T010000
END:DAYLIGHT
BEGIN:STANDARD
TZOFFSETFROM:+0200
TZOFFSETTO:+0100
TZNAME:CET
DTSTART:20241027T010000
END:STANDARD
BEGIN:DAYLIGHT
TZOFFSETFROM:+0100
TZOFFSETTO:+0200
TZNAME:CEST
DTSTART:20250330T010000
END:DAYLIGHT
BEGIN:STANDARD
TZOFFSETFROM:+0200
TZOFFSETTO:+0100
TZNAME:CET
DTSTART:20251026T010000
END:STANDARD
BEGIN:DAYLIGHT
TZOFFSETFROM:+0100
TZOFFSETTO:+0200
TZNAME:CEST
DTSTART:20260329T010000
END:DAYLIGHT
BEGIN:STANDARD
TZOFFSETFROM:+0200
TZOFFSETTO:+0100
TZNAME:CET
DTSTART:20261025T010000
END:STANDARD
END:VTIMEZONE
BEGIN:VEVENT
DTSTART;TZID=Europe/Berlin:20250909T093000
DTEND;TZID=Europe/Berlin:20250909T113000
DTSTAMP:20260422T001138
CREATED:20241224T085321Z
LAST-MODIFIED:20241224T085537Z
UID:10001077-1757410200-1757417400@www.martini-gadderbaum.de
SUMMARY:Tischtennis für Senior*innen
DESCRIPTION:
URL:https://www.martini-gadderbaum.de/veranstaltung/tischtennis-fuer-seniorinnen/2025-09-09/
LOCATION:Großer Saal
END:VEVENT
BEGIN:VEVENT
DTSTART;TZID=Europe/Berlin:20250909T100000
DTEND;TZID=Europe/Berlin:20250909T120000
DTSTAMP:20260422T001138
CREATED:20241224T092841Z
LAST-MODIFIED:20241224T092842Z
UID:10001411-1757412000-1757419200@www.martini-gadderbaum.de
SUMMARY:Mini-Monster-Krabbelgruppe
DESCRIPTION:
URL:https://www.martini-gadderbaum.de/veranstaltung/mini-monster-krabbelgruppe-2/2025-09-09/
LOCATION:MEC
END:VEVENT
BEGIN:VEVENT
DTSTART;TZID=Europe/Berlin:20250909T153000
DTEND;TZID=Europe/Berlin:20250909T163000
DTSTAMP:20260422T001138
CREATED:20250423T074214Z
LAST-MODIFIED:20250423T074215Z
UID:10001939-1757431800-1757435400@www.martini-gadderbaum.de
SUMMARY:Gottesdienst mit Abendmahl mit Pastor Bernward Wolf
DESCRIPTION:
URL:https://www.martini-gadderbaum.de/veranstaltung/gottesdienst-mit-abendmahl-mit-pastor-bernward-wolf-7/
LOCATION:St. Pius\, Piusweg 3
END:VEVENT
BEGIN:VEVENT
DTSTART;TZID=Europe/Berlin:20250909T180000
DTEND;TZID=Europe/Berlin:20250909T200000
DTSTAMP:20260422T001138
CREATED:20250721T072148Z
LAST-MODIFIED:20250721T072150Z
UID:10002051-1757440800-1757448000@www.martini-gadderbaum.de
SUMMARY:ZWAR | Kreatives Singen
DESCRIPTION:
URL:https://www.martini-gadderbaum.de/veranstaltung/zwar-kreatives-singen-3/2025-09-09/
LOCATION:MEC
END:VEVENT
BEGIN:VEVENT
DTSTART;TZID=Europe/Berlin:20250909T193000
DTEND;TZID=Europe/Berlin:20250909T210000
DTSTAMP:20260422T001138
CREATED:20250307T091558Z
LAST-MODIFIED:20250307T091608Z
UID:10001559-1757446200-1757451600@www.martini-gadderbaum.de
SUMMARY:Martini im Gespräch
DESCRIPTION:
URL:https://www.martini-gadderbaum.de/veranstaltung/martini-im-gespraech-12/2025-09-09/
LOCATION:Bücherei
END:VEVENT
END:VCALENDAR