BEGIN:VCALENDAR
VERSION:2.0
PRODID:-//Martini Kirchengemeinde Bielefeld Gadderbaum - ECPv6.15.17.1//NONSGML v1.0//EN
CALSCALE:GREGORIAN
METHOD:PUBLISH
X-WR-CALNAME:Martini Kirchengemeinde Bielefeld Gadderbaum
X-ORIGINAL-URL:https://www.martini-gadderbaum.de
X-WR-CALDESC:Veranstaltungen für Martini Kirchengemeinde Bielefeld Gadderbaum
REFRESH-INTERVAL;VALUE=DURATION:PT1H
X-Robots-Tag:noindex
X-PUBLISHED-TTL:PT1H
BEGIN:VTIMEZONE
TZID:Europe/Berlin
BEGIN:DAYLIGHT
TZOFFSETFROM:+0100
TZOFFSETTO:+0200
TZNAME:CEST
DTSTART:20240331T010000
END:DAYLIGHT
BEGIN:STANDARD
TZOFFSETFROM:+0200
TZOFFSETTO:+0100
TZNAME:CET
DTSTART:20241027T010000
END:STANDARD
BEGIN:DAYLIGHT
TZOFFSETFROM:+0100
TZOFFSETTO:+0200
TZNAME:CEST
DTSTART:20250330T010000
END:DAYLIGHT
BEGIN:STANDARD
TZOFFSETFROM:+0200
TZOFFSETTO:+0100
TZNAME:CET
DTSTART:20251026T010000
END:STANDARD
BEGIN:DAYLIGHT
TZOFFSETFROM:+0100
TZOFFSETTO:+0200
TZNAME:CEST
DTSTART:20260329T010000
END:DAYLIGHT
BEGIN:STANDARD
TZOFFSETFROM:+0200
TZOFFSETTO:+0100
TZNAME:CET
DTSTART:20261025T010000
END:STANDARD
END:VTIMEZONE
BEGIN:VEVENT
DTSTART;TZID=Europe/Berlin:20250907T103000
DTEND;TZID=Europe/Berlin:20250907T113000
DTSTAMP:20260421T235613
CREATED:20250126T081344Z
LAST-MODIFIED:20250721T070936Z
UID:10000831-1757241000-1757244600@www.martini-gadderbaum.de
SUMMARY:Gottesdienst zum Schönen Sonntag mit Pfarrerin Susanne Stöcker und Prädikantin Janina Förster
DESCRIPTION:
URL:https://www.martini-gadderbaum.de/veranstaltung/gottesdienst-22/
LOCATION:Stephanuskirche
END:VEVENT
BEGIN:VEVENT
DTSTART;TZID=Europe/Berlin:20250907T110000
DTEND;TZID=Europe/Berlin:20250907T113000
DTSTAMP:20260421T235613
CREATED:20241223T145538Z
LAST-MODIFIED:20241223T145539Z
UID:10000883-1757242800-1757244600@www.martini-gadderbaum.de
SUMMARY:Kindergottesdienst
DESCRIPTION:
URL:https://www.martini-gadderbaum.de/veranstaltung/kindergottesdienst/2025-09-07/
LOCATION:Stephanuskirche
END:VEVENT
BEGIN:VEVENT
DTSTART;TZID=Europe/Berlin:20250907T113000
DTEND;TZID=Europe/Berlin:20250907T160000
DTSTAMP:20260421T235613
CREATED:20241223T151341Z
LAST-MODIFIED:20241223T151343Z
UID:10000955-1757244600-1757260800@www.martini-gadderbaum.de
SUMMARY:Schöner Sonntag - Gemeindefest
DESCRIPTION:
URL:https://www.martini-gadderbaum.de/veranstaltung/schoener-sonntag-gemeindefest/
LOCATION:KiTa Martini
END:VEVENT
END:VCALENDAR