BEGIN:VCALENDAR
VERSION:2.0
PRODID:-//Martini Kirchengemeinde Bielefeld Gadderbaum - ECPv6.15.17.1//NONSGML v1.0//EN
CALSCALE:GREGORIAN
METHOD:PUBLISH
X-WR-CALNAME:Martini Kirchengemeinde Bielefeld Gadderbaum
X-ORIGINAL-URL:https://www.martini-gadderbaum.de
X-WR-CALDESC:Veranstaltungen für Martini Kirchengemeinde Bielefeld Gadderbaum
REFRESH-INTERVAL;VALUE=DURATION:PT1H
X-Robots-Tag:noindex
X-PUBLISHED-TTL:PT1H
BEGIN:VTIMEZONE
TZID:Europe/Berlin
BEGIN:DAYLIGHT
TZOFFSETFROM:+0100
TZOFFSETTO:+0200
TZNAME:CEST
DTSTART:20240331T010000
END:DAYLIGHT
BEGIN:STANDARD
TZOFFSETFROM:+0200
TZOFFSETTO:+0100
TZNAME:CET
DTSTART:20241027T010000
END:STANDARD
BEGIN:DAYLIGHT
TZOFFSETFROM:+0100
TZOFFSETTO:+0200
TZNAME:CEST
DTSTART:20250330T010000
END:DAYLIGHT
BEGIN:STANDARD
TZOFFSETFROM:+0200
TZOFFSETTO:+0100
TZNAME:CET
DTSTART:20251026T010000
END:STANDARD
BEGIN:DAYLIGHT
TZOFFSETFROM:+0100
TZOFFSETTO:+0200
TZNAME:CEST
DTSTART:20260329T010000
END:DAYLIGHT
BEGIN:STANDARD
TZOFFSETFROM:+0200
TZOFFSETTO:+0100
TZNAME:CET
DTSTART:20261025T010000
END:STANDARD
END:VTIMEZONE
BEGIN:VEVENT
DTSTART;TZID=Europe/Berlin:20250714T080000
DTEND;TZID=Europe/Berlin:20250826T170000
DTSTAMP:20260422T030505
CREATED:20241223T154355Z
LAST-MODIFIED:20241223T154356Z
UID:10000968-1752480000-1756227600@www.martini-gadderbaum.de
SUMMARY:Sommerferien
DESCRIPTION:
URL:https://www.martini-gadderbaum.de/veranstaltung/sommerferien-2/
END:VEVENT
BEGIN:VEVENT
DTSTART;TZID=Europe/Berlin:20250721T090000
DTEND;TZID=Europe/Berlin:20250727T170000
DTSTAMP:20260422T030505
CREATED:20250224T163651Z
LAST-MODIFIED:20250224T163653Z
UID:10001532-1753088400-1753635600@www.martini-gadderbaum.de
SUMMARY:Kinderferienspiele für Grundschulkinder
DESCRIPTION:
URL:https://www.martini-gadderbaum.de/veranstaltung/kinderferienspiele-fuer-grundschulkinder/
LOCATION:Ev. Dietrich-Bonhoeffer-Gemeinde\,  Am Brodhagen 36\, 33613 Bielefeld
END:VEVENT
BEGIN:VEVENT
DTSTART;TZID=Europe/Berlin:20250723T181500
DTEND;TZID=Europe/Berlin:20250723T200000
DTSTAMP:20260422T030505
CREATED:20241224T093436Z
LAST-MODIFIED:20241224T093437Z
UID:10001466-1753294500-1753300800@www.martini-gadderbaum.de
SUMMARY:Israelische Tänze
DESCRIPTION:
URL:https://www.martini-gadderbaum.de/veranstaltung/israelische-taenze-23/2025-07-23/
LOCATION:Großer Saal
END:VEVENT
END:VCALENDAR