BEGIN:VCALENDAR
VERSION:2.0
PRODID:-//Martini Kirchengemeinde Bielefeld Gadderbaum - ECPv6.15.17.1//NONSGML v1.0//EN
CALSCALE:GREGORIAN
METHOD:PUBLISH
X-WR-CALNAME:Martini Kirchengemeinde Bielefeld Gadderbaum
X-ORIGINAL-URL:https://www.martini-gadderbaum.de
X-WR-CALDESC:Veranstaltungen für Martini Kirchengemeinde Bielefeld Gadderbaum
REFRESH-INTERVAL;VALUE=DURATION:PT1H
X-Robots-Tag:noindex
X-PUBLISHED-TTL:PT1H
BEGIN:VTIMEZONE
TZID:Europe/Berlin
BEGIN:DAYLIGHT
TZOFFSETFROM:+0100
TZOFFSETTO:+0200
TZNAME:CEST
DTSTART:20240331T010000
END:DAYLIGHT
BEGIN:STANDARD
TZOFFSETFROM:+0200
TZOFFSETTO:+0100
TZNAME:CET
DTSTART:20241027T010000
END:STANDARD
BEGIN:DAYLIGHT
TZOFFSETFROM:+0100
TZOFFSETTO:+0200
TZNAME:CEST
DTSTART:20250330T010000
END:DAYLIGHT
BEGIN:STANDARD
TZOFFSETFROM:+0200
TZOFFSETTO:+0100
TZNAME:CET
DTSTART:20251026T010000
END:STANDARD
BEGIN:DAYLIGHT
TZOFFSETFROM:+0100
TZOFFSETTO:+0200
TZNAME:CEST
DTSTART:20260329T010000
END:DAYLIGHT
BEGIN:STANDARD
TZOFFSETFROM:+0200
TZOFFSETTO:+0100
TZNAME:CET
DTSTART:20261025T010000
END:STANDARD
END:VTIMEZONE
BEGIN:VEVENT
DTSTART;TZID=Europe/Berlin:20250624T083000
DTEND;TZID=Europe/Berlin:20250627T123000
DTSTAMP:20260422T042551
CREATED:20250307T124537Z
LAST-MODIFIED:20250307T124537Z
UID:10001597-1750753800-1751027400@www.martini-gadderbaum.de
SUMMARY:FvB-Schulen Sexualkundeprojekt
DESCRIPTION:
URL:https://www.martini-gadderbaum.de/veranstaltung/fvb-schulen-sexualkundeprojekt/
LOCATION:Wintergarten und KiGo-Raum
END:VEVENT
BEGIN:VEVENT
DTSTART;TZID=Europe/Berlin:20250625T120000
DTEND;TZID=Europe/Berlin:20250625T130000
DTSTAMP:20260422T042551
CREATED:20241224T085925Z
LAST-MODIFIED:20241224T085926Z
UID:10001117-1750852800-1750856400@www.martini-gadderbaum.de
SUMMARY:Martini-Mittagstisch
DESCRIPTION:
URL:https://www.martini-gadderbaum.de/veranstaltung/martini-mittagstisch-3/2025-06-25/
LOCATION:Bücherei
END:VEVENT
BEGIN:VEVENT
DTSTART;TZID=Europe/Berlin:20250625T181500
DTEND;TZID=Europe/Berlin:20250625T200000
DTSTAMP:20260422T042551
CREATED:20241224T093436Z
LAST-MODIFIED:20241224T093437Z
UID:10001462-1750875300-1750881600@www.martini-gadderbaum.de
SUMMARY:Israelische Tänze
DESCRIPTION:
URL:https://www.martini-gadderbaum.de/veranstaltung/israelische-taenze-23/2025-06-25/
LOCATION:Großer Saal
END:VEVENT
BEGIN:VEVENT
DTSTART;TZID=Europe/Berlin:20250625T193000
DTEND;TZID=Europe/Berlin:20250625T210000
DTSTAMP:20260422T042551
CREATED:20241224T090458Z
LAST-MODIFIED:20241224T090459Z
UID:10001170-1750879800-1750885200@www.martini-gadderbaum.de
SUMMARY:Blockflötenensemble
DESCRIPTION:
URL:https://www.martini-gadderbaum.de/veranstaltung/blockfloetenensemble/2025-06-25/
LOCATION:MEC
END:VEVENT
BEGIN:VEVENT
DTSTART;TZID=Europe/Berlin:20250625T193000
DTEND;TZID=Europe/Berlin:20250625T220000
DTSTAMP:20260422T042551
CREATED:20250307T124656Z
LAST-MODIFIED:20250307T124736Z
UID:10001598-1750879800-1750888800@www.martini-gadderbaum.de
SUMMARY:Presbyterium
DESCRIPTION:
URL:https://www.martini-gadderbaum.de/veranstaltung/presbyterium-15/
LOCATION:Wintergarten
END:VEVENT
END:VCALENDAR