BEGIN:VCALENDAR
VERSION:2.0
PRODID:-//Martini Kirchengemeinde Bielefeld Gadderbaum - ECPv6.15.17.1//NONSGML v1.0//EN
CALSCALE:GREGORIAN
METHOD:PUBLISH
X-WR-CALNAME:Martini Kirchengemeinde Bielefeld Gadderbaum
X-ORIGINAL-URL:https://www.martini-gadderbaum.de
X-WR-CALDESC:Veranstaltungen für Martini Kirchengemeinde Bielefeld Gadderbaum
REFRESH-INTERVAL;VALUE=DURATION:PT1H
X-Robots-Tag:noindex
X-PUBLISHED-TTL:PT1H
BEGIN:VTIMEZONE
TZID:Europe/Berlin
BEGIN:DAYLIGHT
TZOFFSETFROM:+0100
TZOFFSETTO:+0200
TZNAME:CEST
DTSTART:20240331T010000
END:DAYLIGHT
BEGIN:STANDARD
TZOFFSETFROM:+0200
TZOFFSETTO:+0100
TZNAME:CET
DTSTART:20241027T010000
END:STANDARD
BEGIN:DAYLIGHT
TZOFFSETFROM:+0100
TZOFFSETTO:+0200
TZNAME:CEST
DTSTART:20250330T010000
END:DAYLIGHT
BEGIN:STANDARD
TZOFFSETFROM:+0200
TZOFFSETTO:+0100
TZNAME:CET
DTSTART:20251026T010000
END:STANDARD
BEGIN:DAYLIGHT
TZOFFSETFROM:+0100
TZOFFSETTO:+0200
TZNAME:CEST
DTSTART:20260329T010000
END:DAYLIGHT
BEGIN:STANDARD
TZOFFSETFROM:+0200
TZOFFSETTO:+0100
TZNAME:CET
DTSTART:20261025T010000
END:STANDARD
END:VTIMEZONE
BEGIN:VEVENT
DTSTART;TZID=Europe/Berlin:20250624T083000
DTEND;TZID=Europe/Berlin:20250627T123000
DTSTAMP:20260422T042552
CREATED:20250307T124537Z
LAST-MODIFIED:20250307T124537Z
UID:10001597-1750753800-1751027400@www.martini-gadderbaum.de
SUMMARY:FvB-Schulen Sexualkundeprojekt
DESCRIPTION:
URL:https://www.martini-gadderbaum.de/veranstaltung/fvb-schulen-sexualkundeprojekt/
LOCATION:Wintergarten und KiGo-Raum
END:VEVENT
BEGIN:VEVENT
DTSTART;TZID=Europe/Berlin:20250624T093000
DTEND;TZID=Europe/Berlin:20250624T113000
DTSTAMP:20260422T042552
CREATED:20241224T085321Z
LAST-MODIFIED:20241224T085537Z
UID:10001066-1750757400-1750764600@www.martini-gadderbaum.de
SUMMARY:Tischtennis für Senior*innen
DESCRIPTION:
URL:https://www.martini-gadderbaum.de/veranstaltung/tischtennis-fuer-seniorinnen/2025-06-24/
LOCATION:Großer Saal
END:VEVENT
BEGIN:VEVENT
DTSTART;TZID=Europe/Berlin:20250624T100000
DTEND;TZID=Europe/Berlin:20250624T120000
DTSTAMP:20260422T042552
CREATED:20250321T080023Z
LAST-MODIFIED:20250321T080044Z
UID:10001676-1750759200-1750766400@www.martini-gadderbaum.de
SUMMARY:Mini-Monster Krabbelgruppe
DESCRIPTION:
URL:https://www.martini-gadderbaum.de/veranstaltung/mini-monster-krabbelgruppe-5/
LOCATION:MEC
END:VEVENT
END:VCALENDAR