BEGIN:VCALENDAR
VERSION:2.0
PRODID:-//Martini Kirchengemeinde Bielefeld Gadderbaum - ECPv6.15.17.1//NONSGML v1.0//EN
CALSCALE:GREGORIAN
METHOD:PUBLISH
X-ORIGINAL-URL:https://www.martini-gadderbaum.de
X-WR-CALDESC:Veranstaltungen für Martini Kirchengemeinde Bielefeld Gadderbaum
REFRESH-INTERVAL;VALUE=DURATION:PT1H
X-Robots-Tag:noindex
X-PUBLISHED-TTL:PT1H
BEGIN:VTIMEZONE
TZID:Europe/Berlin
BEGIN:DAYLIGHT
TZOFFSETFROM:+0100
TZOFFSETTO:+0200
TZNAME:CEST
DTSTART:20240331T010000
END:DAYLIGHT
BEGIN:STANDARD
TZOFFSETFROM:+0200
TZOFFSETTO:+0100
TZNAME:CET
DTSTART:20241027T010000
END:STANDARD
BEGIN:DAYLIGHT
TZOFFSETFROM:+0100
TZOFFSETTO:+0200
TZNAME:CEST
DTSTART:20250330T010000
END:DAYLIGHT
BEGIN:STANDARD
TZOFFSETFROM:+0200
TZOFFSETTO:+0100
TZNAME:CET
DTSTART:20251026T010000
END:STANDARD
BEGIN:DAYLIGHT
TZOFFSETFROM:+0100
TZOFFSETTO:+0200
TZNAME:CEST
DTSTART:20260329T010000
END:DAYLIGHT
BEGIN:STANDARD
TZOFFSETFROM:+0200
TZOFFSETTO:+0100
TZNAME:CET
DTSTART:20261025T010000
END:STANDARD
END:VTIMEZONE
BEGIN:VEVENT
DTSTART;TZID=Europe/Berlin:20250511T103000
DTEND;TZID=Europe/Berlin:20250511T113000
DTSTAMP:20260422T060654
CREATED:20250224T165015Z
LAST-MODIFIED:20250224T165018Z
UID:10000814-1746959400-1746963000@www.martini-gadderbaum.de
SUMMARY:Gottesdienst mit Taufe mit Sup. i.R. Rolf Breitbarth
DESCRIPTION:
URL:https://www.martini-gadderbaum.de/veranstaltung/gottesdienst-28/
LOCATION:Stephanuskirche
END:VEVENT
BEGIN:VEVENT
DTSTART;TZID=Europe/Berlin:20250511T110000
DTEND;TZID=Europe/Berlin:20250511T113000
DTSTAMP:20260422T060654
CREATED:20241223T145538Z
LAST-MODIFIED:20241223T145539Z
UID:10000866-1746961200-1746963000@www.martini-gadderbaum.de
SUMMARY:Kindergottesdienst
DESCRIPTION:
URL:https://www.martini-gadderbaum.de/veranstaltung/kindergottesdienst/2025-05-11/
LOCATION:Stephanuskirche
END:VEVENT
BEGIN:VEVENT
DTSTART;TZID=Europe/Berlin:20250511T113000
DTEND;TZID=Europe/Berlin:20250511T123000
DTSTAMP:20260422T060654
CREATED:20241223T151013Z
LAST-MODIFIED:20241223T151015Z
UID:10000921-1746963000-1746966600@www.martini-gadderbaum.de
SUMMARY:Kirchcafé
DESCRIPTION:
URL:https://www.martini-gadderbaum.de/veranstaltung/kirchcafe-2/2025-05-11/
LOCATION:Großer Saal
END:VEVENT
BEGIN:VEVENT
DTSTART;TZID=Europe/Berlin:20250511T170000
DTEND;TZID=Europe/Berlin:20250511T180000
DTSTAMP:20260422T060654
CREATED:20250224T161523Z
LAST-MODIFIED:20250224T161525Z
UID:10001531-1746982800-1746986400@www.martini-gadderbaum.de
SUMMARY:Orgelkonzert zum Orgeljubiläum | Klaus Tegeler und Prof. Jochen Modeß
DESCRIPTION:
URL:https://www.martini-gadderbaum.de/veranstaltung/orgelkonzert-zum-orgeljubilaeum-klaus-tegeler-und-prof-jochen-modess/
LOCATION:Stephanuskirche
END:VEVENT
END:VCALENDAR