BEGIN:VCALENDAR
VERSION:2.0
PRODID:-//Martini Kirchengemeinde Bielefeld Gadderbaum - ECPv6.15.17.1//NONSGML v1.0//EN
CALSCALE:GREGORIAN
METHOD:PUBLISH
X-WR-CALNAME:Martini Kirchengemeinde Bielefeld Gadderbaum
X-ORIGINAL-URL:https://www.martini-gadderbaum.de
X-WR-CALDESC:Veranstaltungen für Martini Kirchengemeinde Bielefeld Gadderbaum
REFRESH-INTERVAL;VALUE=DURATION:PT1H
X-Robots-Tag:noindex
X-PUBLISHED-TTL:PT1H
BEGIN:VTIMEZONE
TZID:Europe/Berlin
BEGIN:DAYLIGHT
TZOFFSETFROM:+0100
TZOFFSETTO:+0200
TZNAME:CEST
DTSTART:20250330T010000
END:DAYLIGHT
BEGIN:STANDARD
TZOFFSETFROM:+0200
TZOFFSETTO:+0100
TZNAME:CET
DTSTART:20251026T010000
END:STANDARD
BEGIN:DAYLIGHT
TZOFFSETFROM:+0100
TZOFFSETTO:+0200
TZNAME:CEST
DTSTART:20260329T010000
END:DAYLIGHT
BEGIN:STANDARD
TZOFFSETFROM:+0200
TZOFFSETTO:+0100
TZNAME:CET
DTSTART:20261025T010000
END:STANDARD
BEGIN:DAYLIGHT
TZOFFSETFROM:+0100
TZOFFSETTO:+0200
TZNAME:CEST
DTSTART:20270328T010000
END:DAYLIGHT
BEGIN:STANDARD
TZOFFSETFROM:+0200
TZOFFSETTO:+0100
TZNAME:CET
DTSTART:20271031T010000
END:STANDARD
END:VTIMEZONE
BEGIN:VEVENT
DTSTART;TZID=Europe/Berlin:20260422T193000
DTEND;TZID=Europe/Berlin:20260422T210000
DTSTAMP:20260421T133014
CREATED:20260101T150044Z
LAST-MODIFIED:20260101T150045Z
UID:10002538-1776886200-1776891600@www.martini-gadderbaum.de
SUMMARY:Blockflötenensemble
DESCRIPTION:
URL:https://www.martini-gadderbaum.de/veranstaltung/blockfloetenensemble-2/2026-04-22/
LOCATION:MEC
END:VEVENT
BEGIN:VEVENT
DTSTART;TZID=Europe/Berlin:20260429T193000
DTEND;TZID=Europe/Berlin:20260429T210000
DTSTAMP:20260421T133014
CREATED:20260101T150044Z
LAST-MODIFIED:20260101T150045Z
UID:10002539-1777491000-1777496400@www.martini-gadderbaum.de
SUMMARY:Blockflötenensemble
DESCRIPTION:
URL:https://www.martini-gadderbaum.de/veranstaltung/blockfloetenensemble-2/2026-04-29/
LOCATION:MEC
END:VEVENT
BEGIN:VEVENT
DTSTART;TZID=Europe/Berlin:20260506T193000
DTEND;TZID=Europe/Berlin:20260506T210000
DTSTAMP:20260421T133014
CREATED:20260101T150044Z
LAST-MODIFIED:20260101T150045Z
UID:10002540-1778095800-1778101200@www.martini-gadderbaum.de
SUMMARY:Blockflötenensemble
DESCRIPTION:
URL:https://www.martini-gadderbaum.de/veranstaltung/blockfloetenensemble-2/2026-05-06/
LOCATION:MEC
END:VEVENT
BEGIN:VEVENT
DTSTART;TZID=Europe/Berlin:20260513T193000
DTEND;TZID=Europe/Berlin:20260513T210000
DTSTAMP:20260421T133014
CREATED:20260101T150044Z
LAST-MODIFIED:20260101T150045Z
UID:10002541-1778700600-1778706000@www.martini-gadderbaum.de
SUMMARY:Blockflötenensemble
DESCRIPTION:
URL:https://www.martini-gadderbaum.de/veranstaltung/blockfloetenensemble-2/2026-05-13/
LOCATION:MEC
END:VEVENT
BEGIN:VEVENT
DTSTART;TZID=Europe/Berlin:20260520T193000
DTEND;TZID=Europe/Berlin:20260520T210000
DTSTAMP:20260421T133014
CREATED:20260101T150044Z
LAST-MODIFIED:20260101T150045Z
UID:10002542-1779305400-1779310800@www.martini-gadderbaum.de
SUMMARY:Blockflötenensemble
DESCRIPTION:
URL:https://www.martini-gadderbaum.de/veranstaltung/blockfloetenensemble-2/2026-05-20/
LOCATION:MEC
END:VEVENT
BEGIN:VEVENT
DTSTART;TZID=Europe/Berlin:20260527T193000
DTEND;TZID=Europe/Berlin:20260527T210000
DTSTAMP:20260421T133014
CREATED:20260101T150044Z
LAST-MODIFIED:20260101T150045Z
UID:10002543-1779910200-1779915600@www.martini-gadderbaum.de
SUMMARY:Blockflötenensemble
DESCRIPTION:
URL:https://www.martini-gadderbaum.de/veranstaltung/blockfloetenensemble-2/2026-05-27/
LOCATION:MEC
END:VEVENT
BEGIN:VEVENT
DTSTART;TZID=Europe/Berlin:20260603T193000
DTEND;TZID=Europe/Berlin:20260603T210000
DTSTAMP:20260421T133014
CREATED:20260101T150044Z
LAST-MODIFIED:20260101T150045Z
UID:10002544-1780515000-1780520400@www.martini-gadderbaum.de
SUMMARY:Blockflötenensemble
DESCRIPTION:
URL:https://www.martini-gadderbaum.de/veranstaltung/blockfloetenensemble-2/2026-06-03/
LOCATION:MEC
END:VEVENT
BEGIN:VEVENT
DTSTART;TZID=Europe/Berlin:20260610T193000
DTEND;TZID=Europe/Berlin:20260610T210000
DTSTAMP:20260421T133014
CREATED:20260101T150044Z
LAST-MODIFIED:20260101T150045Z
UID:10002545-1781119800-1781125200@www.martini-gadderbaum.de
SUMMARY:Blockflötenensemble
DESCRIPTION:
URL:https://www.martini-gadderbaum.de/veranstaltung/blockfloetenensemble-2/2026-06-10/
LOCATION:MEC
END:VEVENT
BEGIN:VEVENT
DTSTART;TZID=Europe/Berlin:20260617T193000
DTEND;TZID=Europe/Berlin:20260617T210000
DTSTAMP:20260421T133014
CREATED:20260101T150044Z
LAST-MODIFIED:20260101T150045Z
UID:10002546-1781724600-1781730000@www.martini-gadderbaum.de
SUMMARY:Blockflötenensemble
DESCRIPTION:
URL:https://www.martini-gadderbaum.de/veranstaltung/blockfloetenensemble-2/2026-06-17/
LOCATION:MEC
END:VEVENT
BEGIN:VEVENT
DTSTART;TZID=Europe/Berlin:20260624T193000
DTEND;TZID=Europe/Berlin:20260624T210000
DTSTAMP:20260421T133014
CREATED:20260101T150044Z
LAST-MODIFIED:20260101T150045Z
UID:10002547-1782329400-1782334800@www.martini-gadderbaum.de
SUMMARY:Blockflötenensemble
DESCRIPTION:
URL:https://www.martini-gadderbaum.de/veranstaltung/blockfloetenensemble-2/2026-06-24/
LOCATION:MEC
END:VEVENT
BEGIN:VEVENT
DTSTART;TZID=Europe/Berlin:20260701T193000
DTEND;TZID=Europe/Berlin:20260701T210000
DTSTAMP:20260421T133014
CREATED:20260101T150044Z
LAST-MODIFIED:20260101T150045Z
UID:10002548-1782934200-1782939600@www.martini-gadderbaum.de
SUMMARY:Blockflötenensemble
DESCRIPTION:
URL:https://www.martini-gadderbaum.de/veranstaltung/blockfloetenensemble-2/2026-07-01/
LOCATION:MEC
END:VEVENT
BEGIN:VEVENT
DTSTART;TZID=Europe/Berlin:20260708T193000
DTEND;TZID=Europe/Berlin:20260708T210000
DTSTAMP:20260421T133014
CREATED:20260101T150044Z
LAST-MODIFIED:20260101T150045Z
UID:10002549-1783539000-1783544400@www.martini-gadderbaum.de
SUMMARY:Blockflötenensemble
DESCRIPTION:
URL:https://www.martini-gadderbaum.de/veranstaltung/blockfloetenensemble-2/2026-07-08/
LOCATION:MEC
END:VEVENT
BEGIN:VEVENT
DTSTART;TZID=Europe/Berlin:20260715T193000
DTEND;TZID=Europe/Berlin:20260715T210000
DTSTAMP:20260421T133014
CREATED:20260101T150044Z
LAST-MODIFIED:20260101T150045Z
UID:10002550-1784143800-1784149200@www.martini-gadderbaum.de
SUMMARY:Blockflötenensemble
DESCRIPTION:
URL:https://www.martini-gadderbaum.de/veranstaltung/blockfloetenensemble-2/2026-07-15/
LOCATION:MEC
END:VEVENT
BEGIN:VEVENT
DTSTART;TZID=Europe/Berlin:20260722T193000
DTEND;TZID=Europe/Berlin:20260722T210000
DTSTAMP:20260421T133014
CREATED:20260101T150044Z
LAST-MODIFIED:20260101T150045Z
UID:10002551-1784748600-1784754000@www.martini-gadderbaum.de
SUMMARY:Blockflötenensemble
DESCRIPTION:
URL:https://www.martini-gadderbaum.de/veranstaltung/blockfloetenensemble-2/2026-07-22/
LOCATION:MEC
END:VEVENT
BEGIN:VEVENT
DTSTART;TZID=Europe/Berlin:20260729T193000
DTEND;TZID=Europe/Berlin:20260729T210000
DTSTAMP:20260421T133014
CREATED:20260101T150044Z
LAST-MODIFIED:20260101T150045Z
UID:10002552-1785353400-1785358800@www.martini-gadderbaum.de
SUMMARY:Blockflötenensemble
DESCRIPTION:
URL:https://www.martini-gadderbaum.de/veranstaltung/blockfloetenensemble-2/2026-07-29/
LOCATION:MEC
END:VEVENT
BEGIN:VEVENT
DTSTART;TZID=Europe/Berlin:20260805T193000
DTEND;TZID=Europe/Berlin:20260805T210000
DTSTAMP:20260421T133014
CREATED:20260101T150044Z
LAST-MODIFIED:20260101T150045Z
UID:10002553-1785958200-1785963600@www.martini-gadderbaum.de
SUMMARY:Blockflötenensemble
DESCRIPTION:
URL:https://www.martini-gadderbaum.de/veranstaltung/blockfloetenensemble-2/2026-08-05/
LOCATION:MEC
END:VEVENT
BEGIN:VEVENT
DTSTART;TZID=Europe/Berlin:20260812T193000
DTEND;TZID=Europe/Berlin:20260812T210000
DTSTAMP:20260421T133014
CREATED:20260101T150044Z
LAST-MODIFIED:20260101T150045Z
UID:10002554-1786563000-1786568400@www.martini-gadderbaum.de
SUMMARY:Blockflötenensemble
DESCRIPTION:
URL:https://www.martini-gadderbaum.de/veranstaltung/blockfloetenensemble-2/2026-08-12/
LOCATION:MEC
END:VEVENT
BEGIN:VEVENT
DTSTART;TZID=Europe/Berlin:20260819T193000
DTEND;TZID=Europe/Berlin:20260819T210000
DTSTAMP:20260421T133014
CREATED:20260101T150044Z
LAST-MODIFIED:20260101T150045Z
UID:10002555-1787167800-1787173200@www.martini-gadderbaum.de
SUMMARY:Blockflötenensemble
DESCRIPTION:
URL:https://www.martini-gadderbaum.de/veranstaltung/blockfloetenensemble-2/2026-08-19/
LOCATION:MEC
END:VEVENT
BEGIN:VEVENT
DTSTART;TZID=Europe/Berlin:20260826T193000
DTEND;TZID=Europe/Berlin:20260826T210000
DTSTAMP:20260421T133014
CREATED:20260101T150044Z
LAST-MODIFIED:20260101T150045Z
UID:10002556-1787772600-1787778000@www.martini-gadderbaum.de
SUMMARY:Blockflötenensemble
DESCRIPTION:
URL:https://www.martini-gadderbaum.de/veranstaltung/blockfloetenensemble-2/2026-08-26/
LOCATION:MEC
END:VEVENT
BEGIN:VEVENT
DTSTART;TZID=Europe/Berlin:20260902T193000
DTEND;TZID=Europe/Berlin:20260902T210000
DTSTAMP:20260421T133014
CREATED:20260101T150044Z
LAST-MODIFIED:20260101T150045Z
UID:10002557-1788377400-1788382800@www.martini-gadderbaum.de
SUMMARY:Blockflötenensemble
DESCRIPTION:
URL:https://www.martini-gadderbaum.de/veranstaltung/blockfloetenensemble-2/2026-09-02/
LOCATION:MEC
END:VEVENT
BEGIN:VEVENT
DTSTART;TZID=Europe/Berlin:20260909T193000
DTEND;TZID=Europe/Berlin:20260909T210000
DTSTAMP:20260421T133014
CREATED:20260101T150044Z
LAST-MODIFIED:20260101T150045Z
UID:10002558-1788982200-1788987600@www.martini-gadderbaum.de
SUMMARY:Blockflötenensemble
DESCRIPTION:
URL:https://www.martini-gadderbaum.de/veranstaltung/blockfloetenensemble-2/2026-09-09/
LOCATION:MEC
END:VEVENT
BEGIN:VEVENT
DTSTART;TZID=Europe/Berlin:20260916T193000
DTEND;TZID=Europe/Berlin:20260916T210000
DTSTAMP:20260421T133014
CREATED:20260101T150044Z
LAST-MODIFIED:20260101T150045Z
UID:10002559-1789587000-1789592400@www.martini-gadderbaum.de
SUMMARY:Blockflötenensemble
DESCRIPTION:
URL:https://www.martini-gadderbaum.de/veranstaltung/blockfloetenensemble-2/2026-09-16/
LOCATION:MEC
END:VEVENT
BEGIN:VEVENT
DTSTART;TZID=Europe/Berlin:20260923T193000
DTEND;TZID=Europe/Berlin:20260923T210000
DTSTAMP:20260421T133014
CREATED:20260101T150044Z
LAST-MODIFIED:20260101T150045Z
UID:10002560-1790191800-1790197200@www.martini-gadderbaum.de
SUMMARY:Blockflötenensemble
DESCRIPTION:
URL:https://www.martini-gadderbaum.de/veranstaltung/blockfloetenensemble-2/2026-09-23/
LOCATION:MEC
END:VEVENT
BEGIN:VEVENT
DTSTART;TZID=Europe/Berlin:20260930T193000
DTEND;TZID=Europe/Berlin:20260930T210000
DTSTAMP:20260421T133014
CREATED:20260101T150044Z
LAST-MODIFIED:20260101T150045Z
UID:10002561-1790796600-1790802000@www.martini-gadderbaum.de
SUMMARY:Blockflötenensemble
DESCRIPTION:
URL:https://www.martini-gadderbaum.de/veranstaltung/blockfloetenensemble-2/2026-09-30/
LOCATION:MEC
END:VEVENT
BEGIN:VEVENT
DTSTART;TZID=Europe/Berlin:20261007T193000
DTEND;TZID=Europe/Berlin:20261007T210000
DTSTAMP:20260421T133014
CREATED:20260101T150044Z
LAST-MODIFIED:20260101T150045Z
UID:10002562-1791401400-1791406800@www.martini-gadderbaum.de
SUMMARY:Blockflötenensemble
DESCRIPTION:
URL:https://www.martini-gadderbaum.de/veranstaltung/blockfloetenensemble-2/2026-10-07/
LOCATION:MEC
END:VEVENT
BEGIN:VEVENT
DTSTART;TZID=Europe/Berlin:20261014T193000
DTEND;TZID=Europe/Berlin:20261014T210000
DTSTAMP:20260421T133014
CREATED:20260101T150044Z
LAST-MODIFIED:20260101T150045Z
UID:10002563-1792006200-1792011600@www.martini-gadderbaum.de
SUMMARY:Blockflötenensemble
DESCRIPTION:
URL:https://www.martini-gadderbaum.de/veranstaltung/blockfloetenensemble-2/2026-10-14/
LOCATION:MEC
END:VEVENT
BEGIN:VEVENT
DTSTART;TZID=Europe/Berlin:20261021T193000
DTEND;TZID=Europe/Berlin:20261021T210000
DTSTAMP:20260421T133014
CREATED:20260101T150044Z
LAST-MODIFIED:20260101T150045Z
UID:10002564-1792611000-1792616400@www.martini-gadderbaum.de
SUMMARY:Blockflötenensemble
DESCRIPTION:
URL:https://www.martini-gadderbaum.de/veranstaltung/blockfloetenensemble-2/2026-10-21/
LOCATION:MEC
END:VEVENT
BEGIN:VEVENT
DTSTART;TZID=Europe/Berlin:20261028T193000
DTEND;TZID=Europe/Berlin:20261028T210000
DTSTAMP:20260421T133014
CREATED:20260101T150044Z
LAST-MODIFIED:20260101T150045Z
UID:10002565-1793215800-1793221200@www.martini-gadderbaum.de
SUMMARY:Blockflötenensemble
DESCRIPTION:
URL:https://www.martini-gadderbaum.de/veranstaltung/blockfloetenensemble-2/2026-10-28/
LOCATION:MEC
END:VEVENT
BEGIN:VEVENT
DTSTART;TZID=Europe/Berlin:20261104T193000
DTEND;TZID=Europe/Berlin:20261104T210000
DTSTAMP:20260421T133014
CREATED:20260101T150044Z
LAST-MODIFIED:20260101T150045Z
UID:10002566-1793820600-1793826000@www.martini-gadderbaum.de
SUMMARY:Blockflötenensemble
DESCRIPTION:
URL:https://www.martini-gadderbaum.de/veranstaltung/blockfloetenensemble-2/2026-11-04/
LOCATION:MEC
END:VEVENT
BEGIN:VEVENT
DTSTART;TZID=Europe/Berlin:20261111T193000
DTEND;TZID=Europe/Berlin:20261111T210000
DTSTAMP:20260421T133014
CREATED:20260101T150044Z
LAST-MODIFIED:20260101T150045Z
UID:10002567-1794425400-1794430800@www.martini-gadderbaum.de
SUMMARY:Blockflötenensemble
DESCRIPTION:
URL:https://www.martini-gadderbaum.de/veranstaltung/blockfloetenensemble-2/2026-11-11/
LOCATION:MEC
END:VEVENT
END:VCALENDAR