BEGIN:VCALENDAR
VERSION:2.0
PRODID:-//Martini Kirchengemeinde Bielefeld Gadderbaum - ECPv6.15.17.1//NONSGML v1.0//EN
CALSCALE:GREGORIAN
METHOD:PUBLISH
X-WR-CALNAME:Martini Kirchengemeinde Bielefeld Gadderbaum
X-ORIGINAL-URL:https://www.martini-gadderbaum.de
X-WR-CALDESC:Veranstaltungen für Martini Kirchengemeinde Bielefeld Gadderbaum
REFRESH-INTERVAL;VALUE=DURATION:PT1H
X-Robots-Tag:noindex
X-PUBLISHED-TTL:PT1H
BEGIN:VTIMEZONE
TZID:Europe/Berlin
BEGIN:DAYLIGHT
TZOFFSETFROM:+0100
TZOFFSETTO:+0200
TZNAME:CEST
DTSTART:20250330T010000
END:DAYLIGHT
BEGIN:STANDARD
TZOFFSETFROM:+0200
TZOFFSETTO:+0100
TZNAME:CET
DTSTART:20251026T010000
END:STANDARD
BEGIN:DAYLIGHT
TZOFFSETFROM:+0100
TZOFFSETTO:+0200
TZNAME:CEST
DTSTART:20260329T010000
END:DAYLIGHT
BEGIN:STANDARD
TZOFFSETFROM:+0200
TZOFFSETTO:+0100
TZNAME:CET
DTSTART:20261025T010000
END:STANDARD
BEGIN:DAYLIGHT
TZOFFSETFROM:+0100
TZOFFSETTO:+0200
TZNAME:CEST
DTSTART:20270328T010000
END:DAYLIGHT
BEGIN:STANDARD
TZOFFSETFROM:+0200
TZOFFSETTO:+0100
TZNAME:CET
DTSTART:20271031T010000
END:STANDARD
END:VTIMEZONE
BEGIN:VEVENT
DTSTART;TZID=Europe/Berlin:20260421T093000
DTEND;TZID=Europe/Berlin:20260421T110000
DTSTAMP:20260420T182238
CREATED:20260101T145226Z
LAST-MODIFIED:20260101T145228Z
UID:10002432-1776763800-1776769200@www.martini-gadderbaum.de
SUMMARY:Tischtennis für Senior*innen
DESCRIPTION:
URL:https://www.martini-gadderbaum.de/veranstaltung/tischtennis-fuer-seniorinnen-2/2026-04-21/
LOCATION:Großer Saal
END:VEVENT
BEGIN:VEVENT
DTSTART;TZID=Europe/Berlin:20260428T093000
DTEND;TZID=Europe/Berlin:20260428T110000
DTSTAMP:20260420T182238
CREATED:20260101T145226Z
LAST-MODIFIED:20260101T145228Z
UID:10002433-1777368600-1777374000@www.martini-gadderbaum.de
SUMMARY:Tischtennis für Senior*innen
DESCRIPTION:
URL:https://www.martini-gadderbaum.de/veranstaltung/tischtennis-fuer-seniorinnen-2/2026-04-28/
LOCATION:Großer Saal
END:VEVENT
BEGIN:VEVENT
DTSTART;TZID=Europe/Berlin:20260505T093000
DTEND;TZID=Europe/Berlin:20260505T110000
DTSTAMP:20260420T182238
CREATED:20260101T145226Z
LAST-MODIFIED:20260101T145228Z
UID:10002434-1777973400-1777978800@www.martini-gadderbaum.de
SUMMARY:Tischtennis für Senior*innen
DESCRIPTION:
URL:https://www.martini-gadderbaum.de/veranstaltung/tischtennis-fuer-seniorinnen-2/2026-05-05/
LOCATION:Großer Saal
END:VEVENT
BEGIN:VEVENT
DTSTART;TZID=Europe/Berlin:20260512T093000
DTEND;TZID=Europe/Berlin:20260512T110000
DTSTAMP:20260420T182238
CREATED:20260101T145226Z
LAST-MODIFIED:20260101T145228Z
UID:10002435-1778578200-1778583600@www.martini-gadderbaum.de
SUMMARY:Tischtennis für Senior*innen
DESCRIPTION:
URL:https://www.martini-gadderbaum.de/veranstaltung/tischtennis-fuer-seniorinnen-2/2026-05-12/
LOCATION:Großer Saal
END:VEVENT
BEGIN:VEVENT
DTSTART;TZID=Europe/Berlin:20260519T093000
DTEND;TZID=Europe/Berlin:20260519T110000
DTSTAMP:20260420T182238
CREATED:20260101T145226Z
LAST-MODIFIED:20260101T145228Z
UID:10002436-1779183000-1779188400@www.martini-gadderbaum.de
SUMMARY:Tischtennis für Senior*innen
DESCRIPTION:
URL:https://www.martini-gadderbaum.de/veranstaltung/tischtennis-fuer-seniorinnen-2/2026-05-19/
LOCATION:Großer Saal
END:VEVENT
BEGIN:VEVENT
DTSTART;TZID=Europe/Berlin:20260526T093000
DTEND;TZID=Europe/Berlin:20260526T110000
DTSTAMP:20260420T182238
CREATED:20260101T145226Z
LAST-MODIFIED:20260101T145228Z
UID:10002437-1779787800-1779793200@www.martini-gadderbaum.de
SUMMARY:Tischtennis für Senior*innen
DESCRIPTION:
URL:https://www.martini-gadderbaum.de/veranstaltung/tischtennis-fuer-seniorinnen-2/2026-05-26/
LOCATION:Großer Saal
END:VEVENT
BEGIN:VEVENT
DTSTART;TZID=Europe/Berlin:20260602T093000
DTEND;TZID=Europe/Berlin:20260602T110000
DTSTAMP:20260420T182238
CREATED:20260101T145226Z
LAST-MODIFIED:20260101T145228Z
UID:10002438-1780392600-1780398000@www.martini-gadderbaum.de
SUMMARY:Tischtennis für Senior*innen
DESCRIPTION:
URL:https://www.martini-gadderbaum.de/veranstaltung/tischtennis-fuer-seniorinnen-2/2026-06-02/
LOCATION:Großer Saal
END:VEVENT
BEGIN:VEVENT
DTSTART;TZID=Europe/Berlin:20260609T093000
DTEND;TZID=Europe/Berlin:20260609T110000
DTSTAMP:20260420T182238
CREATED:20260101T145226Z
LAST-MODIFIED:20260101T145228Z
UID:10002439-1780997400-1781002800@www.martini-gadderbaum.de
SUMMARY:Tischtennis für Senior*innen
DESCRIPTION:
URL:https://www.martini-gadderbaum.de/veranstaltung/tischtennis-fuer-seniorinnen-2/2026-06-09/
LOCATION:Großer Saal
END:VEVENT
BEGIN:VEVENT
DTSTART;TZID=Europe/Berlin:20260616T093000
DTEND;TZID=Europe/Berlin:20260616T110000
DTSTAMP:20260420T182238
CREATED:20260101T145226Z
LAST-MODIFIED:20260101T145228Z
UID:10002440-1781602200-1781607600@www.martini-gadderbaum.de
SUMMARY:Tischtennis für Senior*innen
DESCRIPTION:
URL:https://www.martini-gadderbaum.de/veranstaltung/tischtennis-fuer-seniorinnen-2/2026-06-16/
LOCATION:Großer Saal
END:VEVENT
BEGIN:VEVENT
DTSTART;TZID=Europe/Berlin:20260623T093000
DTEND;TZID=Europe/Berlin:20260623T110000
DTSTAMP:20260420T182238
CREATED:20260101T145226Z
LAST-MODIFIED:20260101T145228Z
UID:10002441-1782207000-1782212400@www.martini-gadderbaum.de
SUMMARY:Tischtennis für Senior*innen
DESCRIPTION:
URL:https://www.martini-gadderbaum.de/veranstaltung/tischtennis-fuer-seniorinnen-2/2026-06-23/
LOCATION:Großer Saal
END:VEVENT
BEGIN:VEVENT
DTSTART;TZID=Europe/Berlin:20260630T093000
DTEND;TZID=Europe/Berlin:20260630T110000
DTSTAMP:20260420T182238
CREATED:20260101T145226Z
LAST-MODIFIED:20260101T145228Z
UID:10002442-1782811800-1782817200@www.martini-gadderbaum.de
SUMMARY:Tischtennis für Senior*innen
DESCRIPTION:
URL:https://www.martini-gadderbaum.de/veranstaltung/tischtennis-fuer-seniorinnen-2/2026-06-30/
LOCATION:Großer Saal
END:VEVENT
BEGIN:VEVENT
DTSTART;TZID=Europe/Berlin:20260707T093000
DTEND;TZID=Europe/Berlin:20260707T110000
DTSTAMP:20260420T182238
CREATED:20260101T145226Z
LAST-MODIFIED:20260101T145228Z
UID:10002443-1783416600-1783422000@www.martini-gadderbaum.de
SUMMARY:Tischtennis für Senior*innen
DESCRIPTION:
URL:https://www.martini-gadderbaum.de/veranstaltung/tischtennis-fuer-seniorinnen-2/2026-07-07/
LOCATION:Großer Saal
END:VEVENT
BEGIN:VEVENT
DTSTART;TZID=Europe/Berlin:20260714T093000
DTEND;TZID=Europe/Berlin:20260714T110000
DTSTAMP:20260420T182238
CREATED:20260101T145226Z
LAST-MODIFIED:20260101T145228Z
UID:10002444-1784021400-1784026800@www.martini-gadderbaum.de
SUMMARY:Tischtennis für Senior*innen
DESCRIPTION:
URL:https://www.martini-gadderbaum.de/veranstaltung/tischtennis-fuer-seniorinnen-2/2026-07-14/
LOCATION:Großer Saal
END:VEVENT
BEGIN:VEVENT
DTSTART;TZID=Europe/Berlin:20260721T093000
DTEND;TZID=Europe/Berlin:20260721T110000
DTSTAMP:20260420T182238
CREATED:20260101T145226Z
LAST-MODIFIED:20260101T145228Z
UID:10002445-1784626200-1784631600@www.martini-gadderbaum.de
SUMMARY:Tischtennis für Senior*innen
DESCRIPTION:
URL:https://www.martini-gadderbaum.de/veranstaltung/tischtennis-fuer-seniorinnen-2/2026-07-21/
LOCATION:Großer Saal
END:VEVENT
BEGIN:VEVENT
DTSTART;TZID=Europe/Berlin:20260728T093000
DTEND;TZID=Europe/Berlin:20260728T110000
DTSTAMP:20260420T182238
CREATED:20260101T145226Z
LAST-MODIFIED:20260101T145228Z
UID:10002446-1785231000-1785236400@www.martini-gadderbaum.de
SUMMARY:Tischtennis für Senior*innen
DESCRIPTION:
URL:https://www.martini-gadderbaum.de/veranstaltung/tischtennis-fuer-seniorinnen-2/2026-07-28/
LOCATION:Großer Saal
END:VEVENT
BEGIN:VEVENT
DTSTART;TZID=Europe/Berlin:20260804T093000
DTEND;TZID=Europe/Berlin:20260804T110000
DTSTAMP:20260420T182238
CREATED:20260101T145226Z
LAST-MODIFIED:20260101T145228Z
UID:10002447-1785835800-1785841200@www.martini-gadderbaum.de
SUMMARY:Tischtennis für Senior*innen
DESCRIPTION:
URL:https://www.martini-gadderbaum.de/veranstaltung/tischtennis-fuer-seniorinnen-2/2026-08-04/
LOCATION:Großer Saal
END:VEVENT
BEGIN:VEVENT
DTSTART;TZID=Europe/Berlin:20260811T093000
DTEND;TZID=Europe/Berlin:20260811T110000
DTSTAMP:20260420T182238
CREATED:20260101T145226Z
LAST-MODIFIED:20260101T145228Z
UID:10002448-1786440600-1786446000@www.martini-gadderbaum.de
SUMMARY:Tischtennis für Senior*innen
DESCRIPTION:
URL:https://www.martini-gadderbaum.de/veranstaltung/tischtennis-fuer-seniorinnen-2/2026-08-11/
LOCATION:Großer Saal
END:VEVENT
BEGIN:VEVENT
DTSTART;TZID=Europe/Berlin:20260818T093000
DTEND;TZID=Europe/Berlin:20260818T110000
DTSTAMP:20260420T182238
CREATED:20260101T145226Z
LAST-MODIFIED:20260101T145228Z
UID:10002449-1787045400-1787050800@www.martini-gadderbaum.de
SUMMARY:Tischtennis für Senior*innen
DESCRIPTION:
URL:https://www.martini-gadderbaum.de/veranstaltung/tischtennis-fuer-seniorinnen-2/2026-08-18/
LOCATION:Großer Saal
END:VEVENT
BEGIN:VEVENT
DTSTART;TZID=Europe/Berlin:20260825T093000
DTEND;TZID=Europe/Berlin:20260825T110000
DTSTAMP:20260420T182238
CREATED:20260101T145226Z
LAST-MODIFIED:20260101T145228Z
UID:10002450-1787650200-1787655600@www.martini-gadderbaum.de
SUMMARY:Tischtennis für Senior*innen
DESCRIPTION:
URL:https://www.martini-gadderbaum.de/veranstaltung/tischtennis-fuer-seniorinnen-2/2026-08-25/
LOCATION:Großer Saal
END:VEVENT
BEGIN:VEVENT
DTSTART;TZID=Europe/Berlin:20260901T093000
DTEND;TZID=Europe/Berlin:20260901T110000
DTSTAMP:20260420T182238
CREATED:20260101T145226Z
LAST-MODIFIED:20260101T145228Z
UID:10002451-1788255000-1788260400@www.martini-gadderbaum.de
SUMMARY:Tischtennis für Senior*innen
DESCRIPTION:
URL:https://www.martini-gadderbaum.de/veranstaltung/tischtennis-fuer-seniorinnen-2/2026-09-01/
LOCATION:Großer Saal
END:VEVENT
BEGIN:VEVENT
DTSTART;TZID=Europe/Berlin:20260908T093000
DTEND;TZID=Europe/Berlin:20260908T110000
DTSTAMP:20260420T182238
CREATED:20260101T145226Z
LAST-MODIFIED:20260101T145228Z
UID:10002452-1788859800-1788865200@www.martini-gadderbaum.de
SUMMARY:Tischtennis für Senior*innen
DESCRIPTION:
URL:https://www.martini-gadderbaum.de/veranstaltung/tischtennis-fuer-seniorinnen-2/2026-09-08/
LOCATION:Großer Saal
END:VEVENT
BEGIN:VEVENT
DTSTART;TZID=Europe/Berlin:20260915T093000
DTEND;TZID=Europe/Berlin:20260915T110000
DTSTAMP:20260420T182238
CREATED:20260101T145226Z
LAST-MODIFIED:20260101T145228Z
UID:10002453-1789464600-1789470000@www.martini-gadderbaum.de
SUMMARY:Tischtennis für Senior*innen
DESCRIPTION:
URL:https://www.martini-gadderbaum.de/veranstaltung/tischtennis-fuer-seniorinnen-2/2026-09-15/
LOCATION:Großer Saal
END:VEVENT
BEGIN:VEVENT
DTSTART;TZID=Europe/Berlin:20260922T093000
DTEND;TZID=Europe/Berlin:20260922T110000
DTSTAMP:20260420T182238
CREATED:20260101T145226Z
LAST-MODIFIED:20260101T145228Z
UID:10002454-1790069400-1790074800@www.martini-gadderbaum.de
SUMMARY:Tischtennis für Senior*innen
DESCRIPTION:
URL:https://www.martini-gadderbaum.de/veranstaltung/tischtennis-fuer-seniorinnen-2/2026-09-22/
LOCATION:Großer Saal
END:VEVENT
BEGIN:VEVENT
DTSTART;TZID=Europe/Berlin:20260929T093000
DTEND;TZID=Europe/Berlin:20260929T110000
DTSTAMP:20260420T182238
CREATED:20260101T145226Z
LAST-MODIFIED:20260101T145228Z
UID:10002455-1790674200-1790679600@www.martini-gadderbaum.de
SUMMARY:Tischtennis für Senior*innen
DESCRIPTION:
URL:https://www.martini-gadderbaum.de/veranstaltung/tischtennis-fuer-seniorinnen-2/2026-09-29/
LOCATION:Großer Saal
END:VEVENT
BEGIN:VEVENT
DTSTART;TZID=Europe/Berlin:20261006T093000
DTEND;TZID=Europe/Berlin:20261006T110000
DTSTAMP:20260420T182238
CREATED:20260101T145226Z
LAST-MODIFIED:20260101T145228Z
UID:10002456-1791279000-1791284400@www.martini-gadderbaum.de
SUMMARY:Tischtennis für Senior*innen
DESCRIPTION:
URL:https://www.martini-gadderbaum.de/veranstaltung/tischtennis-fuer-seniorinnen-2/2026-10-06/
LOCATION:Großer Saal
END:VEVENT
BEGIN:VEVENT
DTSTART;TZID=Europe/Berlin:20261013T093000
DTEND;TZID=Europe/Berlin:20261013T110000
DTSTAMP:20260420T182238
CREATED:20260101T145226Z
LAST-MODIFIED:20260101T145228Z
UID:10002457-1791883800-1791889200@www.martini-gadderbaum.de
SUMMARY:Tischtennis für Senior*innen
DESCRIPTION:
URL:https://www.martini-gadderbaum.de/veranstaltung/tischtennis-fuer-seniorinnen-2/2026-10-13/
LOCATION:Großer Saal
END:VEVENT
BEGIN:VEVENT
DTSTART;TZID=Europe/Berlin:20261020T093000
DTEND;TZID=Europe/Berlin:20261020T110000
DTSTAMP:20260420T182238
CREATED:20260101T145226Z
LAST-MODIFIED:20260101T145228Z
UID:10002458-1792488600-1792494000@www.martini-gadderbaum.de
SUMMARY:Tischtennis für Senior*innen
DESCRIPTION:
URL:https://www.martini-gadderbaum.de/veranstaltung/tischtennis-fuer-seniorinnen-2/2026-10-20/
LOCATION:Großer Saal
END:VEVENT
BEGIN:VEVENT
DTSTART;TZID=Europe/Berlin:20261027T093000
DTEND;TZID=Europe/Berlin:20261027T110000
DTSTAMP:20260420T182238
CREATED:20260101T145226Z
LAST-MODIFIED:20260101T145228Z
UID:10002459-1793093400-1793098800@www.martini-gadderbaum.de
SUMMARY:Tischtennis für Senior*innen
DESCRIPTION:
URL:https://www.martini-gadderbaum.de/veranstaltung/tischtennis-fuer-seniorinnen-2/2026-10-27/
LOCATION:Großer Saal
END:VEVENT
BEGIN:VEVENT
DTSTART;TZID=Europe/Berlin:20261103T093000
DTEND;TZID=Europe/Berlin:20261103T110000
DTSTAMP:20260420T182238
CREATED:20260101T145226Z
LAST-MODIFIED:20260101T145228Z
UID:10002460-1793698200-1793703600@www.martini-gadderbaum.de
SUMMARY:Tischtennis für Senior*innen
DESCRIPTION:
URL:https://www.martini-gadderbaum.de/veranstaltung/tischtennis-fuer-seniorinnen-2/2026-11-03/
LOCATION:Großer Saal
END:VEVENT
BEGIN:VEVENT
DTSTART;TZID=Europe/Berlin:20261110T093000
DTEND;TZID=Europe/Berlin:20261110T110000
DTSTAMP:20260420T182238
CREATED:20260101T145226Z
LAST-MODIFIED:20260101T145228Z
UID:10002461-1794303000-1794308400@www.martini-gadderbaum.de
SUMMARY:Tischtennis für Senior*innen
DESCRIPTION:
URL:https://www.martini-gadderbaum.de/veranstaltung/tischtennis-fuer-seniorinnen-2/2026-11-10/
LOCATION:Großer Saal
END:VEVENT
END:VCALENDAR