BEGIN:VCALENDAR
VERSION:2.0
PRODID:-//Martini Kirchengemeinde Bielefeld Gadderbaum - ECPv6.15.17.1//NONSGML v1.0//EN
CALSCALE:GREGORIAN
METHOD:PUBLISH
X-WR-CALNAME:Martini Kirchengemeinde Bielefeld Gadderbaum
X-ORIGINAL-URL:https://www.martini-gadderbaum.de
X-WR-CALDESC:Veranstaltungen für Martini Kirchengemeinde Bielefeld Gadderbaum
REFRESH-INTERVAL;VALUE=DURATION:PT1H
X-Robots-Tag:noindex
X-PUBLISHED-TTL:PT1H
BEGIN:VTIMEZONE
TZID:Europe/Berlin
BEGIN:DAYLIGHT
TZOFFSETFROM:+0100
TZOFFSETTO:+0200
TZNAME:CEST
DTSTART:20250330T010000
END:DAYLIGHT
BEGIN:STANDARD
TZOFFSETFROM:+0200
TZOFFSETTO:+0100
TZNAME:CET
DTSTART:20251026T010000
END:STANDARD
BEGIN:DAYLIGHT
TZOFFSETFROM:+0100
TZOFFSETTO:+0200
TZNAME:CEST
DTSTART:20260329T010000
END:DAYLIGHT
BEGIN:STANDARD
TZOFFSETFROM:+0200
TZOFFSETTO:+0100
TZNAME:CET
DTSTART:20261025T010000
END:STANDARD
BEGIN:DAYLIGHT
TZOFFSETFROM:+0100
TZOFFSETTO:+0200
TZNAME:CEST
DTSTART:20270328T010000
END:DAYLIGHT
BEGIN:STANDARD
TZOFFSETFROM:+0200
TZOFFSETTO:+0100
TZNAME:CET
DTSTART:20271031T010000
END:STANDARD
END:VTIMEZONE
BEGIN:VEVENT
DTSTART;TZID=Europe/Berlin:20260426T113000
DTEND;TZID=Europe/Berlin:20260426T123000
DTSTAMP:20260421T120740
CREATED:20251226T085821Z
LAST-MODIFIED:20251226T090012Z
UID:10002157-1777203000-1777206600@www.martini-gadderbaum.de
SUMMARY:Kirchcafé
DESCRIPTION:
URL:https://www.martini-gadderbaum.de/veranstaltung/kirchcafe-7/2026-04-26/
LOCATION:Stephanuskirche\, Pellaweg 4
END:VEVENT
BEGIN:VEVENT
DTSTART;TZID=Europe/Berlin:20260503T113000
DTEND;TZID=Europe/Berlin:20260503T123000
DTSTAMP:20260421T120740
CREATED:20251229T092905Z
LAST-MODIFIED:20251229T092907Z
UID:10002158-1777807800-1777811400@www.martini-gadderbaum.de
SUMMARY:Musikalisches Kirchcafé
DESCRIPTION:
URL:https://www.martini-gadderbaum.de/veranstaltung/kirchcafe-11/
LOCATION:Stephanuskirche\, Pellaweg 4
END:VEVENT
BEGIN:VEVENT
DTSTART;TZID=Europe/Berlin:20260510T113000
DTEND;TZID=Europe/Berlin:20260510T123000
DTSTAMP:20260421T120740
CREATED:20251226T085821Z
LAST-MODIFIED:20251226T090012Z
UID:10002159-1778412600-1778416200@www.martini-gadderbaum.de
SUMMARY:Kirchcafé
DESCRIPTION:
URL:https://www.martini-gadderbaum.de/veranstaltung/kirchcafe-7/2026-05-10/
LOCATION:Stephanuskirche\, Pellaweg 4
END:VEVENT
BEGIN:VEVENT
DTSTART;TZID=Europe/Berlin:20260517T113000
DTEND;TZID=Europe/Berlin:20260517T123000
DTSTAMP:20260421T120740
CREATED:20251229T094439Z
LAST-MODIFIED:20251229T094440Z
UID:10002160-1779017400-1779021000@www.martini-gadderbaum.de
SUMMARY:Gemeindeversammlung mit Kirchcafé
DESCRIPTION:
URL:https://www.martini-gadderbaum.de/veranstaltung/kirchcafe-12/
LOCATION:Stephanuskirche\, Pellaweg 4
END:VEVENT
BEGIN:VEVENT
DTSTART;TZID=Europe/Berlin:20260524T113000
DTEND;TZID=Europe/Berlin:20260524T123000
DTSTAMP:20260421T120740
CREATED:20251226T085821Z
LAST-MODIFIED:20251226T090012Z
UID:10002161-1779622200-1779625800@www.martini-gadderbaum.de
SUMMARY:Kirchcafé
DESCRIPTION:
URL:https://www.martini-gadderbaum.de/veranstaltung/kirchcafe-7/2026-05-24/
LOCATION:Stephanuskirche\, Pellaweg 4
END:VEVENT
BEGIN:VEVENT
DTSTART;TZID=Europe/Berlin:20260531T113000
DTEND;TZID=Europe/Berlin:20260531T123000
DTSTAMP:20260421T120740
CREATED:20251226T085821Z
LAST-MODIFIED:20251226T090012Z
UID:10002162-1780227000-1780230600@www.martini-gadderbaum.de
SUMMARY:Kirchcafé
DESCRIPTION:
URL:https://www.martini-gadderbaum.de/veranstaltung/kirchcafe-7/2026-05-31/
LOCATION:Stephanuskirche\, Pellaweg 4
END:VEVENT
BEGIN:VEVENT
DTSTART;TZID=Europe/Berlin:20260607T113000
DTEND;TZID=Europe/Berlin:20260607T123000
DTSTAMP:20260421T120740
CREATED:20251226T085821Z
LAST-MODIFIED:20251226T090012Z
UID:10002163-1780831800-1780835400@www.martini-gadderbaum.de
SUMMARY:Kirchcafé
DESCRIPTION:
URL:https://www.martini-gadderbaum.de/veranstaltung/kirchcafe-7/2026-06-07/
LOCATION:Stephanuskirche\, Pellaweg 4
END:VEVENT
BEGIN:VEVENT
DTSTART;TZID=Europe/Berlin:20260614T113000
DTEND;TZID=Europe/Berlin:20260614T123000
DTSTAMP:20260421T120740
CREATED:20251226T085821Z
LAST-MODIFIED:20251226T090012Z
UID:10002164-1781436600-1781440200@www.martini-gadderbaum.de
SUMMARY:Kirchcafé
DESCRIPTION:
URL:https://www.martini-gadderbaum.de/veranstaltung/kirchcafe-7/2026-06-14/
LOCATION:Stephanuskirche\, Pellaweg 4
END:VEVENT
BEGIN:VEVENT
DTSTART;TZID=Europe/Berlin:20260621T113000
DTEND;TZID=Europe/Berlin:20260621T123000
DTSTAMP:20260421T120740
CREATED:20251226T085821Z
LAST-MODIFIED:20251226T090012Z
UID:10002165-1782041400-1782045000@www.martini-gadderbaum.de
SUMMARY:Kirchcafé
DESCRIPTION:
URL:https://www.martini-gadderbaum.de/veranstaltung/kirchcafe-7/2026-06-21/
LOCATION:Stephanuskirche\, Pellaweg 4
END:VEVENT
BEGIN:VEVENT
DTSTART;TZID=Europe/Berlin:20260628T113000
DTEND;TZID=Europe/Berlin:20260628T123000
DTSTAMP:20260421T120740
CREATED:20251226T085821Z
LAST-MODIFIED:20251226T090012Z
UID:10002166-1782646200-1782649800@www.martini-gadderbaum.de
SUMMARY:Kirchcafé
DESCRIPTION:
URL:https://www.martini-gadderbaum.de/veranstaltung/kirchcafe-7/2026-06-28/
LOCATION:Stephanuskirche\, Pellaweg 4
END:VEVENT
BEGIN:VEVENT
DTSTART;TZID=Europe/Berlin:20260705T113000
DTEND;TZID=Europe/Berlin:20260705T123000
DTSTAMP:20260421T120740
CREATED:20251226T085821Z
LAST-MODIFIED:20251226T090012Z
UID:10002167-1783251000-1783254600@www.martini-gadderbaum.de
SUMMARY:Kirchcafé
DESCRIPTION:
URL:https://www.martini-gadderbaum.de/veranstaltung/kirchcafe-7/2026-07-05/
LOCATION:Stephanuskirche\, Pellaweg 4
END:VEVENT
BEGIN:VEVENT
DTSTART;TZID=Europe/Berlin:20260712T113000
DTEND;TZID=Europe/Berlin:20260712T123000
DTSTAMP:20260421T120740
CREATED:20251226T085821Z
LAST-MODIFIED:20251226T090012Z
UID:10002168-1783855800-1783859400@www.martini-gadderbaum.de
SUMMARY:Kirchcafé
DESCRIPTION:
URL:https://www.martini-gadderbaum.de/veranstaltung/kirchcafe-7/2026-07-12/
LOCATION:Stephanuskirche\, Pellaweg 4
END:VEVENT
BEGIN:VEVENT
DTSTART;TZID=Europe/Berlin:20260719T113000
DTEND;TZID=Europe/Berlin:20260719T123000
DTSTAMP:20260421T120740
CREATED:20251226T085821Z
LAST-MODIFIED:20251226T090012Z
UID:10002169-1784460600-1784464200@www.martini-gadderbaum.de
SUMMARY:Kirchcafé
DESCRIPTION:
URL:https://www.martini-gadderbaum.de/veranstaltung/kirchcafe-7/2026-07-19/
LOCATION:Stephanuskirche\, Pellaweg 4
END:VEVENT
BEGIN:VEVENT
DTSTART;TZID=Europe/Berlin:20260726T113000
DTEND;TZID=Europe/Berlin:20260726T123000
DTSTAMP:20260421T120740
CREATED:20251226T085821Z
LAST-MODIFIED:20251226T090012Z
UID:10002170-1785065400-1785069000@www.martini-gadderbaum.de
SUMMARY:Kirchcafé
DESCRIPTION:
URL:https://www.martini-gadderbaum.de/veranstaltung/kirchcafe-7/2026-07-26/
LOCATION:Stephanuskirche\, Pellaweg 4
END:VEVENT
BEGIN:VEVENT
DTSTART;TZID=Europe/Berlin:20260802T113000
DTEND;TZID=Europe/Berlin:20260802T123000
DTSTAMP:20260421T120740
CREATED:20251226T085821Z
LAST-MODIFIED:20251226T090012Z
UID:10002171-1785670200-1785673800@www.martini-gadderbaum.de
SUMMARY:Kirchcafé
DESCRIPTION:
URL:https://www.martini-gadderbaum.de/veranstaltung/kirchcafe-7/2026-08-02/
LOCATION:Stephanuskirche\, Pellaweg 4
END:VEVENT
BEGIN:VEVENT
DTSTART;TZID=Europe/Berlin:20260809T113000
DTEND;TZID=Europe/Berlin:20260809T123000
DTSTAMP:20260421T120740
CREATED:20251226T085821Z
LAST-MODIFIED:20251226T090012Z
UID:10002172-1786275000-1786278600@www.martini-gadderbaum.de
SUMMARY:Kirchcafé
DESCRIPTION:
URL:https://www.martini-gadderbaum.de/veranstaltung/kirchcafe-7/2026-08-09/
LOCATION:Stephanuskirche\, Pellaweg 4
END:VEVENT
BEGIN:VEVENT
DTSTART;TZID=Europe/Berlin:20260816T113000
DTEND;TZID=Europe/Berlin:20260816T123000
DTSTAMP:20260421T120740
CREATED:20251226T085821Z
LAST-MODIFIED:20251226T090012Z
UID:10002173-1786879800-1786883400@www.martini-gadderbaum.de
SUMMARY:Kirchcafé
DESCRIPTION:
URL:https://www.martini-gadderbaum.de/veranstaltung/kirchcafe-7/2026-08-16/
LOCATION:Stephanuskirche\, Pellaweg 4
END:VEVENT
BEGIN:VEVENT
DTSTART;TZID=Europe/Berlin:20260823T113000
DTEND;TZID=Europe/Berlin:20260823T123000
DTSTAMP:20260421T120740
CREATED:20251226T085821Z
LAST-MODIFIED:20251226T090012Z
UID:10002174-1787484600-1787488200@www.martini-gadderbaum.de
SUMMARY:Kirchcafé
DESCRIPTION:
URL:https://www.martini-gadderbaum.de/veranstaltung/kirchcafe-7/2026-08-23/
LOCATION:Stephanuskirche\, Pellaweg 4
END:VEVENT
BEGIN:VEVENT
DTSTART;TZID=Europe/Berlin:20260830T113000
DTEND;TZID=Europe/Berlin:20260830T123000
DTSTAMP:20260421T120740
CREATED:20251226T085821Z
LAST-MODIFIED:20251226T090012Z
UID:10002175-1788089400-1788093000@www.martini-gadderbaum.de
SUMMARY:Kirchcafé
DESCRIPTION:
URL:https://www.martini-gadderbaum.de/veranstaltung/kirchcafe-7/2026-08-30/
LOCATION:Stephanuskirche\, Pellaweg 4
END:VEVENT
BEGIN:VEVENT
DTSTART;TZID=Europe/Berlin:20260906T113000
DTEND;TZID=Europe/Berlin:20260906T123000
DTSTAMP:20260421T120740
CREATED:20251226T085821Z
LAST-MODIFIED:20251226T090012Z
UID:10002176-1788694200-1788697800@www.martini-gadderbaum.de
SUMMARY:Kirchcafé
DESCRIPTION:
URL:https://www.martini-gadderbaum.de/veranstaltung/kirchcafe-7/2026-09-06/
LOCATION:Stephanuskirche\, Pellaweg 4
END:VEVENT
BEGIN:VEVENT
DTSTART;TZID=Europe/Berlin:20260913T113000
DTEND;TZID=Europe/Berlin:20260913T123000
DTSTAMP:20260421T120740
CREATED:20251226T085821Z
LAST-MODIFIED:20251226T090012Z
UID:10002177-1789299000-1789302600@www.martini-gadderbaum.de
SUMMARY:Kirchcafé
DESCRIPTION:
URL:https://www.martini-gadderbaum.de/veranstaltung/kirchcafe-7/2026-09-13/
LOCATION:Stephanuskirche\, Pellaweg 4
END:VEVENT
BEGIN:VEVENT
DTSTART;TZID=Europe/Berlin:20260920T113000
DTEND;TZID=Europe/Berlin:20260920T123000
DTSTAMP:20260421T120740
CREATED:20251226T085821Z
LAST-MODIFIED:20251226T090012Z
UID:10002178-1789903800-1789907400@www.martini-gadderbaum.de
SUMMARY:Kirchcafé
DESCRIPTION:
URL:https://www.martini-gadderbaum.de/veranstaltung/kirchcafe-7/2026-09-20/
LOCATION:Stephanuskirche\, Pellaweg 4
END:VEVENT
BEGIN:VEVENT
DTSTART;TZID=Europe/Berlin:20260927T113000
DTEND;TZID=Europe/Berlin:20260927T123000
DTSTAMP:20260421T120740
CREATED:20251226T085821Z
LAST-MODIFIED:20251226T090012Z
UID:10002179-1790508600-1790512200@www.martini-gadderbaum.de
SUMMARY:Kirchcafé
DESCRIPTION:
URL:https://www.martini-gadderbaum.de/veranstaltung/kirchcafe-7/2026-09-27/
LOCATION:Stephanuskirche\, Pellaweg 4
END:VEVENT
BEGIN:VEVENT
DTSTART;TZID=Europe/Berlin:20261004T113000
DTEND;TZID=Europe/Berlin:20261004T123000
DTSTAMP:20260421T120740
CREATED:20251226T085821Z
LAST-MODIFIED:20251226T090012Z
UID:10002180-1791113400-1791117000@www.martini-gadderbaum.de
SUMMARY:Kirchcafé
DESCRIPTION:
URL:https://www.martini-gadderbaum.de/veranstaltung/kirchcafe-7/2026-10-04/
LOCATION:Stephanuskirche\, Pellaweg 4
END:VEVENT
BEGIN:VEVENT
DTSTART;TZID=Europe/Berlin:20261011T113000
DTEND;TZID=Europe/Berlin:20261011T123000
DTSTAMP:20260421T120740
CREATED:20251226T085821Z
LAST-MODIFIED:20251226T090012Z
UID:10002181-1791718200-1791721800@www.martini-gadderbaum.de
SUMMARY:Kirchcafé
DESCRIPTION:
URL:https://www.martini-gadderbaum.de/veranstaltung/kirchcafe-7/2026-10-11/
LOCATION:Stephanuskirche\, Pellaweg 4
END:VEVENT
BEGIN:VEVENT
DTSTART;TZID=Europe/Berlin:20261018T113000
DTEND;TZID=Europe/Berlin:20261018T123000
DTSTAMP:20260421T120740
CREATED:20251226T085821Z
LAST-MODIFIED:20251226T090012Z
UID:10002182-1792323000-1792326600@www.martini-gadderbaum.de
SUMMARY:Kirchcafé
DESCRIPTION:
URL:https://www.martini-gadderbaum.de/veranstaltung/kirchcafe-7/2026-10-18/
LOCATION:Stephanuskirche\, Pellaweg 4
END:VEVENT
BEGIN:VEVENT
DTSTART;TZID=Europe/Berlin:20261025T113000
DTEND;TZID=Europe/Berlin:20261025T123000
DTSTAMP:20260421T120740
CREATED:20251226T085821Z
LAST-MODIFIED:20251226T090012Z
UID:10002183-1792927800-1792931400@www.martini-gadderbaum.de
SUMMARY:Kirchcafé
DESCRIPTION:
URL:https://www.martini-gadderbaum.de/veranstaltung/kirchcafe-7/2026-10-25/
LOCATION:Stephanuskirche\, Pellaweg 4
END:VEVENT
BEGIN:VEVENT
DTSTART;TZID=Europe/Berlin:20261101T113000
DTEND;TZID=Europe/Berlin:20261101T123000
DTSTAMP:20260421T120740
CREATED:20251226T085821Z
LAST-MODIFIED:20251226T090012Z
UID:10002184-1793532600-1793536200@www.martini-gadderbaum.de
SUMMARY:Kirchcafé
DESCRIPTION:
URL:https://www.martini-gadderbaum.de/veranstaltung/kirchcafe-7/2026-11-01/
LOCATION:Stephanuskirche\, Pellaweg 4
END:VEVENT
BEGIN:VEVENT
DTSTART;TZID=Europe/Berlin:20261108T113000
DTEND;TZID=Europe/Berlin:20261108T123000
DTSTAMP:20260421T120740
CREATED:20251226T085821Z
LAST-MODIFIED:20251226T090012Z
UID:10002185-1794137400-1794141000@www.martini-gadderbaum.de
SUMMARY:Kirchcafé
DESCRIPTION:
URL:https://www.martini-gadderbaum.de/veranstaltung/kirchcafe-7/2026-11-08/
LOCATION:Stephanuskirche\, Pellaweg 4
END:VEVENT
BEGIN:VEVENT
DTSTART;TZID=Europe/Berlin:20261115T113000
DTEND;TZID=Europe/Berlin:20261115T123000
DTSTAMP:20260421T120740
CREATED:20251226T085821Z
LAST-MODIFIED:20251226T090012Z
UID:10002186-1794742200-1794745800@www.martini-gadderbaum.de
SUMMARY:Kirchcafé
DESCRIPTION:
URL:https://www.martini-gadderbaum.de/veranstaltung/kirchcafe-7/2026-11-15/
LOCATION:Stephanuskirche\, Pellaweg 4
END:VEVENT
END:VCALENDAR